From mboxrd@z Thu Jan  1 00:00:00 1970
Return-Path: <test-report-bounces@dpdk.org>
Received: from mails.dpdk.org (mails.dpdk.org [217.70.189.124])
	by inbox.dpdk.org (Postfix) with ESMTP id 020844415D
	for <public@inbox.dpdk.org>; Wed,  5 Jun 2024 12:34:47 +0200 (CEST)
Received: from mails.dpdk.org (localhost [127.0.0.1])
	by mails.dpdk.org (Postfix) with ESMTP id F1A424067B;
	Wed,  5 Jun 2024 12:34:46 +0200 (CEST)
Received: from mail-ua1-f99.google.com (mail-ua1-f99.google.com
 [209.85.222.99]) by mails.dpdk.org (Postfix) with ESMTP id 0D28B40289
 for <test-report@dpdk.org>; Wed,  5 Jun 2024 12:34:45 +0200 (CEST)
Received: by mail-ua1-f99.google.com with SMTP id
 a1e0cc1a2514c-80aca0fbcffso617899241.1
 for <test-report@dpdk.org>; Wed, 05 Jun 2024 03:34:44 -0700 (PDT)
DKIM-Signature: v=1; a=rsa-sha256; c=relaxed/relaxed;
 d=iol.unh.edu; s=unh-iol; t=1717583684; x=1718188484; darn=dpdk.org;
 h=references:in-reply-to:cc:to:from:subject:message-id:date:from:to
 :cc:subject:date:message-id:reply-to;
 bh=/gpVQ11jA8PwYIRwllPa+IwLLxRxohvcUwN64gTstsg=;
 b=HdyPwOe7+2qukMk/zt06BdI9all7hHxUBoKx0wsLIUOOePfPq7Ig7vXNXOnyCAKNF0
 FsyQoZlhPLu7eOEcsBRCyMSFJdCWxGKl1Fq3LUnuMeamZmQ2cElve1eNWXNuZmaorVUW
 cUCN8Kx+dYIJgMKH13zF838Towc8sDVJSMAew=
X-Google-DKIM-Signature: v=1; a=rsa-sha256; c=relaxed/relaxed;
 d=1e100.net; s=20230601; t=1717583684; x=1718188484;
 h=references:in-reply-to:cc:to:from:subject:message-id:date
 :x-gm-message-state:from:to:cc:subject:date:message-id:reply-to;
 bh=/gpVQ11jA8PwYIRwllPa+IwLLxRxohvcUwN64gTstsg=;
 b=d48/T/dIr42VpExKRn/iOWr/cK97GL7psdmLw9eU5kmjhe26ygy74fCpu/7VXL1Ofz
 KhswvUuOAV2oFZM9/IcAj+MEEVnjw5ESjgX4WPPD6IL294tw8/fQg09p2N6elQtzYgaM
 7sOdiiMkBtNZAbAnhLFlkCi0EqTr1dqHB/hBvWdSYeVPnMnSKH44ckLjdAn/2+J6AUg9
 2ybcOlUgfdT/SW9bjiHHaO79LQ5FDRV0wPCiR63ujQakurvcKtVjhOEaydWVybgLNwP6
 avD/xX53ucIQ3TKPQd0JexQcLU/Vbz0x3mZCHG/vdkrmP2vzSODbWWwYpux5DjEA7tfw
 arhw==
X-Gm-Message-State: AOJu0YzkNQi9/zyHLv9n7TzVOVNKrt5yR1WOutUJX2+A67WgO5EmzGGS
 6hDAiqt18nzD5+rhRUg9ZayAnFeXCpNUK+9G8ZUE6QdvPQEqHtRjBDyVBZe8Q6BiV0q6Njkzivm
 8VPJk5XbSm3+3vZGmeSXN+h9PUSHKaQBpJCFIFZJV
X-Google-Smtp-Source: AGHT+IFuKNFl3ethJ/JMolexZGLOOKvgU67bLJhSOSJXdttrl1nOgUEE0xtVSvpv9Jr9db2Y5+kZg+8s6ChL
X-Received: by 2002:a05:6102:f10:b0:48a:5adf:f5ea with SMTP id
 ada2fe7eead31-48c0481780dmr2584807137.3.1717583684341; 
 Wed, 05 Jun 2024 03:34:44 -0700 (PDT)
Received: from postal.iol.unh.edu (postal.iol.unh.edu. [132.177.123.84])
 by smtp-relay.gmail.com with ESMTPS id
 a1e0cc1a2514c-80adf108062sm395435241.2.2024.06.05.03.34.44
 (version=TLS1_2 cipher=ECDHE-ECDSA-AES128-GCM-SHA256 bits=128/128);
 Wed, 05 Jun 2024 03:34:44 -0700 (PDT)
X-Relaying-Domain: iol.unh.edu
Date: Wed, 05 Jun 2024 03:34:44 -0700 (PDT)
Message-ID: <66603f44.050a0220.135d31.dc22SMTPIN_ADDED_MISSING@mx.google.com>
Received: from [172.21.0.8] (unknown [172.18.0.240])
 by postal.iol.unh.edu (Postfix) with ESMTP id E99F6605C373;
 Wed,  5 Jun 2024 06:34:43 -0400 (EDT)
Subject: |SUCCESS| pw140738-140739 [PATCH] [5/5] eal: provide option to use c
From: dpdklab@iol.unh.edu
To: Test Report <test-report@dpdk.org>
Cc: dpdk-test-reports@iol.unh.edu
In-Reply-To: <20240605064945.369310-6-mattias.ronnblom@ericsson.com>
References: <20240605064945.369310-6-mattias.ronnblom@ericsson.com>
Content-Type: text/plain
X-BeenThere: test-report@dpdk.org
X-Mailman-Version: 2.1.29
Precedence: list
List-Id: automatic DPDK test reports <test-report.dpdk.org>
List-Unsubscribe: <https://mails.dpdk.org/options/test-report>,
 <mailto:test-report-request@dpdk.org?subject=unsubscribe>
List-Archive: <http://mails.dpdk.org/archives/test-report/>
List-Post: <mailto:test-report@dpdk.org>
List-Help: <mailto:test-report-request@dpdk.org?subject=help>
List-Subscribe: <https://mails.dpdk.org/listinfo/test-report>,
 <mailto:test-report-request@dpdk.org?subject=subscribe>
Errors-To: test-report-bounces@dpdk.org

Test-Label: iol-unit-arm64-testing
Test-Status: SUCCESS
http://dpdk.org/patch/140739

_Testing PASS_

Submitter: Mattias Ronnblom <mattias.ronnblom@ericsson.com>
Date: Wednesday, June 05 2024 06:49:45 
DPDK git baseline: Repo:dpdk
  Branch: master
  CommitID:76cef1af8bdaeaf67a5c4ca5df3f221df994dc46

140738-140739 --> testing pass

Test environment and result as below:

+-----------------------------+------------------------------+---------------------------+----------------+--------------+
|         Environment         | cryptodev_sw_snow3g_autotest | cryptodev_sw_zuc_autotest | dpdk_unit_test | lpm_autotest |
+=============================+==============================+===========================+================+==============+
| Debian 12 (arm)             | PASS                         | PASS                      | PASS           | SKIPPED      |
+-----------------------------+------------------------------+---------------------------+----------------+--------------+
| CentOS Stream 9 (ARM)       | SKIPPED                      | SKIPPED                   | PASS           | SKIPPED      |
+-----------------------------+------------------------------+---------------------------+----------------+--------------+
| 32-bit Ubuntu 20.04.4 (ARM) | SKIPPED                      | SKIPPED                   | PASS           | SKIPPED      |
+-----------------------------+------------------------------+---------------------------+----------------+--------------+
| Debian 11 (Buster) (ARM)    | SKIPPED                      | SKIPPED                   | PASS           | SKIPPED      |
+-----------------------------+------------------------------+---------------------------+----------------+--------------+
| Fedora 38 (ARM Clang)       | SKIPPED                      | SKIPPED                   | PASS           | SKIPPED      |
+-----------------------------+------------------------------+---------------------------+----------------+--------------+
| Ubuntu 20.04 ARM SVE        | SKIPPED                      | SKIPPED                   | SKIPPED        | PASS         |
+-----------------------------+------------------------------+---------------------------+----------------+--------------+


Debian 12 (arm)
	Kernel: Container Host Kernel
	Compiler: gcc 12.2.0

CentOS Stream 9 (ARM)
	Kernel: Container Host Kernel
	Compiler: gcc 11.4.1

32-bit Ubuntu 20.04.4 (ARM)
	Kernel: 5.4.0-155-generic aarch64
	Compiler: gcc 9.4

Debian 11 (Buster) (ARM)
	Kernel: Container Host Kernel
	Compiler: gcc 10.2.1

Fedora 38 (ARM Clang)
	Kernel: Depends on container host
	Compiler: clang 16.0.6

Ubuntu 20.04 ARM SVE
	Kernel: 5.4.0-167-generic
	Compiler: gcc (Ubuntu 10.5.0-1ubuntu1~20.04) 10.5.0

To view detailed results, visit:
https://lab.dpdk.org/results/dashboard/patchsets/30107/

UNH-IOL DPDK Community Lab

To manage your email subscriptions, visit: 
https://lab.dpdk.org/results/dashboard/preferences/subscriptions/