From mboxrd@z Thu Jan  1 00:00:00 1970
Return-Path: <test-report-bounces@dpdk.org>
Received: from mails.dpdk.org (mails.dpdk.org [217.70.189.124])
	by inbox.dpdk.org (Postfix) with ESMTP id 5BD334415D
	for <public@inbox.dpdk.org>; Wed,  5 Jun 2024 12:55:47 +0200 (CEST)
Received: from mails.dpdk.org (localhost [127.0.0.1])
	by mails.dpdk.org (Postfix) with ESMTP id 51ED04067B;
	Wed,  5 Jun 2024 12:55:47 +0200 (CEST)
Received: from mail-yw1-f226.google.com (mail-yw1-f226.google.com
 [209.85.128.226])
 by mails.dpdk.org (Postfix) with ESMTP id 4478C40289
 for <test-report@dpdk.org>; Wed,  5 Jun 2024 12:55:45 +0200 (CEST)
Received: by mail-yw1-f226.google.com with SMTP id
 00721157ae682-62a0c011d53so66028557b3.0
 for <test-report@dpdk.org>; Wed, 05 Jun 2024 03:55:45 -0700 (PDT)
DKIM-Signature: v=1; a=rsa-sha256; c=relaxed/relaxed;
 d=iol.unh.edu; s=unh-iol; t=1717584944; x=1718189744; darn=dpdk.org;
 h=references:in-reply-to:cc:to:from:subject:message-id:date:from:to
 :cc:subject:date:message-id:reply-to;
 bh=ydpLamTLrPiUtqcn7ADhTRsY3qp6l2Lqmu/1vGBjGY4=;
 b=Jall1+13uWOMLzz6K3iK9U8em1U1+cw13E2AWrrCo2qjDxHM0Cs/RLpFD+qwibhHRE
 3D6rkgEiBoZdNvIig3/ZqFi9Omv19KENd2jx38t9jHNA8qvQbBlskbP54AHFXN0bKj9j
 vFveXn4DdA96X9f/zB2PRo3AwqgKu1W2twmhc=
X-Google-DKIM-Signature: v=1; a=rsa-sha256; c=relaxed/relaxed;
 d=1e100.net; s=20230601; t=1717584944; x=1718189744;
 h=references:in-reply-to:cc:to:from:subject:message-id:date
 :x-gm-message-state:from:to:cc:subject:date:message-id:reply-to;
 bh=ydpLamTLrPiUtqcn7ADhTRsY3qp6l2Lqmu/1vGBjGY4=;
 b=hs3UyxN7aIfPV0vzDlywA1iKkZB/39ZMxtFyRyc6XEurACNygAwqgYJ25nGY5kTFF4
 LMtOYAzn1K2KRROVXIFOB21yuIiJ+1R/RXwn1L+zRiQySDmF6yDIi70NVlND4IbL21mW
 Mj7nSj8ITNqMhEwjbXQXmmaWLs6MbC4KU5vs2PuZO9xJhYfetLdXSkCL/NIK1O2xLmI2
 dfbJFO5bo0wkzSFDIthJ+Wtt/dB75F5hW/OogPya8WbJLtOFYDLBH2p7cpfLom0IA+ep
 uZ6ROIOf0p5uqKzoJ/5PurVgcEDIsOHZpAjhFx7Do69MK2C1STbg5QG/uMMoqsgUUvtL
 i9Gg==
X-Gm-Message-State: AOJu0YxGJqDd+Ej4HYXCR97Wa82bYUUjMAbFWDSWfQ1OHnqYY9FPYx6j
 dxdXo1lvoW7YvRW8qg/dHh6H9R9u2c+bR84xx+up07mU45dWa/ByJ+rw+Oxpdnesq9t7U53iB/O
 SVwzE8yKL7QU9Qr8Q8DK7HryZO/RWdVmuxmWi0G8+
X-Google-Smtp-Source: AGHT+IHWMCWmUzlVHiNwHzKJ28bi76DskfvRkmm2z5sT5BmqaGL7/gPVchTD/oJcN8dUD2i1Mam4lRzm34uM
X-Received: by 2002:a81:80c1:0:b0:627:e281:6763 with SMTP id
 00721157ae682-62cbb4d4156mr22424867b3.14.1717584944645; 
 Wed, 05 Jun 2024 03:55:44 -0700 (PDT)
Received: from postal.iol.unh.edu (postal.iol.unh.edu. [132.177.123.84])
 by smtp-relay.gmail.com with ESMTPS id
 00721157ae682-62c7661fc72sm4431827b3.21.2024.06.05.03.55.44
 (version=TLS1_2 cipher=ECDHE-ECDSA-AES128-GCM-SHA256 bits=128/128);
 Wed, 05 Jun 2024 03:55:44 -0700 (PDT)
X-Relaying-Domain: iol.unh.edu
Date: Wed, 05 Jun 2024 03:55:44 -0700 (PDT)
Message-ID: <66604430.050a0220.99be1.5090SMTPIN_ADDED_MISSING@mx.google.com>
Received: from [172.21.0.6] (unknown [172.18.0.240])
 by postal.iol.unh.edu (Postfix) with ESMTP id 45196605C373;
 Wed,  5 Jun 2024 06:55:44 -0400 (EDT)
Subject: |SUCCESS| pw140738-140739 [PATCH] [5/5] eal: provide option to use c
From: dpdklab@iol.unh.edu
To: Test Report <test-report@dpdk.org>
Cc: dpdk-test-reports@iol.unh.edu
In-Reply-To: <20240605064945.369310-6-mattias.ronnblom@ericsson.com>
References: <20240605064945.369310-6-mattias.ronnblom@ericsson.com>
Content-Type: text/plain
X-BeenThere: test-report@dpdk.org
X-Mailman-Version: 2.1.29
Precedence: list
List-Id: automatic DPDK test reports <test-report.dpdk.org>
List-Unsubscribe: <https://mails.dpdk.org/options/test-report>,
 <mailto:test-report-request@dpdk.org?subject=unsubscribe>
List-Archive: <http://mails.dpdk.org/archives/test-report/>
List-Post: <mailto:test-report@dpdk.org>
List-Help: <mailto:test-report-request@dpdk.org?subject=help>
List-Subscribe: <https://mails.dpdk.org/listinfo/test-report>,
 <mailto:test-report-request@dpdk.org?subject=subscribe>
Errors-To: test-report-bounces@dpdk.org

Test-Label: iol-compile-arm64-testing
Test-Status: SUCCESS
http://dpdk.org/patch/140739

_Testing PASS_

Submitter: Mattias Ronnblom <mattias.ronnblom@ericsson.com>
Date: Wednesday, June 05 2024 06:49:45 
DPDK git baseline: Repo:dpdk
  Branch: master
  CommitID:76cef1af8bdaeaf67a5c4ca5df3f221df994dc46

140738-140739 --> testing pass

Test environment and result as below:

+----------------------------------------+--------------------+
|              Environment               | dpdk_meson_compile |
+========================================+====================+
| Ubuntu 20.04 ARM SVE                   | PASS               |
+----------------------------------------+--------------------+
| Debian 12 with MUSDK                   | PASS               |
+----------------------------------------+--------------------+
| Ubuntu 22.04 (ARM)                     | PASS               |
+----------------------------------------+--------------------+
| Ubuntu 20.04 aarch32 GCC Cross Compile | PASS               |
+----------------------------------------+--------------------+
| Ubuntu 20.04 ARM Clang Cross Compile   | PASS               |
+----------------------------------------+--------------------+
| Fedora 39 (ARM Clang)                  | PASS               |
+----------------------------------------+--------------------+
| Fedora 38 (ARM Clang)                  | PASS               |
+----------------------------------------+--------------------+
| Ubuntu 20.04 (ARM)                     | PASS               |
+----------------------------------------+--------------------+


Ubuntu 20.04 ARM SVE
	Kernel: 5.4.0-167-generic
	Compiler: gcc (Ubuntu 10.5.0-1ubuntu1~20.04) 10.5.0

Debian 12 with MUSDK
	Kernel: Container Host Kernel
	Compiler: gcc 12.2.0

Ubuntu 22.04 (ARM)
	Kernel: Container Host Kernel
	Compiler: gcc 11.4.0

Ubuntu 20.04 aarch32 GCC Cross Compile
	Kernel: 5.4.0-167-generic
	Compiler: gcc 9.4.0

Ubuntu 20.04 ARM Clang Cross Compile
	Kernel: 5.4.0-72-generic
	Compiler: clang 10.0.0-4ubuntu1

Fedora 39 (ARM Clang)
	Kernel: Depends on container host
	Compiler: clang 17.0.6

Fedora 38 (ARM Clang)
	Kernel: Depends on container host
	Compiler: clang 16.0.6

Ubuntu 20.04 (ARM)
	Kernel: Container Host Kernel
	Compiler: gcc 9.4.0

To view detailed results, visit:
https://lab.dpdk.org/results/dashboard/patchsets/30107/

UNH-IOL DPDK Community Lab

To manage your email subscriptions, visit: 
https://lab.dpdk.org/results/dashboard/preferences/subscriptions/