From mboxrd@z Thu Jan  1 00:00:00 1970
Return-Path: <test-report-bounces@dpdk.org>
Received: from mails.dpdk.org (mails.dpdk.org [217.70.189.124])
	by inbox.dpdk.org (Postfix) with ESMTP id 6F9BF4415D
	for <public@inbox.dpdk.org>; Wed,  5 Jun 2024 13:31:19 +0200 (CEST)
Received: from mails.dpdk.org (localhost [127.0.0.1])
	by mails.dpdk.org (Postfix) with ESMTP id 6AEC7402DC;
	Wed,  5 Jun 2024 13:31:19 +0200 (CEST)
Received: from mail-yw1-f226.google.com (mail-yw1-f226.google.com
 [209.85.128.226])
 by mails.dpdk.org (Postfix) with ESMTP id F142B40289
 for <test-report@dpdk.org>; Wed,  5 Jun 2024 13:31:17 +0200 (CEST)
Received: by mail-yw1-f226.google.com with SMTP id
 00721157ae682-627ea4e0becso62303027b3.0
 for <test-report@dpdk.org>; Wed, 05 Jun 2024 04:31:17 -0700 (PDT)
DKIM-Signature: v=1; a=rsa-sha256; c=relaxed/relaxed;
 d=iol.unh.edu; s=unh-iol; t=1717587077; x=1718191877; darn=dpdk.org;
 h=references:in-reply-to:cc:to:from:subject:message-id:date:from:to
 :cc:subject:date:message-id:reply-to;
 bh=AeFXWChjnUL5NK7mk+gZrsvWDCTBRb5MvnWVI4NYgmQ=;
 b=RJa2CZwemr600hgAtU3Uot/ic2+Xn8S7sVR6QyelCBMzUOc5gPyoIyaXra75p7nCfG
 OdTgMgNqSlDOdkElqBBc+NhGoSzcXNOVL38/XmOeMDV/7U4hyAh3Dh7wcm1zs/X7unLn
 gyDm3rxMv7b6JlQc/vUSc4/5eJH0Cw2ZE4ZdQ=
X-Google-DKIM-Signature: v=1; a=rsa-sha256; c=relaxed/relaxed;
 d=1e100.net; s=20230601; t=1717587077; x=1718191877;
 h=references:in-reply-to:cc:to:from:subject:message-id:date
 :x-gm-message-state:from:to:cc:subject:date:message-id:reply-to;
 bh=AeFXWChjnUL5NK7mk+gZrsvWDCTBRb5MvnWVI4NYgmQ=;
 b=d1vBkHhTYFxQCXLC5FOd/Ylj2zlJ+vnqgrr/XVKZ4xo2rAMC9m7led45NY653+aJXO
 j6DmHKc5visRTyUWTxlVWkAfla1oQN5ONPJHW4THHaxJ/ajzYoavx+soIZHpBJpO+LaC
 G8imM+JSRlJp8XpiCAs8BQqevtisoo+RYIQzbQB4kQOEGVOO+QDVh+8hf5jlt5ndZxIi
 WAYfp5t68+ZbsWfnQ+bW8nRcgYRnTLrq2qiFgMDiX5muRlifsuKaYV8eYfrOlf8/yFnS
 wQH1MTbqQN8RsuxjUobytEkP5YK+THRIktfias9lGQpOA8hiqf2OJBpgJRGqdAFRfzEX
 oG7g==
X-Gm-Message-State: AOJu0YxYu/AUJtwzVLdlWUfC/yGHOmQwVOkk0pcHG3k/U8S769F4nB99
 p50h14i+5qMkeK3QAQFoqDzhRhxl+eZF4MjkLVJiB44LW9rAUDb2sn0PQEfvBVNAa+hY5FltZzY
 jovIPKovsnoy7ZLSzonrsQDHtuX9+TWiXegxKF+7W
X-Google-Smtp-Source: AGHT+IFnVH3XC1JeC4xVv2B0KTr1zCYszHaI8H6s8KdOUyLJ+jVeQ7mdAth8BzU7ux+CyYwROGYxmZT3daU2
X-Received: by 2002:a81:f10f:0:b0:618:e5c:f7a with SMTP id
 00721157ae682-62cbb5e9e1dmr20042647b3.33.1717587077348; 
 Wed, 05 Jun 2024 04:31:17 -0700 (PDT)
Received: from postal.iol.unh.edu (postal.iol.unh.edu. [132.177.123.84])
 by smtp-relay.gmail.com with ESMTPS id
 00721157ae682-62c7651deecsm4512407b3.0.2024.06.05.04.31.17
 (version=TLS1_2 cipher=ECDHE-ECDSA-AES128-GCM-SHA256 bits=128/128);
 Wed, 05 Jun 2024 04:31:17 -0700 (PDT)
X-Relaying-Domain: iol.unh.edu
Date: Wed, 05 Jun 2024 04:31:17 -0700 (PDT)
Message-ID: <66604c85.050a0220.96629.3ccbSMTPIN_ADDED_MISSING@mx.google.com>
Received: from [172.21.0.12] (unknown [172.18.0.240])
 by postal.iol.unh.edu (Postfix) with ESMTP id F2C56605C373;
 Wed,  5 Jun 2024 07:31:16 -0400 (EDT)
Subject: |SUCCESS| pw140738-140739 [PATCH] [5/5] eal: provide option to use c
From: dpdklab@iol.unh.edu
To: Test Report <test-report@dpdk.org>
Cc: dpdk-test-reports@iol.unh.edu
In-Reply-To: <20240605064945.369310-6-mattias.ronnblom@ericsson.com>
References: <20240605064945.369310-6-mattias.ronnblom@ericsson.com>
Content-Type: text/plain
X-BeenThere: test-report@dpdk.org
X-Mailman-Version: 2.1.29
Precedence: list
List-Id: automatic DPDK test reports <test-report.dpdk.org>
List-Unsubscribe: <https://mails.dpdk.org/options/test-report>,
 <mailto:test-report-request@dpdk.org?subject=unsubscribe>
List-Archive: <http://mails.dpdk.org/archives/test-report/>
List-Post: <mailto:test-report@dpdk.org>
List-Help: <mailto:test-report-request@dpdk.org?subject=help>
List-Subscribe: <https://mails.dpdk.org/listinfo/test-report>,
 <mailto:test-report-request@dpdk.org?subject=subscribe>
Errors-To: test-report-bounces@dpdk.org

Test-Label: iol-compile-arm64-testing
Test-Status: SUCCESS
http://dpdk.org/patch/140739

_Testing PASS_

Submitter: Mattias Ronnblom <mattias.ronnblom@ericsson.com>
Date: Wednesday, June 05 2024 06:49:45 
DPDK git baseline: Repo:dpdk
  Branch: master
  CommitID:76cef1af8bdaeaf67a5c4ca5df3f221df994dc46

140738-140739 --> testing pass

Test environment and result as below:

+----------------------------------------+--------------------+
|              Environment               | dpdk_meson_compile |
+========================================+====================+
| Ubuntu 20.04 ARM SVE                   | PASS               |
+----------------------------------------+--------------------+
| Debian 12 with MUSDK                   | PASS               |
+----------------------------------------+--------------------+
| Ubuntu 22.04 (ARM)                     | PASS               |
+----------------------------------------+--------------------+
| Ubuntu 20.04 aarch32 GCC Cross Compile | PASS               |
+----------------------------------------+--------------------+
| Ubuntu 20.04 ARM Clang Cross Compile   | PASS               |
+----------------------------------------+--------------------+
| Fedora 39 (ARM Clang)                  | PASS               |
+----------------------------------------+--------------------+
| Fedora 38 (ARM Clang)                  | PASS               |
+----------------------------------------+--------------------+
| Ubuntu 20.04 (ARM)                     | PASS               |
+----------------------------------------+--------------------+
| Fedora 37 (ARM)                        | PASS               |
+----------------------------------------+--------------------+
| Ubuntu 24.04 (ARM)                     | PASS               |
+----------------------------------------+--------------------+
| Ubuntu 20.04 ARM GCC Cross Compile     | PASS               |
+----------------------------------------+--------------------+


Ubuntu 20.04 ARM SVE
	Kernel: 5.4.0-167-generic
	Compiler: gcc (Ubuntu 10.5.0-1ubuntu1~20.04) 10.5.0

Debian 12 with MUSDK
	Kernel: Container Host Kernel
	Compiler: gcc 12.2.0

Ubuntu 22.04 (ARM)
	Kernel: Container Host Kernel
	Compiler: gcc 11.4.0

Ubuntu 20.04 aarch32 GCC Cross Compile
	Kernel: 5.4.0-167-generic
	Compiler: gcc 9.4.0

Ubuntu 20.04 ARM Clang Cross Compile
	Kernel: 5.4.0-72-generic
	Compiler: clang 10.0.0-4ubuntu1

Fedora 39 (ARM Clang)
	Kernel: Depends on container host
	Compiler: clang 17.0.6

Fedora 38 (ARM Clang)
	Kernel: Depends on container host
	Compiler: clang 16.0.6

Ubuntu 20.04 (ARM)
	Kernel: Container Host Kernel
	Compiler: gcc 9.4.0

Fedora 37 (ARM)
	Kernel: Depends on container host
	Compiler: gcc 12.3.1

Ubuntu 24.04 (ARM)
	Kernel: 5.4.0-167-generic
	Compiler: gcc 13.2.0

Ubuntu 20.04 ARM GCC Cross Compile
	Kernel: 5.4.0-167-generic
	Compiler: aarch64-linux-gnu-gcc (Ubuntu 9.4.0-1ubuntu1~20.04.2) 9.4.0

To view detailed results, visit:
https://lab.dpdk.org/results/dashboard/patchsets/30107/

UNH-IOL DPDK Community Lab

To manage your email subscriptions, visit: 
https://lab.dpdk.org/results/dashboard/preferences/subscriptions/