From mboxrd@z Thu Jan  1 00:00:00 1970
Return-Path: <test-report-bounces@dpdk.org>
Received: from mails.dpdk.org (mails.dpdk.org [217.70.189.124])
	by inbox.dpdk.org (Postfix) with ESMTP id A67B34414C
	for <public@inbox.dpdk.org>; Wed,  5 Jun 2024 15:27:03 +0200 (CEST)
Received: from mails.dpdk.org (localhost [127.0.0.1])
	by mails.dpdk.org (Postfix) with ESMTP id A17B4410E4;
	Wed,  5 Jun 2024 15:27:03 +0200 (CEST)
Received: from mail-io1-f100.google.com (mail-io1-f100.google.com
 [209.85.166.100])
 by mails.dpdk.org (Postfix) with ESMTP id 2AE43410E3
 for <test-report@dpdk.org>; Wed,  5 Jun 2024 15:27:02 +0200 (CEST)
Received: by mail-io1-f100.google.com with SMTP id
 ca18e2360f4ac-7eb3a84d7a9so50147439f.0
 for <test-report@dpdk.org>; Wed, 05 Jun 2024 06:27:02 -0700 (PDT)
DKIM-Signature: v=1; a=rsa-sha256; c=relaxed/relaxed;
 d=iol.unh.edu; s=unh-iol; t=1717594021; x=1718198821; darn=dpdk.org;
 h=references:in-reply-to:cc:to:from:subject:message-id:date:from:to
 :cc:subject:date:message-id:reply-to;
 bh=ZxVnqJBw4bvj0LT2sftpXHS1AEqvoHz0E/2orR8QaK4=;
 b=fxEn62zwdiqO6FP2tmrptv7XH9Ck/ticBZmZsKPlWupjWxhJMs/SeT2rFHnxY7Ke2Z
 qrVMaOEQ/UO5NQSwwtQYgH5bR8qVKNauv0Ba3mX5pndKDe+M5gak+yj3YL6VGD4+xhZm
 P73VkZ0kPSMBvhWFEdm2XBMJg8Lz+PFXofhAk=
X-Google-DKIM-Signature: v=1; a=rsa-sha256; c=relaxed/relaxed;
 d=1e100.net; s=20230601; t=1717594021; x=1718198821;
 h=references:in-reply-to:cc:to:from:subject:message-id:date
 :x-gm-message-state:from:to:cc:subject:date:message-id:reply-to;
 bh=ZxVnqJBw4bvj0LT2sftpXHS1AEqvoHz0E/2orR8QaK4=;
 b=eUu2IR09AlD94b2arTTEh0MkpL/kDrOtwmXyoTyBSdonFqBhDmmOu11ELWmHb7Gis0
 NNngSnqSVgsTe1KR+k/qb1D6PDtSPCA/Ves/A/lw4lfiecFRJqEbZbJFkNUXURIo+zQV
 HWM+xVkjMsp9RjHeFUQf3fElTXurH5geBpCf2sDQdsI6Xlve0wnIeNlmwUbMVfOnk4Om
 PTiUKVodY1uJ8wYoaZ/4isLEbfEmmpZk4nBidbjvsLPgcg1zlp/tMSjaUrccI6ScYuO8
 Yd0wd6CkcIkMUbxq+fub3gjihtkf9X9+AsOkqM6f6UFmTG9brcv9k6oL6RVqPsTXkHLo
 Nh9g==
X-Gm-Message-State: AOJu0Yy5H0J7pNJXUySRNeGHqFhkbEpiTQpvPKaVRFqNuMaTeo2vjXwY
 Ccq5Y3vLb3Abh/x7c8nOzPIBvQGcg23X7lWnEw4BMUkd4hr+Qc2SSFHh6sDeZRIJCwC7149QQxS
 ZqhrIqOv6MscyoJLYc4Oo8vKwMLdjDBlbovUIIyoQ
X-Google-Smtp-Source: AGHT+IG7+oRtN5QFl08dmIoxV1XRvd4EhX47lOcGsp4QTxZrVJSDkZPTl5V8kDruglMz6Iv9BfN3gIzWk+M/
X-Received: by 2002:a05:6602:27c8:b0:7e1:8b22:def6 with SMTP id
 ca18e2360f4ac-7eb3c91073fmr268326639f.8.1717594021538; 
 Wed, 05 Jun 2024 06:27:01 -0700 (PDT)
Received: from postal.iol.unh.edu (postal.iol.unh.edu. [132.177.123.84])
 by smtp-relay.gmail.com with ESMTPS id
 8926c6da1cb9f-4b48c442d7bsm368174173.71.2024.06.05.06.27.01
 (version=TLS1_2 cipher=ECDHE-ECDSA-AES128-GCM-SHA256 bits=128/128);
 Wed, 05 Jun 2024 06:27:01 -0700 (PDT)
X-Relaying-Domain: iol.unh.edu
Date: Wed, 05 Jun 2024 06:27:01 -0700 (PDT)
Message-ID: <666067a5.050a0220.9fec6.c31dSMTPIN_ADDED_MISSING@mx.google.com>
Received: from [172.21.0.6] (unknown [172.18.0.240])
 by postal.iol.unh.edu (Postfix) with ESMTP id ECE20605C373;
 Wed,  5 Jun 2024 09:27:00 -0400 (EDT)
Subject: |SUCCESS| pw140746 [PATCH] [v1,1/1] crypto/ipsec_mb: unify some IPse
From: dpdklab@iol.unh.edu
To: Test Report <test-report@dpdk.org>
Cc: dpdk-test-reports@iol.unh.edu
In-Reply-To: <20240605085346.272837-2-brian.dooley@intel.com>
References: <20240605085346.272837-2-brian.dooley@intel.com>
Content-Type: text/plain
X-BeenThere: test-report@dpdk.org
X-Mailman-Version: 2.1.29
Precedence: list
List-Id: automatic DPDK test reports <test-report.dpdk.org>
List-Unsubscribe: <https://mails.dpdk.org/options/test-report>,
 <mailto:test-report-request@dpdk.org?subject=unsubscribe>
List-Archive: <http://mails.dpdk.org/archives/test-report/>
List-Post: <mailto:test-report@dpdk.org>
List-Help: <mailto:test-report-request@dpdk.org?subject=help>
List-Subscribe: <https://mails.dpdk.org/listinfo/test-report>,
 <mailto:test-report-request@dpdk.org?subject=subscribe>
Errors-To: test-report-bounces@dpdk.org

Test-Label: iol-unit-arm64-testing
Test-Status: SUCCESS
http://dpdk.org/patch/140746

_Testing PASS_

Submitter: Brian Dooley <brian.dooley@intel.com>
Date: Wednesday, June 05 2024 08:53:46 
DPDK git baseline: Repo:dpdk
  Branch: master
  CommitID:367b8db312517edb9f5340d280e77b1437d84dd3

140746 --> testing pass

Test environment and result as below:

+-----------------------------+----------------+--------------+---------------------------+------------------------------+
|         Environment         | dpdk_unit_test | lpm_autotest | cryptodev_sw_zuc_autotest | cryptodev_sw_snow3g_autotest |
+=============================+================+==============+===========================+==============================+
| 32-bit Ubuntu 20.04.4 (ARM) | PASS           | SKIPPED      | SKIPPED                   | SKIPPED                      |
+-----------------------------+----------------+--------------+---------------------------+------------------------------+
| Debian 12 (arm)             | PASS           | SKIPPED      | PASS                      | PASS                         |
+-----------------------------+----------------+--------------+---------------------------+------------------------------+
| Debian 11 (Buster) (ARM)    | PASS           | SKIPPED      | SKIPPED                   | SKIPPED                      |
+-----------------------------+----------------+--------------+---------------------------+------------------------------+
| Fedora 38 (ARM)             | PASS           | SKIPPED      | SKIPPED                   | SKIPPED                      |
+-----------------------------+----------------+--------------+---------------------------+------------------------------+
| Fedora 37 (ARM)             | PASS           | SKIPPED      | SKIPPED                   | SKIPPED                      |
+-----------------------------+----------------+--------------+---------------------------+------------------------------+
| Fedora 39 (ARM)             | PASS           | SKIPPED      | SKIPPED                   | SKIPPED                      |
+-----------------------------+----------------+--------------+---------------------------+------------------------------+
| Ubuntu 20.04 (ARM)          | PASS           | SKIPPED      | SKIPPED                   | SKIPPED                      |
+-----------------------------+----------------+--------------+---------------------------+------------------------------+
| CentOS Stream 9 (ARM)       | PASS           | SKIPPED      | SKIPPED                   | SKIPPED                      |
+-----------------------------+----------------+--------------+---------------------------+------------------------------+
| Fedora 38 (ARM Clang)       | PASS           | SKIPPED      | SKIPPED                   | SKIPPED                      |
+-----------------------------+----------------+--------------+---------------------------+------------------------------+
| Fedora 39 (ARM Clang)       | PASS           | SKIPPED      | SKIPPED                   | SKIPPED                      |
+-----------------------------+----------------+--------------+---------------------------+------------------------------+
| Ubuntu 24.04 (ARM)          | PASS           | SKIPPED      | SKIPPED                   | SKIPPED                      |
+-----------------------------+----------------+--------------+---------------------------+------------------------------+
| Ubuntu 22.04 (ARM)          | PASS           | SKIPPED      | SKIPPED                   | SKIPPED                      |
+-----------------------------+----------------+--------------+---------------------------+------------------------------+
| Ubuntu 20.04 ARM SVE        | SKIPPED        | PASS         | SKIPPED                   | SKIPPED                      |
+-----------------------------+----------------+--------------+---------------------------+------------------------------+


32-bit Ubuntu 20.04.4 (ARM)
	Kernel: 5.4.0-155-generic aarch64
	Compiler: gcc 9.4

Debian 12 (arm)
	Kernel: Container Host Kernel
	Compiler: gcc 12.2.0

Debian 11 (Buster) (ARM)
	Kernel: Container Host Kernel
	Compiler: gcc 10.2.1

Fedora 38 (ARM)
	Kernel: Depends on container host
	Compiler: gcc 13.2.1

Fedora 37 (ARM)
	Kernel: Depends on container host
	Compiler: gcc 12.3.1

Fedora 39 (ARM)
	Kernel: Depends on container host
	Compiler: gcc 13.2.1

Ubuntu 20.04 (ARM)
	Kernel: Container Host Kernel
	Compiler: gcc 9.4.0

CentOS Stream 9 (ARM)
	Kernel: Container Host Kernel
	Compiler: gcc 11.4.1

Fedora 38 (ARM Clang)
	Kernel: Depends on container host
	Compiler: clang 16.0.6

Fedora 39 (ARM Clang)
	Kernel: Depends on container host
	Compiler: clang 17.0.6

Ubuntu 24.04 (ARM)
	Kernel: 5.4.0-167-generic
	Compiler: gcc 13.2.0

Ubuntu 22.04 (ARM)
	Kernel: Container Host Kernel
	Compiler: gcc 11.4.0

Ubuntu 20.04 ARM SVE
	Kernel: 5.4.0-167-generic
	Compiler: gcc (Ubuntu 10.5.0-1ubuntu1~20.04) 10.5.0

To view detailed results, visit:
https://lab.dpdk.org/results/dashboard/patchsets/30111/

UNH-IOL DPDK Community Lab

To manage your email subscriptions, visit: 
https://lab.dpdk.org/results/dashboard/preferences/subscriptions/