From mboxrd@z Thu Jan  1 00:00:00 1970
Return-Path: <test-report-bounces@dpdk.org>
Received: from mails.dpdk.org (mails.dpdk.org [217.70.189.124])
	by inbox.dpdk.org (Postfix) with ESMTP id 247774415E
	for <public@inbox.dpdk.org>; Wed,  5 Jun 2024 17:00:00 +0200 (CEST)
Received: from mails.dpdk.org (localhost [127.0.0.1])
	by mails.dpdk.org (Postfix) with ESMTP id 1D80F40DCA;
	Wed,  5 Jun 2024 17:00:00 +0200 (CEST)
Received: from mail-ot1-f99.google.com (mail-ot1-f99.google.com
 [209.85.210.99]) by mails.dpdk.org (Postfix) with ESMTP id 5E5B440A79
 for <test-report@dpdk.org>; Wed,  5 Jun 2024 16:59:59 +0200 (CEST)
Received: by mail-ot1-f99.google.com with SMTP id
 46e09a7af769-6f9390ab86eso1293214a34.0
 for <test-report@dpdk.org>; Wed, 05 Jun 2024 07:59:59 -0700 (PDT)
DKIM-Signature: v=1; a=rsa-sha256; c=relaxed/relaxed;
 d=iol.unh.edu; s=unh-iol; t=1717599598; x=1718204398; darn=dpdk.org;
 h=references:in-reply-to:cc:to:from:subject:message-id:date:from:to
 :cc:subject:date:message-id:reply-to;
 bh=To2c5tUjRfIWUb6czZV9MtK5l/CtT9Bj9P2ZwteZve4=;
 b=Tuh3eLSV3CKwsP5DLf6gS7f72tF+8p12nLdEzfMKLqPcvTrLDIJRiQhXIuWAp1FXk1
 h7JBwbl5RTXzXi0TE5IvdCuSnciWGpPjPPqViUNf+mZDVNmn0U+wh5d266HxcQejibb/
 5rpJPFH2ETIEYyQeq6wrpLnkJ3hmPLy3fyKCQ=
X-Google-DKIM-Signature: v=1; a=rsa-sha256; c=relaxed/relaxed;
 d=1e100.net; s=20230601; t=1717599598; x=1718204398;
 h=references:in-reply-to:cc:to:from:subject:message-id:date
 :x-gm-message-state:from:to:cc:subject:date:message-id:reply-to;
 bh=To2c5tUjRfIWUb6czZV9MtK5l/CtT9Bj9P2ZwteZve4=;
 b=ho9zmuEaaccFQEyzuWXsfDdmua3+SmLeEMVfuSkCeILabFVHMnAPn2eXSJew3c+vWj
 f4LgeXv/OIkh1NsVJoqaM0TFwuLj7itduSQ1BY7reJscr3Cgy63ujSdE6BIrLemR/C6e
 uXUz6oF9DU4HcEZNA8lEj7UUdWSlA2P7ZIz0aGenLcX7wC0AeMWpJWw4cgA+LfTm748n
 rNGphrPMEPNtfbc9+z8YS/1b02f5O8miGi9knH2ERwa9J/okE04ehzMSw+muMqOzKpn7
 j1402NzZwORknQz2kDxYsa98xiFQv8UETb7O0B0+cAtBjEIcSISUNyiuhPhOJGfqUcTa
 2kAg==
X-Gm-Message-State: AOJu0Ywj77hDpdgLk9HiD1V25xgxkp8Xxe/ldaX3rp+RlTpWbxWwNPLb
 bgug5nX4CFqKARW6SCXGVUGZ/cBTQ4nNRNpE+w3c2WQks3F60Y6lWU/Gt48TUsHoWS2J+r3QMQl
 V7FMw4xvIPv0nJQ8RZBAU9wHvOkpxd4s2YdeVyn25
X-Google-Smtp-Source: AGHT+IGP3f6BjZ7N4RpEGOTdq/kPhVhBqv72Cj0oEriCiiB+TgBqEZD26lWBcpo9zKlEVqT5HGE1G/8N5pdg
X-Received: by 2002:a9d:62da:0:b0:6f9:462c:e9f8 with SMTP id
 46e09a7af769-6f9462cea64mr1896949a34.2.1717599598465; 
 Wed, 05 Jun 2024 07:59:58 -0700 (PDT)
Received: from postal.iol.unh.edu (postal.iol.unh.edu. [132.177.123.84])
 by smtp-relay.gmail.com with ESMTPS id
 46e09a7af769-6f91054dd64sm296791a34.8.2024.06.05.07.59.58
 (version=TLS1_2 cipher=ECDHE-ECDSA-AES128-GCM-SHA256 bits=128/128);
 Wed, 05 Jun 2024 07:59:58 -0700 (PDT)
X-Relaying-Domain: iol.unh.edu
Date: Wed, 05 Jun 2024 07:59:58 -0700 (PDT)
Message-ID: <66607d6e.9d0a0220.1d90c.4ab6SMTPIN_ADDED_MISSING@mx.google.com>
Received: from [172.21.0.6] (unknown [172.18.0.240])
 by postal.iol.unh.edu (Postfix) with ESMTP id DFFBC605C373;
 Wed,  5 Jun 2024 10:59:57 -0400 (EDT)
Subject: |SUCCESS| pw140741-140740 [PATCH] [V3,2/2] app/testpmd: support matc
From: dpdklab@iol.unh.edu
To: Test Report <test-report@dpdk.org>
Cc: dpdk-test-reports@iol.unh.edu
In-Reply-To: <20240605080953.534998-3-gavinl@nvidia.com>
References: <20240605080953.534998-3-gavinl@nvidia.com>
Content-Type: text/plain
X-BeenThere: test-report@dpdk.org
X-Mailman-Version: 2.1.29
Precedence: list
List-Id: automatic DPDK test reports <test-report.dpdk.org>
List-Unsubscribe: <https://mails.dpdk.org/options/test-report>,
 <mailto:test-report-request@dpdk.org?subject=unsubscribe>
List-Archive: <http://mails.dpdk.org/archives/test-report/>
List-Post: <mailto:test-report@dpdk.org>
List-Help: <mailto:test-report-request@dpdk.org?subject=help>
List-Subscribe: <https://mails.dpdk.org/listinfo/test-report>,
 <mailto:test-report-request@dpdk.org?subject=subscribe>
Errors-To: test-report-bounces@dpdk.org

Test-Label: iol-compile-amd64-testing
Test-Status: SUCCESS
http://dpdk.org/patch/140740

_Testing PASS_

Submitter: Gavin Li <gavinl@nvidia.com>
Date: Wednesday, June 05 2024 08:09:53 
DPDK git baseline: Repo:dpdk
  Branch: master
  CommitID:a6bbf008457a455fcf4cf7374c280bba697a353f

140741-140740 --> testing pass

Test environment and result as below:

+---------------------+--------------------+-------------------+----------------------+
|     Environment     | dpdk_meson_compile | dpdk_msvc_compile | dpdk_mingw64_compile |
+=====================+====================+===================+======================+
| FreeBSD 13.3        | PASS               | SKIPPED           | SKIPPED              |
+---------------------+--------------------+-------------------+----------------------+
| FreeBSD 14.0        | PASS               | SKIPPED           | SKIPPED              |
+---------------------+--------------------+-------------------+----------------------+
| Windows Server 2019 | PASS               | SKIPPED           | PASS                 |
+---------------------+--------------------+-------------------+----------------------+
| Windows Server 2022 | PASS               | PASS              | PASS                 |
+---------------------+--------------------+-------------------+----------------------+


FreeBSD 13.3
	Kernel: 13.3-RELEASE-p1
	Compiler: clang 17.0.6

FreeBSD 14.0
	Kernel: 14.0
	Compiler: clang 16.0.6

Windows Server 2019
	Kernel: 10.0.17763
	Compiler: clang 14.0 and gcc 8.1.0 (MinGW)

Windows Server 2022
	Kernel: 10.0.20348.2031
	Compiler: clang 15.0.7, gcc 8.1.0 (MinGW), and MSVC VS 17.9

To view detailed results, visit:
https://lab.dpdk.org/results/dashboard/patchsets/30108/

UNH-IOL DPDK Community Lab

To manage your email subscriptions, visit: 
https://lab.dpdk.org/results/dashboard/preferences/subscriptions/