From mboxrd@z Thu Jan  1 00:00:00 1970
Return-Path: <test-report-bounces@dpdk.org>
Received: from mails.dpdk.org (mails.dpdk.org [217.70.189.124])
	by inbox.dpdk.org (Postfix) with ESMTP id 862C64415E
	for <public@inbox.dpdk.org>; Wed,  5 Jun 2024 17:02:00 +0200 (CEST)
Received: from mails.dpdk.org (localhost [127.0.0.1])
	by mails.dpdk.org (Postfix) with ESMTP id 81BAF40DCA;
	Wed,  5 Jun 2024 17:02:00 +0200 (CEST)
Received: from mail-io1-f98.google.com (mail-io1-f98.google.com
 [209.85.166.98]) by mails.dpdk.org (Postfix) with ESMTP id D07D240A79
 for <test-report@dpdk.org>; Wed,  5 Jun 2024 17:01:58 +0200 (CEST)
Received: by mail-io1-f98.google.com with SMTP id
 ca18e2360f4ac-7ea0b5e0977so3627739f.2
 for <test-report@dpdk.org>; Wed, 05 Jun 2024 08:01:58 -0700 (PDT)
DKIM-Signature: v=1; a=rsa-sha256; c=relaxed/relaxed;
 d=iol.unh.edu; s=unh-iol; t=1717599718; x=1718204518; darn=dpdk.org;
 h=references:in-reply-to:cc:to:from:subject:message-id:date:from:to
 :cc:subject:date:message-id:reply-to;
 bh=o0kf3b69wFSqb9acOgCRelTIsOGierKQBYo/+BB4FpI=;
 b=Bkng4biDyaFNTowFmehF5z9waO+CgtW44d0ySmKy8g9rgeJlb7K4PpNc3jjylDeWOM
 H0Epn7vZUhfzNQ2iMEg+YcnuLm0RFCKxnO2UdW0tqx0EVLWOzBCbEH6p5gXap22if3sm
 1pMf+nsJ6hp5emKCre9MQ3sPpSX9r/bCK6DlY=
X-Google-DKIM-Signature: v=1; a=rsa-sha256; c=relaxed/relaxed;
 d=1e100.net; s=20230601; t=1717599718; x=1718204518;
 h=references:in-reply-to:cc:to:from:subject:message-id:date
 :x-gm-message-state:from:to:cc:subject:date:message-id:reply-to;
 bh=o0kf3b69wFSqb9acOgCRelTIsOGierKQBYo/+BB4FpI=;
 b=q7iRHnbme2TODu3ryuicZgFLDqfeCvp4T8wXuo8vaYLAgBg6tlyoX2XBtbff8xj/KK
 DJINtys9EpdAwel2YSPxvj6gq+XDMxXm5hZWPbQAppcGt1iehUH5ylxDvnxuIDNNFcqO
 sSebwyfpykJjJEPw4ymkIi+XycTMV7nixMmTx1LkAzhViqs9XNa+6zpWQiFECHBUep9P
 B9Zp8dn5Zr9MoWhP9sEV09E3eX/653gH7CVa7sHRXJdrxhV3FGFQHTvLffy2RarT7AUO
 zNzF87VmEJn9pa02laysObwSnBDo0u6h6NWFUWM5PHQzPWYYvtWVsJaDBU5U1x9ce12k
 k8Yg==
X-Gm-Message-State: AOJu0YyFh9znIPSd+/rJmnkXyq3yixsQ5DztSPkYzN3WmQ5FxQetCOkL
 T4cgi+ECyYjLGBT0AwmBoEBFl9dGT+K84wAAteYxJv2g8PgSO79YLJiTdVGuQzPvbkC5mRUYZcS
 mr/b3DlwHd+nivYFMWHAP0iIe/eUjd1qf2/hLM7WrMEd7mq5+E8tL8X6d
X-Google-Smtp-Source: AGHT+IF4xRT1o+kB6pGcytDtIB7xfh/McgizG0L/xUtqHa6H0xHiisKaiRM/zUzSMsVBRs7qers/OB8xeZW0
X-Received: by 2002:a05:6602:1553:b0:7e1:7fd2:676 with SMTP id
 ca18e2360f4ac-7eb3c79a750mr339235839f.12.1717599717790; 
 Wed, 05 Jun 2024 08:01:57 -0700 (PDT)
Received: from postal.iol.unh.edu (postal.iol.unh.edu.
 [2606:4100:3880:1234::84]) by smtp-relay.gmail.com with ESMTPS id
 8926c6da1cb9f-4b613fd859fsm79541173.5.2024.06.05.08.01.57
 (version=TLS1_2 cipher=ECDHE-ECDSA-AES128-GCM-SHA256 bits=128/128);
 Wed, 05 Jun 2024 08:01:57 -0700 (PDT)
X-Relaying-Domain: iol.unh.edu
Date: Wed, 05 Jun 2024 08:01:57 -0700 (PDT)
Message-ID: <66607de5.050a0220.1d9feb.5b4aSMTPIN_ADDED_MISSING@mx.google.com>
Received: from [172.21.0.6] (unknown [172.18.0.240])
 by postal.iol.unh.edu (Postfix) with ESMTP id 30AE5605C373;
 Wed,  5 Jun 2024 11:01:57 -0400 (EDT)
Subject: |SUCCESS| pw140742-140744 [PATCH] [v5,3/3] net/mlx5: implement VXLAN
From: dpdklab@iol.unh.edu
To: Test Report <test-report@dpdk.org>
Cc: dpdk-test-reports@iol.unh.edu
In-Reply-To: <20240605084111.87359-4-rongweil@nvidia.com>
References: <20240605084111.87359-4-rongweil@nvidia.com>
Content-Type: text/plain
X-BeenThere: test-report@dpdk.org
X-Mailman-Version: 2.1.29
Precedence: list
List-Id: automatic DPDK test reports <test-report.dpdk.org>
List-Unsubscribe: <https://mails.dpdk.org/options/test-report>,
 <mailto:test-report-request@dpdk.org?subject=unsubscribe>
List-Archive: <http://mails.dpdk.org/archives/test-report/>
List-Post: <mailto:test-report@dpdk.org>
List-Help: <mailto:test-report-request@dpdk.org?subject=help>
List-Subscribe: <https://mails.dpdk.org/listinfo/test-report>,
 <mailto:test-report-request@dpdk.org?subject=subscribe>
Errors-To: test-report-bounces@dpdk.org

Test-Label: iol-compile-arm64-testing
Test-Status: SUCCESS
http://dpdk.org/patch/140744

_Testing PASS_

Submitter: Rongwei Liu <rongweil@nvidia.com>
Date: Wednesday, June 05 2024 08:41:11 
DPDK git baseline: Repo:dpdk
  Branch: master
  CommitID:a6bbf008457a455fcf4cf7374c280bba697a353f

140742-140744 --> testing pass

Test environment and result as below:

+----------------------+--------------------+
|     Environment      | dpdk_meson_compile |
+======================+====================+
| Ubuntu 20.04 ARM SVE | PASS               |
+----------------------+--------------------+
| Debian 12 with MUSDK | PASS               |
+----------------------+--------------------+
| Fedora 37 (ARM)      | PASS               |
+----------------------+--------------------+
| Debian 12 (arm)      | PASS               |
+----------------------+--------------------+


Ubuntu 20.04 ARM SVE
	Kernel: 5.4.0-167-generic
	Compiler: gcc (Ubuntu 10.5.0-1ubuntu1~20.04) 10.5.0

Debian 12 with MUSDK
	Kernel: Container Host Kernel
	Compiler: gcc 12.2.0

Fedora 37 (ARM)
	Kernel: Depends on container host
	Compiler: gcc 12.3.1

Debian 12 (arm)
	Kernel: Container Host Kernel
	Compiler: gcc 12.2.0

To view detailed results, visit:
https://lab.dpdk.org/results/dashboard/patchsets/30109/

UNH-IOL DPDK Community Lab

To manage your email subscriptions, visit: 
https://lab.dpdk.org/results/dashboard/preferences/subscriptions/