From mboxrd@z Thu Jan  1 00:00:00 1970
Return-Path: <test-report-bounces@dpdk.org>
Received: from mails.dpdk.org (mails.dpdk.org [217.70.189.124])
	by inbox.dpdk.org (Postfix) with ESMTP id DDAE44415E
	for <public@inbox.dpdk.org>; Wed,  5 Jun 2024 17:25:30 +0200 (CEST)
Received: from mails.dpdk.org (localhost [127.0.0.1])
	by mails.dpdk.org (Postfix) with ESMTP id C9D36409FA;
	Wed,  5 Jun 2024 17:25:30 +0200 (CEST)
Received: from mail-pf1-f228.google.com (mail-pf1-f228.google.com
 [209.85.210.228])
 by mails.dpdk.org (Postfix) with ESMTP id 755734067D
 for <test-report@dpdk.org>; Wed,  5 Jun 2024 17:25:29 +0200 (CEST)
Received: by mail-pf1-f228.google.com with SMTP id
 d2e1a72fcca58-702621d8725so111901b3a.0
 for <test-report@dpdk.org>; Wed, 05 Jun 2024 08:25:29 -0700 (PDT)
DKIM-Signature: v=1; a=rsa-sha256; c=relaxed/relaxed;
 d=iol.unh.edu; s=unh-iol; t=1717601128; x=1718205928; darn=dpdk.org;
 h=references:in-reply-to:cc:to:from:subject:message-id:date:from:to
 :cc:subject:date:message-id:reply-to;
 bh=vxSVcxUaaxK9lEEMlgSWd6ael1LS836P+vnwhIIHi1s=;
 b=W+o6pyEhtAG04R6l6goAh1ZrSZZOHp++20/MRNodhPU9+ILsk+/oWJMWNvAEG5I2y2
 96/I6rZsYIo/UBHtaFudHNuSYBE5uWdAtcd0N5NSmVf+TLYtlOtckM8JswIEYuErxjd6
 mpI3SI+2p+BPHJZXIIXxA7jrB3LK+KZC52Ln0=
X-Google-DKIM-Signature: v=1; a=rsa-sha256; c=relaxed/relaxed;
 d=1e100.net; s=20230601; t=1717601128; x=1718205928;
 h=references:in-reply-to:cc:to:from:subject:message-id:date
 :x-gm-message-state:from:to:cc:subject:date:message-id:reply-to;
 bh=vxSVcxUaaxK9lEEMlgSWd6ael1LS836P+vnwhIIHi1s=;
 b=sQNDu7Mfl2NrbwKmhaOaq6wFJgMl2Tdm8WqPd0CK/692IQ78dvBayF9Y9/cFBDboEA
 rZ5kxcCJdl+c7Z2anliZXrGkh6Gzg8rpYtX2HLDVUbbzxCSyh/sc0euvjLhrxH/b75Oq
 C7Vi+O1YzEs5aGfd8wc0lsuGNTh5AEESrE60+YVhYEMrtzFIId3VuadTQ/pFjMDdPC0G
 7YsfThE8D+mSu30mgeUjEp1cgm+mkhMO0kg7NyoTksyrqwXMyTU9YtQTGT7cXB4PQ89w
 zbqJrcsnigtuEcucUn8+wjY1lpQBqjL4J2735qoLDBe9f7biQ+mcLdTatA+4zQnAkrGD
 iiGg==
X-Gm-Message-State: AOJu0Yzk1o9D3tjnSi+1f+YwV4JWAEeP4N2REiPp3QFx/eZErCU0OiBw
 cX9Xpyd6GmF70YsB2V7XKAaMxxQsG9ACKvU6mfB1CPMPnxZuZ/fdtSi+cvPKZajjmyRWwHF8P86
 zFe4YXD+r+XObu+5X0Mp2Y9wDmUfprtDex1oBde+Ei+BB+PDyoH5W/SM5
X-Google-Smtp-Source: AGHT+IGkox0Ip9GoXsAsit5xU3889yqvXhHDKWOTpDcP4+iyUNyo7TD14LtfkuAtc47CaJ51WDxf/DFFwDH5
X-Received: by 2002:a17:90a:68cd:b0:2b5:af07:1ce7 with SMTP id
 98e67ed59e1d1-2c27db590a8mr2884120a91.35.1717601128561; 
 Wed, 05 Jun 2024 08:25:28 -0700 (PDT)
Received: from postal.iol.unh.edu (postal.iol.unh.edu.
 [2606:4100:3880:1234::84]) by smtp-relay.gmail.com with ESMTPS id
 98e67ed59e1d1-2c280698345sm104846a91.15.2024.06.05.08.25.28
 (version=TLS1_2 cipher=ECDHE-ECDSA-AES128-GCM-SHA256 bits=128/128);
 Wed, 05 Jun 2024 08:25:28 -0700 (PDT)
X-Relaying-Domain: iol.unh.edu
Date: Wed, 05 Jun 2024 08:25:28 -0700 (PDT)
Message-ID: <66608368.170a0220.3aeeb1.85b8SMTPIN_ADDED_MISSING@mx.google.com>
Received: from [172.21.0.6] (unknown [172.18.0.240])
 by postal.iol.unh.edu (Postfix) with ESMTP id 76002605C373;
 Wed,  5 Jun 2024 11:25:27 -0400 (EDT)
Subject: |SUCCESS| pw140742-140744 [PATCH] [v5,3/3] net/mlx5: implement VXLAN
From: dpdklab@iol.unh.edu
To: Test Report <test-report@dpdk.org>
Cc: dpdk-test-reports@iol.unh.edu
In-Reply-To: <20240605084111.87359-4-rongweil@nvidia.com>
References: <20240605084111.87359-4-rongweil@nvidia.com>
Content-Type: text/plain
X-BeenThere: test-report@dpdk.org
X-Mailman-Version: 2.1.29
Precedence: list
List-Id: automatic DPDK test reports <test-report.dpdk.org>
List-Unsubscribe: <https://mails.dpdk.org/options/test-report>,
 <mailto:test-report-request@dpdk.org?subject=unsubscribe>
List-Archive: <http://mails.dpdk.org/archives/test-report/>
List-Post: <mailto:test-report@dpdk.org>
List-Help: <mailto:test-report-request@dpdk.org?subject=help>
List-Subscribe: <https://mails.dpdk.org/listinfo/test-report>,
 <mailto:test-report-request@dpdk.org?subject=subscribe>
Errors-To: test-report-bounces@dpdk.org

Test-Label: iol-abi-testing
Test-Status: SUCCESS
http://dpdk.org/patch/140744

_Testing PASS_

Submitter: Rongwei Liu <rongweil@nvidia.com>
Date: Wednesday, June 05 2024 08:41:11 
DPDK git baseline: Repo:dpdk
  Branch: master
  CommitID:a6bbf008457a455fcf4cf7374c280bba697a353f

140742-140744 --> testing pass

Test environment and result as below:

+------------------+----------+
|   Environment    | abi_test |
+==================+==========+
| RHEL8            | PASS     |
+------------------+----------+
| CentOS Stream 9  | PASS     |
+------------------+----------+
| Fedora 38        | PASS     |
+------------------+----------+
| Debian Bullseye  | PASS     |
+------------------+----------+
| Debian 12        | PASS     |
+------------------+----------+
| CentOS Stream 8  | PASS     |
+------------------+----------+
| Fedora 37        | PASS     |
+------------------+----------+
| Fedora 39        | PASS     |
+------------------+----------+
| Ubuntu 22.04     | PASS     |
+------------------+----------+
| openSUSE Leap 15 | PASS     |
+------------------+----------+


RHEL8
	Kernel: 5.4.0-167-generic
	Compiler: gcc 8.5.0 20210514 (Red Hat 8.5.0-20)

CentOS Stream 9
	Kernel: 5.4.0-167-generic
	Compiler: gcc 11.4.1 20230605

Fedora 38
	Kernel: Depends on container host
	Compiler: gcc 13.2.1

Debian Bullseye
	Kernel: 5.4.0-167-generic
	Compiler: gcc 10.2.1-6

Debian 12
	Kernel: Container Host Kernel
	Compiler: gcc 10.2.1

CentOS Stream 8
	Kernel: 5.4.0-167-generic
	Compiler: gcc 8.5.0 20210514

Fedora 37
	Kernel: Depends on container host system
	Compiler: gcc 12.3.1

Fedora 39
	Kernel: Depends on container host
	Compiler: clang 17.0.6

Ubuntu 22.04
	Kernel: 5.4.0-167-generic
	Compiler: gcc 11.4.0

openSUSE Leap 15
	Kernel: 5.4.0-167-generic
	Compiler: gcc 7.5.0

To view detailed results, visit:
https://lab.dpdk.org/results/dashboard/patchsets/30109/

UNH-IOL DPDK Community Lab

To manage your email subscriptions, visit: 
https://lab.dpdk.org/results/dashboard/preferences/subscriptions/