From mboxrd@z Thu Jan  1 00:00:00 1970
Return-Path: <test-report-bounces@dpdk.org>
Received: from mails.dpdk.org (mails.dpdk.org [217.70.189.124])
	by inbox.dpdk.org (Postfix) with ESMTP id 2876544161
	for <public@inbox.dpdk.org>; Wed,  5 Jun 2024 17:41:05 +0200 (CEST)
Received: from mails.dpdk.org (localhost [127.0.0.1])
	by mails.dpdk.org (Postfix) with ESMTP id 20EE2402E5;
	Wed,  5 Jun 2024 17:41:05 +0200 (CEST)
Received: from mail-pl1-f227.google.com (mail-pl1-f227.google.com
 [209.85.214.227])
 by mails.dpdk.org (Postfix) with ESMTP id 8400940265
 for <test-report@dpdk.org>; Wed,  5 Jun 2024 17:41:03 +0200 (CEST)
Received: by mail-pl1-f227.google.com with SMTP id
 d9443c01a7336-1f44b4404dfso32195ad.0
 for <test-report@dpdk.org>; Wed, 05 Jun 2024 08:41:03 -0700 (PDT)
DKIM-Signature: v=1; a=rsa-sha256; c=relaxed/relaxed;
 d=iol.unh.edu; s=unh-iol; t=1717602063; x=1718206863; darn=dpdk.org;
 h=references:in-reply-to:cc:to:from:subject:message-id:date:from:to
 :cc:subject:date:message-id:reply-to;
 bh=33NmHAhMQ1nTE07Zq+YWWekKzsprT2pdE3rmXMyPYvA=;
 b=HiDVdO0DmeBMCVp0YORkjJU8uaYWHbcPXdx2eCZsGt6G2IRE4c9EPl6JHa7zcbxLpK
 KU+hwsyCG4+Ga1KNUmawUNycN7upnek+Ge9FIxfSMUA+qKc19aRDO38VGNZRzhzG8SKs
 wA8qmK6Cdw2Uf90SsTehvjulYrLX1IhGlfuXI=
X-Google-DKIM-Signature: v=1; a=rsa-sha256; c=relaxed/relaxed;
 d=1e100.net; s=20230601; t=1717602063; x=1718206863;
 h=references:in-reply-to:cc:to:from:subject:message-id:date
 :x-gm-message-state:from:to:cc:subject:date:message-id:reply-to;
 bh=33NmHAhMQ1nTE07Zq+YWWekKzsprT2pdE3rmXMyPYvA=;
 b=gCUTzxnq2Mzm53vYF0GzRRETccz+FGulfMJivdxx8u7k4Dobs/W9J6tTghcaLr/JfE
 mY4dcO4UGUJe6cdRjDoVXKo7v9c3t/t+QfX7Wt9LQbXrqBx9vBPfCaFVaTlKCgmIFZtO
 OZgpEluNpSKK38PWmJ7XeAs7ugOTrTWJgnNno7XXBj6AqJ+H8vPnME3CRLSRaIso27Vm
 k6yrKjwmJFJcRdnxnp8fkSAUnnxr+yTL8gxzLJslxo4cvrGOdlN630p5wUtMyLmR0vUV
 ZtsNiqaFrCLoNrTrmwqG+tsYM2Qqf5tZOOXEL6V7phioxrpgEink+yFHbJ6siCOz7xw3
 1zdg==
X-Gm-Message-State: AOJu0Yy5QC5ZXYXII0GIKyDTTP6Zz+R/m6kejp+I6wGY6MZCubZs4cAD
 7W3y8D7/qyH73Kl+HZMyblrgehGXJpitYfuTmZ6NCjTWHmKBxVg5xG7mY9lQVZytdf7Gx69BGyk
 hs16j3AK82s3JzDW1TSHiUsVlqvsfqeMPkk1Z8mdg
X-Google-Smtp-Source: AGHT+IGj5jo9frZNTd61GznRMqSSuxtJZuFml9yhnyF4rFf5svN9dhmsVTYYEEenNRlHGhocRWm0xq+sMRTG
X-Received: by 2002:a17:903:2444:b0:1f6:3596:7c61 with SMTP id
 d9443c01a7336-1f6a5a02448mr36723485ad.2.1717602062683; 
 Wed, 05 Jun 2024 08:41:02 -0700 (PDT)
Received: from postal.iol.unh.edu (postal.iol.unh.edu. [132.177.123.84])
 by smtp-relay.gmail.com with ESMTPS id
 d9443c01a7336-1f6323272b0sm3912915ad.2.2024.06.05.08.41.02
 (version=TLS1_2 cipher=ECDHE-ECDSA-AES128-GCM-SHA256 bits=128/128);
 Wed, 05 Jun 2024 08:41:02 -0700 (PDT)
X-Relaying-Domain: iol.unh.edu
Date: Wed, 05 Jun 2024 08:41:02 -0700 (PDT)
Message-ID: <6660870e.170a0220.c60bc.e697SMTPIN_ADDED_MISSING@mx.google.com>
Received: from [172.21.0.6] (unknown [172.18.0.240])
 by postal.iol.unh.edu (Postfix) with ESMTP id B5FD9605C373;
 Wed,  5 Jun 2024 11:41:01 -0400 (EDT)
Subject: |SUCCESS| pw140742-140744 [PATCH] [v5,3/3] net/mlx5: implement VXLAN
From: dpdklab@iol.unh.edu
To: Test Report <test-report@dpdk.org>
Cc: dpdk-test-reports@iol.unh.edu
In-Reply-To: <20240605084111.87359-4-rongweil@nvidia.com>
References: <20240605084111.87359-4-rongweil@nvidia.com>
Content-Type: text/plain
X-BeenThere: test-report@dpdk.org
X-Mailman-Version: 2.1.29
Precedence: list
List-Id: automatic DPDK test reports <test-report.dpdk.org>
List-Unsubscribe: <https://mails.dpdk.org/options/test-report>,
 <mailto:test-report-request@dpdk.org?subject=unsubscribe>
List-Archive: <http://mails.dpdk.org/archives/test-report/>
List-Post: <mailto:test-report@dpdk.org>
List-Help: <mailto:test-report-request@dpdk.org?subject=help>
List-Subscribe: <https://mails.dpdk.org/listinfo/test-report>,
 <mailto:test-report-request@dpdk.org?subject=subscribe>
Errors-To: test-report-bounces@dpdk.org

Test-Label: iol-unit-amd64-testing
Test-Status: SUCCESS
http://dpdk.org/patch/140744

_Testing PASS_

Submitter: Rongwei Liu <rongweil@nvidia.com>
Date: Wednesday, June 05 2024 08:41:11 
DPDK git baseline: Repo:dpdk
  Branch: master
  CommitID:a6bbf008457a455fcf4cf7374c280bba697a353f

140742-140744 --> testing pass

Test environment and result as below:

+---------------------+----------------+
|     Environment     | dpdk_unit_test |
+=====================+================+
| Windows Server 2019 | PASS           |
+---------------------+----------------+
| Windows Server 2022 | PASS           |
+---------------------+----------------+
| CentOS Stream 8     | PASS           |
+---------------------+----------------+
| Debian Bullseye     | PASS           |
+---------------------+----------------+
| CentOS Stream 9     | PASS           |
+---------------------+----------------+
| Debian 12           | PASS           |
+---------------------+----------------+
| Fedora 37           | PASS           |
+---------------------+----------------+
| Fedora 38           | PASS           |
+---------------------+----------------+
| Fedora 39           | PASS           |
+---------------------+----------------+
| Ubuntu 20.04        | PASS           |
+---------------------+----------------+
| openSUSE Leap 15    | PASS           |
+---------------------+----------------+


Windows Server 2019
	Kernel: 10.0.17763
	Compiler: clang 14.0 and gcc 8.1.0 (MinGW)

Windows Server 2022
	Kernel: 10.0.20348.2031
	Compiler: clang 15.0.7, gcc 8.1.0 (MinGW), and MSVC VS 17.9

CentOS Stream 8
	Kernel: 5.4.0-167-generic
	Compiler: gcc 8.5.0 20210514

Debian Bullseye
	Kernel: 5.4.0-167-generic
	Compiler: gcc 10.2.1-6

CentOS Stream 9
	Kernel: 5.4.0-167-generic
	Compiler: gcc 11.4.1 20230605

Debian 12
	Kernel: Container Host Kernel
	Compiler: gcc 10.2.1

Fedora 37
	Kernel: Depends on container host system
	Compiler: gcc 12.3.1

Fedora 38
	Kernel: Depends on container host
	Compiler: gcc 13.2.1

Fedora 39
	Kernel: Depends on container host
	Compiler: gcc 13.2.1

Ubuntu 20.04
	Kernel: 5.4.0-167-generic
	Compiler: gcc 9.4.0-1ubuntu1~20.04.1

openSUSE Leap 15
	Kernel: 5.4.0-167-generic
	Compiler: gcc 7.5.0

To view detailed results, visit:
https://lab.dpdk.org/results/dashboard/patchsets/30109/

UNH-IOL DPDK Community Lab

To manage your email subscriptions, visit: 
https://lab.dpdk.org/results/dashboard/preferences/subscriptions/