From mboxrd@z Thu Jan  1 00:00:00 1970
Return-Path: <test-report-bounces@dpdk.org>
Received: from mails.dpdk.org (mails.dpdk.org [217.70.189.124])
	by inbox.dpdk.org (Postfix) with ESMTP id 8D1D944161
	for <public@inbox.dpdk.org>; Wed,  5 Jun 2024 17:48:22 +0200 (CEST)
Received: from mails.dpdk.org (localhost [127.0.0.1])
	by mails.dpdk.org (Postfix) with ESMTP id 874FA402E5;
	Wed,  5 Jun 2024 17:48:22 +0200 (CEST)
Received: from mail-pl1-f226.google.com (mail-pl1-f226.google.com
 [209.85.214.226])
 by mails.dpdk.org (Postfix) with ESMTP id EFB7840265
 for <test-report@dpdk.org>; Wed,  5 Jun 2024 17:48:21 +0200 (CEST)
Received: by mail-pl1-f226.google.com with SMTP id
 d9443c01a7336-1f61f775738so50043745ad.2
 for <test-report@dpdk.org>; Wed, 05 Jun 2024 08:48:21 -0700 (PDT)
DKIM-Signature: v=1; a=rsa-sha256; c=relaxed/relaxed;
 d=iol.unh.edu; s=unh-iol; t=1717602501; x=1718207301; darn=dpdk.org;
 h=references:in-reply-to:cc:to:from:subject:message-id:date:from:to
 :cc:subject:date:message-id:reply-to;
 bh=29q9GBTgc+ghV2hqLy9oWUYajxEhax3URoU9DHpg2CA=;
 b=TUtboE+5sgoIhI/uUWnFLJXqDrCJDYc5TOvLe4zar4FlyoeEsuIf8uOBTxlIgYeW+R
 QxAjBEg+9oZ02QH+bXV0imbniT8B2l4wKNVRlb3ErHZhye14TQIExYF4KrpRmfN/odNe
 n1UgTo5olhHVE3ptsGWwEA8z9/3GuL4yP1GxU=
X-Google-DKIM-Signature: v=1; a=rsa-sha256; c=relaxed/relaxed;
 d=1e100.net; s=20230601; t=1717602501; x=1718207301;
 h=references:in-reply-to:cc:to:from:subject:message-id:date
 :x-gm-message-state:from:to:cc:subject:date:message-id:reply-to;
 bh=29q9GBTgc+ghV2hqLy9oWUYajxEhax3URoU9DHpg2CA=;
 b=JXB1/XiiTZfmtENUSvi3+CjK4XN1VinjtT4+vtlEI389a4wmf/0Xri7aizTZsqhbHX
 C53H0L/NTt4fxDV+9WYkXUUrpP+VUiS8dMeNeFnlg+W2TpNzcMWqyeWlX+EW2WLqqJzt
 498bpGg9/eXIxMSSWlyKyul8UHlT7EsVb5f86NXToNRQeIJ7V/nXF5jRtKZjen+QZlsh
 APsfFUO0eHTJWGKiqnQGt3dNB0lQ6yu2H//q0ybgzurTzmn/Bex2my5eCJzkvIBj8TJ8
 uQDhCzca9pO2qtNvT3q4x2ImMzaDwxYU+PrAlcrSwoP9GnVmPp8duq8MdiSQdq9TxikI
 YnMQ==
X-Gm-Message-State: AOJu0Ywx3/2Wq4IUxTyCPwBGp7mE4w6GSiPXOlyLo2JRte17cpGMMETh
 lsODiTpEzKrKVRoWRz+gwETWnD3As/bsYJuBTXmk0+hz2wnL/D5F2vqvP/3ctVBmjghWE1LXb+9
 PuMWDaqSmu7Q83d+1wNCipB33BMQ2hYaRVfcl9Miw
X-Google-Smtp-Source: AGHT+IE3tvJaCtrnfGOl76h1L0EBnXo6Az7FEP0urywi+f62/8f6kixR/EBGVWyL+n0NNqsWiOG023G4jAet
X-Received: by 2002:a17:903:60e:b0:1f6:6fb9:29dc with SMTP id
 d9443c01a7336-1f6a5a0ba98mr27590085ad.25.1717602501096; 
 Wed, 05 Jun 2024 08:48:21 -0700 (PDT)
Received: from postal.iol.unh.edu (postal.iol.unh.edu. [132.177.123.84])
 by smtp-relay.gmail.com with ESMTPS id
 d9443c01a7336-1f6323d46dbsm3750035ad.85.2024.06.05.08.48.20
 (version=TLS1_2 cipher=ECDHE-ECDSA-AES128-GCM-SHA256 bits=128/128);
 Wed, 05 Jun 2024 08:48:21 -0700 (PDT)
X-Relaying-Domain: iol.unh.edu
Date: Wed, 05 Jun 2024 08:48:21 -0700 (PDT)
Message-ID: <666088c5.170a0220.77699.d469SMTPIN_ADDED_MISSING@mx.google.com>
Received: from [172.21.0.6] (unknown [172.18.0.240])
 by postal.iol.unh.edu (Postfix) with ESMTP id 78F3C605C373;
 Wed,  5 Jun 2024 11:48:20 -0400 (EDT)
Subject: |SUCCESS| pw140742-140744 [PATCH] [v5,3/3] net/mlx5: implement VXLAN
From: dpdklab@iol.unh.edu
To: Test Report <test-report@dpdk.org>
Cc: dpdk-test-reports@iol.unh.edu
In-Reply-To: <20240605084111.87359-4-rongweil@nvidia.com>
References: <20240605084111.87359-4-rongweil@nvidia.com>
Content-Type: text/plain
X-BeenThere: test-report@dpdk.org
X-Mailman-Version: 2.1.29
Precedence: list
List-Id: automatic DPDK test reports <test-report.dpdk.org>
List-Unsubscribe: <https://mails.dpdk.org/options/test-report>,
 <mailto:test-report-request@dpdk.org?subject=unsubscribe>
List-Archive: <http://mails.dpdk.org/archives/test-report/>
List-Post: <mailto:test-report@dpdk.org>
List-Help: <mailto:test-report-request@dpdk.org?subject=help>
List-Subscribe: <https://mails.dpdk.org/listinfo/test-report>,
 <mailto:test-report-request@dpdk.org?subject=subscribe>
Errors-To: test-report-bounces@dpdk.org

Test-Label: iol-unit-amd64-testing
Test-Status: SUCCESS
http://dpdk.org/patch/140744

_Testing PASS_

Submitter: Rongwei Liu <rongweil@nvidia.com>
Date: Wednesday, June 05 2024 08:41:11 
DPDK git baseline: Repo:dpdk
  Branch: master
  CommitID:a6bbf008457a455fcf4cf7374c280bba697a353f

140742-140744 --> testing pass

Test environment and result as below:

+---------------------+----------------+
|     Environment     | dpdk_unit_test |
+=====================+================+
| Windows Server 2019 | PASS           |
+---------------------+----------------+
| Windows Server 2022 | PASS           |
+---------------------+----------------+
| CentOS Stream 8     | PASS           |
+---------------------+----------------+
| Debian Bullseye     | PASS           |
+---------------------+----------------+
| CentOS Stream 9     | PASS           |
+---------------------+----------------+
| Debian 12           | PASS           |
+---------------------+----------------+
| Fedora 37           | PASS           |
+---------------------+----------------+
| Fedora 38           | PASS           |
+---------------------+----------------+
| Fedora 39           | PASS           |
+---------------------+----------------+
| Ubuntu 20.04        | PASS           |
+---------------------+----------------+
| openSUSE Leap 15    | PASS           |
+---------------------+----------------+
| RHEL8               | PASS           |
+---------------------+----------------+


Windows Server 2019
	Kernel: 10.0.17763
	Compiler: clang 14.0 and gcc 8.1.0 (MinGW)

Windows Server 2022
	Kernel: 10.0.20348.2031
	Compiler: clang 15.0.7, gcc 8.1.0 (MinGW), and MSVC VS 17.9

CentOS Stream 8
	Kernel: 5.4.0-167-generic
	Compiler: gcc 8.5.0 20210514

Debian Bullseye
	Kernel: 5.4.0-167-generic
	Compiler: gcc 10.2.1-6

CentOS Stream 9
	Kernel: 5.4.0-167-generic
	Compiler: gcc 11.4.1 20230605

Debian 12
	Kernel: Container Host Kernel
	Compiler: gcc 10.2.1

Fedora 37
	Kernel: Depends on container host system
	Compiler: gcc 12.3.1

Fedora 38
	Kernel: Depends on container host
	Compiler: gcc 13.2.1

Fedora 39
	Kernel: Depends on container host
	Compiler: gcc 13.2.1

Ubuntu 20.04
	Kernel: 5.4.0-167-generic
	Compiler: gcc 9.4.0-1ubuntu1~20.04.1

openSUSE Leap 15
	Kernel: 5.4.0-167-generic
	Compiler: gcc 7.5.0

RHEL8
	Kernel: 5.4.0-167-generic
	Compiler: gcc 8.5.0 20210514 (Red Hat 8.5.0-20)

To view detailed results, visit:
https://lab.dpdk.org/results/dashboard/patchsets/30109/

UNH-IOL DPDK Community Lab

To manage your email subscriptions, visit: 
https://lab.dpdk.org/results/dashboard/preferences/subscriptions/