From mboxrd@z Thu Jan  1 00:00:00 1970
Return-Path: <test-report-bounces@dpdk.org>
Received: from mails.dpdk.org (mails.dpdk.org [217.70.189.124])
	by inbox.dpdk.org (Postfix) with ESMTP id 619E344161
	for <public@inbox.dpdk.org>; Wed,  5 Jun 2024 18:34:30 +0200 (CEST)
Received: from mails.dpdk.org (localhost [127.0.0.1])
	by mails.dpdk.org (Postfix) with ESMTP id 5A4CB402E1;
	Wed,  5 Jun 2024 18:34:30 +0200 (CEST)
Received: from mail-pg1-f227.google.com (mail-pg1-f227.google.com
 [209.85.215.227])
 by mails.dpdk.org (Postfix) with ESMTP id 122A440265
 for <test-report@dpdk.org>; Wed,  5 Jun 2024 18:34:29 +0200 (CEST)
Received: by mail-pg1-f227.google.com with SMTP id
 41be03b00d2f7-6c7df306e86so3377931a12.2
 for <test-report@dpdk.org>; Wed, 05 Jun 2024 09:34:29 -0700 (PDT)
DKIM-Signature: v=1; a=rsa-sha256; c=relaxed/relaxed;
 d=iol.unh.edu; s=unh-iol; t=1717605268; x=1718210068; darn=dpdk.org;
 h=references:in-reply-to:cc:to:from:subject:message-id:date:from:to
 :cc:subject:date:message-id:reply-to;
 bh=d40MFNFmwCYMwywNTeO7OnxqwGCorqdnnmlt3SS8aG0=;
 b=DCalM/CtG9c5hhBDrjCnDn9DJztnZ2tNDGtcgkvrk8Ogqj65JiWaiFbDyQeXUGYKEr
 NPpCHnBY7VFx8yqWeh7LcxW/fkGOaY94kHr0thKW5/KhlVf3n+TodgMiHhl9Szvj5Rey
 Ed2/RC+HzTWkYHRkmCiufax3gF9hImw4VMuLs=
X-Google-DKIM-Signature: v=1; a=rsa-sha256; c=relaxed/relaxed;
 d=1e100.net; s=20230601; t=1717605268; x=1718210068;
 h=references:in-reply-to:cc:to:from:subject:message-id:date
 :x-gm-message-state:from:to:cc:subject:date:message-id:reply-to;
 bh=d40MFNFmwCYMwywNTeO7OnxqwGCorqdnnmlt3SS8aG0=;
 b=VGkeBtww0tJj6t9vnMmOr43Qd3vQiaDI+xIOCbsxzdnSBLr49z+TkulsjWpcIoDmoQ
 ik9W34b19HTTjbqr3HHzfRk0gt2iB07O+U4bjs/Y3VoaQKMh+ow5sRuockK7QxbkEPf/
 0igX0JBhk85U0xGH7VDvjgmuDVLBJKN/Bsy0N3lBKLZicGrGWLjfMorncA0foKgJo6WQ
 lgiyvaBWqhJYuxDq6Wkfer0XicN3HR+CT7y4PSOdwiIcbhKfNCcVX7Y3ZaiR7pNWu/5C
 ZXz4pOspOmfJeZ1AbvuO8Zk6B7y5WbfP3FB8H6jSjsP9zpq63LEyAVrY6YRnWIGEEyaS
 /efw==
X-Gm-Message-State: AOJu0YypGxganwuUod/MPLA76z5iHa48/5gZnj1+PJl72ogIKw0f/RyZ
 JYup4ukZ2nzW6ZW2jba1VbUAkcUtzf4mI5nVGeYJQwOT2Lsmb7TS4dILC42FQbedhy5ciH1f/If
 dam+sRSLBBNPCD7RNRsl9VRZsHyanDjiWkzpc5G7M
X-Google-Smtp-Source: AGHT+IGPOsphFlviM+lnAunD8tgQ7R9uUUrnH3qbVTHBELvbMBi29L+So0cfBMe9dJOeUmwOmUEFB3xNwHzX
X-Received: by 2002:a17:90a:8c06:b0:2b5:340d:cfcc with SMTP id
 98e67ed59e1d1-2c27db1412fmr3087139a91.11.1717605268184; 
 Wed, 05 Jun 2024 09:34:28 -0700 (PDT)
Received: from postal.iol.unh.edu (postal.iol.unh.edu. [132.177.123.84])
 by smtp-relay.gmail.com with ESMTPS id
 98e67ed59e1d1-2c280650623sm117850a91.7.2024.06.05.09.34.28
 (version=TLS1_2 cipher=ECDHE-ECDSA-AES128-GCM-SHA256 bits=128/128);
 Wed, 05 Jun 2024 09:34:28 -0700 (PDT)
X-Relaying-Domain: iol.unh.edu
Date: Wed, 05 Jun 2024 09:34:28 -0700 (PDT)
Message-ID: <66609394.170a0220.50c4e.a39aSMTPIN_ADDED_MISSING@mx.google.com>
Received: from [172.21.0.7] (unknown [172.18.0.240])
 by postal.iol.unh.edu (Postfix) with ESMTP id DB0A8605C373;
 Wed,  5 Jun 2024 12:34:26 -0400 (EDT)
Subject: |SUCCESS| pw140741-140740 [PATCH] [V3,2/2] app/testpmd: support matc
From: dpdklab@iol.unh.edu
To: Test Report <test-report@dpdk.org>
Cc: dpdk-test-reports@iol.unh.edu
In-Reply-To: <20240605080953.534998-3-gavinl@nvidia.com>
References: <20240605080953.534998-3-gavinl@nvidia.com>
Content-Type: text/plain
X-BeenThere: test-report@dpdk.org
X-Mailman-Version: 2.1.29
Precedence: list
List-Id: automatic DPDK test reports <test-report.dpdk.org>
List-Unsubscribe: <https://mails.dpdk.org/options/test-report>,
 <mailto:test-report-request@dpdk.org?subject=unsubscribe>
List-Archive: <http://mails.dpdk.org/archives/test-report/>
List-Post: <mailto:test-report@dpdk.org>
List-Help: <mailto:test-report-request@dpdk.org?subject=help>
List-Subscribe: <https://mails.dpdk.org/listinfo/test-report>,
 <mailto:test-report-request@dpdk.org?subject=subscribe>
Errors-To: test-report-bounces@dpdk.org

Test-Label: iol-unit-amd64-testing
Test-Status: SUCCESS
http://dpdk.org/patch/140740

_Testing PASS_

Submitter: Gavin Li <gavinl@nvidia.com>
Date: Wednesday, June 05 2024 08:09:53 
DPDK git baseline: Repo:dpdk
  Branch: master
  CommitID:a6bbf008457a455fcf4cf7374c280bba697a353f

140741-140740 --> testing pass

Test environment and result as below:

+---------------------+----------------+
|     Environment     | dpdk_unit_test |
+=====================+================+
| Windows Server 2019 | PASS           |
+---------------------+----------------+
| Windows Server 2022 | PASS           |
+---------------------+----------------+
| Debian Bullseye     | PASS           |
+---------------------+----------------+
| CentOS Stream 8     | PASS           |
+---------------------+----------------+
| CentOS Stream 9     | PASS           |
+---------------------+----------------+
| Debian 12           | PASS           |
+---------------------+----------------+
| Fedora 37           | PASS           |
+---------------------+----------------+
| Fedora 38           | PASS           |
+---------------------+----------------+
| Fedora 39           | PASS           |
+---------------------+----------------+


Windows Server 2019
	Kernel: 10.0.17763
	Compiler: clang 14.0 and gcc 8.1.0 (MinGW)

Windows Server 2022
	Kernel: 10.0.20348.2031
	Compiler: clang 15.0.7, gcc 8.1.0 (MinGW), and MSVC VS 17.9

Debian Bullseye
	Kernel: 5.4.0-167-generic
	Compiler: gcc 10.2.1-6

CentOS Stream 8
	Kernel: 5.4.0-167-generic
	Compiler: gcc 8.5.0 20210514

CentOS Stream 9
	Kernel: 5.4.0-167-generic
	Compiler: gcc 11.4.1 20230605

Debian 12
	Kernel: Container Host Kernel
	Compiler: gcc 10.2.1

Fedora 37
	Kernel: Depends on container host system
	Compiler: gcc 12.3.1

Fedora 38
	Kernel: Depends on container host
	Compiler: gcc 13.2.1

Fedora 39
	Kernel: Depends on container host
	Compiler: gcc 13.2.1

To view detailed results, visit:
https://lab.dpdk.org/results/dashboard/patchsets/30108/

UNH-IOL DPDK Community Lab

To manage your email subscriptions, visit: 
https://lab.dpdk.org/results/dashboard/preferences/subscriptions/