From mboxrd@z Thu Jan  1 00:00:00 1970
Return-Path: <test-report-bounces@dpdk.org>
Received: from mails.dpdk.org (mails.dpdk.org [217.70.189.124])
	by inbox.dpdk.org (Postfix) with ESMTP id 843A844161
	for <public@inbox.dpdk.org>; Wed,  5 Jun 2024 18:35:18 +0200 (CEST)
Received: from mails.dpdk.org (localhost [127.0.0.1])
	by mails.dpdk.org (Postfix) with ESMTP id 7FAF1402E1;
	Wed,  5 Jun 2024 18:35:18 +0200 (CEST)
Received: from mail-qk1-f228.google.com (mail-qk1-f228.google.com
 [209.85.222.228])
 by mails.dpdk.org (Postfix) with ESMTP id BC35740265
 for <test-report@dpdk.org>; Wed,  5 Jun 2024 18:35:17 +0200 (CEST)
Received: by mail-qk1-f228.google.com with SMTP id
 af79cd13be357-795186ae3efso111787985a.1
 for <test-report@dpdk.org>; Wed, 05 Jun 2024 09:35:17 -0700 (PDT)
DKIM-Signature: v=1; a=rsa-sha256; c=relaxed/relaxed;
 d=iol.unh.edu; s=unh-iol; t=1717605317; x=1718210117; darn=dpdk.org;
 h=references:in-reply-to:cc:to:from:subject:message-id:date:from:to
 :cc:subject:date:message-id:reply-to;
 bh=d40MFNFmwCYMwywNTeO7OnxqwGCorqdnnmlt3SS8aG0=;
 b=Drgg5DBqJhramdlG7Uehxa+IrHcdjGIa2FmjU5n7Vx0qz4A2nEv5x/3fbhUIL4NPxT
 sOyYpoH5Gr0RCjOrCFNzAyzM3KfX1M7Ubp3xQfbqF4BIRqgW2vK34kvacg52Tz36DTJl
 H3r+6BRcruMYZOhZofG0VcxiBbCQvZ1Rbbb1k=
X-Google-DKIM-Signature: v=1; a=rsa-sha256; c=relaxed/relaxed;
 d=1e100.net; s=20230601; t=1717605317; x=1718210117;
 h=references:in-reply-to:cc:to:from:subject:message-id:date
 :x-gm-message-state:from:to:cc:subject:date:message-id:reply-to;
 bh=d40MFNFmwCYMwywNTeO7OnxqwGCorqdnnmlt3SS8aG0=;
 b=af3G3eUjexTo9Q8kuayR7mCYMTwPym798Fmgo+pGk5jaO7wIJOOe1V+X+rJ5a6YyLE
 cykJUxsdGBpHKJJTHwBPntkZLZb39LboNKPqo0ZJRh0Pfdv1A0y6E9jnrcGEMmBfGmQX
 01yWKqpftHZ9A0UKQAfXBsWjhhxTzzh1DZNhXCR0y2IeUunuAusDNtbvHASJuN5DibNC
 2EEbQHiWG7ngik21kFurhm05L7T8be5JyY4Fpyp7P4D/KBr1ye4LFn0tCk1gId9tx7/H
 YjGJxIoRZGHjyr9Toa4lDk2SXGa4Vph4U3d5lFE+9MvK7WeFYkwPdaWWv3jzcKkTppMe
 vv0Q==
X-Gm-Message-State: AOJu0Yy3BzjyL6u+3O56dFysrnjwIjRPBIGRNOaGAFFSrxIo3mDmaThA
 UIOtx2MJV5xum6/jK0nSwYRygzH8BlzoMHm25q4c3DdVCFYf7jcU9tsZqs0X3FQXxa4cOFoJj6d
 ESH0j2edkg2FBFpFMPzEBqYtie93KSP/WZeRTtvFjPNxyrea0xVYSdfOQ
X-Google-Smtp-Source: AGHT+IEeyYLkPIO7pFCqQmwyBRfRcesBjsRwRo3Bv4A3+5KttFCDfGxazYRYc/vCJ8mbJVXloaQXA8UMWPUc
X-Received: by 2002:a05:620a:1024:b0:795:1e8b:1c5e with SMTP id
 af79cd13be357-79523d3578bmr304673785a.6.1717605317047; 
 Wed, 05 Jun 2024 09:35:17 -0700 (PDT)
Received: from postal.iol.unh.edu (postal.iol.unh.edu.
 [2606:4100:3880:1234::84]) by smtp-relay.gmail.com with ESMTPS id
 d75a77b69052e-43ff23d4b9esm3579051cf.10.2024.06.05.09.35.16
 (version=TLS1_2 cipher=ECDHE-ECDSA-AES128-GCM-SHA256 bits=128/128);
 Wed, 05 Jun 2024 09:35:17 -0700 (PDT)
X-Relaying-Domain: iol.unh.edu
Date: Wed, 05 Jun 2024 09:35:17 -0700 (PDT)
Message-ID: <666093c5.050a0220.5e93a.a9f1SMTPIN_ADDED_MISSING@mx.google.com>
Received: from [172.21.0.6] (unknown [172.18.0.240])
 by postal.iol.unh.edu (Postfix) with ESMTP id 7CCDD605C373;
 Wed,  5 Jun 2024 12:35:16 -0400 (EDT)
Subject: |SUCCESS| pw140741-140740 [PATCH] [V3,2/2] app/testpmd: support matc
From: dpdklab@iol.unh.edu
To: Test Report <test-report@dpdk.org>
Cc: dpdk-test-reports@iol.unh.edu
In-Reply-To: <20240605080953.534998-3-gavinl@nvidia.com>
References: <20240605080953.534998-3-gavinl@nvidia.com>
Content-Type: text/plain
X-BeenThere: test-report@dpdk.org
X-Mailman-Version: 2.1.29
Precedence: list
List-Id: automatic DPDK test reports <test-report.dpdk.org>
List-Unsubscribe: <https://mails.dpdk.org/options/test-report>,
 <mailto:test-report-request@dpdk.org?subject=unsubscribe>
List-Archive: <http://mails.dpdk.org/archives/test-report/>
List-Post: <mailto:test-report@dpdk.org>
List-Help: <mailto:test-report-request@dpdk.org?subject=help>
List-Subscribe: <https://mails.dpdk.org/listinfo/test-report>,
 <mailto:test-report-request@dpdk.org?subject=subscribe>
Errors-To: test-report-bounces@dpdk.org

Test-Label: iol-unit-amd64-testing
Test-Status: SUCCESS
http://dpdk.org/patch/140740

_Testing PASS_

Submitter: Gavin Li <gavinl@nvidia.com>
Date: Wednesday, June 05 2024 08:09:53 
DPDK git baseline: Repo:dpdk
  Branch: master
  CommitID:a6bbf008457a455fcf4cf7374c280bba697a353f

140741-140740 --> testing pass

Test environment and result as below:

+---------------------+----------------+
|     Environment     | dpdk_unit_test |
+=====================+================+
| Windows Server 2019 | PASS           |
+---------------------+----------------+
| Windows Server 2022 | PASS           |
+---------------------+----------------+
| Debian Bullseye     | PASS           |
+---------------------+----------------+
| CentOS Stream 8     | PASS           |
+---------------------+----------------+
| CentOS Stream 9     | PASS           |
+---------------------+----------------+
| Debian 12           | PASS           |
+---------------------+----------------+
| Fedora 37           | PASS           |
+---------------------+----------------+
| Fedora 38           | PASS           |
+---------------------+----------------+
| Fedora 39           | PASS           |
+---------------------+----------------+


Windows Server 2019
	Kernel: 10.0.17763
	Compiler: clang 14.0 and gcc 8.1.0 (MinGW)

Windows Server 2022
	Kernel: 10.0.20348.2031
	Compiler: clang 15.0.7, gcc 8.1.0 (MinGW), and MSVC VS 17.9

Debian Bullseye
	Kernel: 5.4.0-167-generic
	Compiler: gcc 10.2.1-6

CentOS Stream 8
	Kernel: 5.4.0-167-generic
	Compiler: gcc 8.5.0 20210514

CentOS Stream 9
	Kernel: 5.4.0-167-generic
	Compiler: gcc 11.4.1 20230605

Debian 12
	Kernel: Container Host Kernel
	Compiler: gcc 10.2.1

Fedora 37
	Kernel: Depends on container host system
	Compiler: gcc 12.3.1

Fedora 38
	Kernel: Depends on container host
	Compiler: gcc 13.2.1

Fedora 39
	Kernel: Depends on container host
	Compiler: gcc 13.2.1

To view detailed results, visit:
https://lab.dpdk.org/results/dashboard/patchsets/30108/

UNH-IOL DPDK Community Lab

To manage your email subscriptions, visit: 
https://lab.dpdk.org/results/dashboard/preferences/subscriptions/