From mboxrd@z Thu Jan  1 00:00:00 1970
Return-Path: <test-report-bounces@dpdk.org>
Received: from mails.dpdk.org (mails.dpdk.org [217.70.189.124])
	by inbox.dpdk.org (Postfix) with ESMTP id C272444161
	for <public@inbox.dpdk.org>; Wed,  5 Jun 2024 19:53:56 +0200 (CEST)
Received: from mails.dpdk.org (localhost [127.0.0.1])
	by mails.dpdk.org (Postfix) with ESMTP id B1C86402E1;
	Wed,  5 Jun 2024 19:53:56 +0200 (CEST)
Received: from mail-il1-f226.google.com (mail-il1-f226.google.com
 [209.85.166.226])
 by mails.dpdk.org (Postfix) with ESMTP id 7184E402C9
 for <test-report@dpdk.org>; Wed,  5 Jun 2024 19:53:55 +0200 (CEST)
Received: by mail-il1-f226.google.com with SMTP id
 e9e14a558f8ab-37494bf9b5cso403595ab.0
 for <test-report@dpdk.org>; Wed, 05 Jun 2024 10:53:55 -0700 (PDT)
DKIM-Signature: v=1; a=rsa-sha256; c=relaxed/relaxed;
 d=iol.unh.edu; s=unh-iol; t=1717610035; x=1718214835; darn=dpdk.org;
 h=references:in-reply-to:cc:to:from:subject:message-id:date:from:to
 :cc:subject:date:message-id:reply-to;
 bh=VK+12XpB2PWmUkj9VnbUda1OWWT0woFHYzY3rN/noL0=;
 b=aRhUnvtvdYCcGBtUEeKIuQfMk4BunrxoQ/z4eRcBkN/wTCg6oiYWrRPn95I8a5kcnB
 IudXdMUU1D+m5ncZQ5daOQD4UDDoKIR8P8J7bUSPp7OCpHqmIyEIpTj0b9mXzD2Ctzx6
 T37dz0gVlGGpyVqpMVqPmMszjmNkFgFpFifnA=
X-Google-DKIM-Signature: v=1; a=rsa-sha256; c=relaxed/relaxed;
 d=1e100.net; s=20230601; t=1717610035; x=1718214835;
 h=references:in-reply-to:cc:to:from:subject:message-id:date
 :x-gm-message-state:from:to:cc:subject:date:message-id:reply-to;
 bh=VK+12XpB2PWmUkj9VnbUda1OWWT0woFHYzY3rN/noL0=;
 b=nTWUCqx3VPL9we3ftay6CY/DdKhgyLM/r5ggpnFSfco5ySvYaNUTeXPLTQRFq9u6R/
 ebsywSS/tv8Qu+Z/mxo9EE8r+PxXxkUGsSAs2fw7AX3ABlA+T24HC/moM0SkRCakmgB+
 pXQIoyxh3gY8KW6xoZPThAKQRaskRVwCDmVmHJZEaGb9ZgNrPNc64T/df0yIHF5xrTGC
 wU3nBu9ydGyJj97MjwmP7trz6gnkO55oXvsXGe3scEmK5WLUz8OIGS3bQXl2BVNCUfLz
 iChwXFWnmrUc5nTKdEQd5UDyJjKcrjrtVOSsBpXn3zgMMnd+TODwBTojULZqQnU4GRmn
 0wdQ==
X-Gm-Message-State: AOJu0YxGP7M6Fuw9zDGH3Kd14XnH92Xh7U7/9b1v0ozI1c9oKizrsp/b
 jHTNdwNLXbY8GkUrfuil4RWAfu7L4Knsimu7MSZWXPaOfTCAJ5w2L6ERxTh48MVOUGgU2JtJ+bw
 ASWVMN5wcBCIsgS0CYuRCSYiowBygzTIaOJMSG6N+OfXJJmwGNuT4jzbN
X-Google-Smtp-Source: AGHT+IFlSh+a78b/aHa6Ln+77UoWb9+X8LEojHNX2sb8vBvQVeYz5rXig1gFs5IPsrF5AsvsVvEqRlMlzUqI
X-Received: by 2002:a92:ca4f:0:b0:374:5289:e839 with SMTP id
 e9e14a558f8ab-374b1ee21d9mr36904645ab.5.1717610034909; 
 Wed, 05 Jun 2024 10:53:54 -0700 (PDT)
Received: from postal.iol.unh.edu (postal.iol.unh.edu.
 [2606:4100:3880:1234::84]) by smtp-relay.gmail.com with ESMTPS id
 8926c6da1cb9f-4b5aceb6c34sm166983173.49.2024.06.05.10.53.54
 (version=TLS1_2 cipher=ECDHE-ECDSA-AES128-GCM-SHA256 bits=128/128);
 Wed, 05 Jun 2024 10:53:54 -0700 (PDT)
X-Relaying-Domain: iol.unh.edu
Date: Wed, 05 Jun 2024 10:53:54 -0700 (PDT)
Message-ID: <6660a632.050a0220.1f8ec6.caa1SMTPIN_ADDED_MISSING@mx.google.com>
Received: from [172.21.0.7] (unknown [172.18.0.240])
 by postal.iol.unh.edu (Postfix) with ESMTP id 55748605C373;
 Wed,  5 Jun 2024 13:53:54 -0400 (EDT)
Subject: |SUCCESS| pw140741-140740 [PATCH] [V3,2/2] app/testpmd: support matc
From: dpdklab@iol.unh.edu
To: Test Report <test-report@dpdk.org>
Cc: dpdk-test-reports@iol.unh.edu
In-Reply-To: <20240605080953.534998-3-gavinl@nvidia.com>
References: <20240605080953.534998-3-gavinl@nvidia.com>
Content-Type: text/plain
X-BeenThere: test-report@dpdk.org
X-Mailman-Version: 2.1.29
Precedence: list
List-Id: automatic DPDK test reports <test-report.dpdk.org>
List-Unsubscribe: <https://mails.dpdk.org/options/test-report>,
 <mailto:test-report-request@dpdk.org?subject=unsubscribe>
List-Archive: <http://mails.dpdk.org/archives/test-report/>
List-Post: <mailto:test-report@dpdk.org>
List-Help: <mailto:test-report-request@dpdk.org?subject=help>
List-Subscribe: <https://mails.dpdk.org/listinfo/test-report>,
 <mailto:test-report-request@dpdk.org?subject=subscribe>
Errors-To: test-report-bounces@dpdk.org

Test-Label: iol-compile-arm64-testing
Test-Status: SUCCESS
http://dpdk.org/patch/140740

_Testing PASS_

Submitter: Gavin Li <gavinl@nvidia.com>
Date: Wednesday, June 05 2024 08:09:53 
DPDK git baseline: Repo:dpdk
  Branch: master
  CommitID:a6bbf008457a455fcf4cf7374c280bba697a353f

140741-140740 --> testing pass

Test environment and result as below:

+----------------------------------------+--------------------+
|              Environment               | dpdk_meson_compile |
+========================================+====================+
| Ubuntu 20.04 ARM SVE                   | PASS               |
+----------------------------------------+--------------------+
| Debian 12 with MUSDK                   | PASS               |
+----------------------------------------+--------------------+
| Fedora 39 (ARM)                        | PASS               |
+----------------------------------------+--------------------+
| Fedora 37 (ARM)                        | PASS               |
+----------------------------------------+--------------------+
| CentOS Stream 9 (ARM)                  | PASS               |
+----------------------------------------+--------------------+
| Ubuntu 20.04 aarch32 GCC Cross Compile | PASS               |
+----------------------------------------+--------------------+
| Ubuntu 20.04 ARM Clang Cross Compile   | PASS               |
+----------------------------------------+--------------------+
| Fedora 38 (ARM)                        | PASS               |
+----------------------------------------+--------------------+
| Debian 12 (arm)                        | PASS               |
+----------------------------------------+--------------------+
| Ubuntu 20.04 (ARM)                     | PASS               |
+----------------------------------------+--------------------+
| Ubuntu 22.04 (ARM)                     | PASS               |
+----------------------------------------+--------------------+


Ubuntu 20.04 ARM SVE
	Kernel: 5.4.0-167-generic
	Compiler: gcc (Ubuntu 10.5.0-1ubuntu1~20.04) 10.5.0

Debian 12 with MUSDK
	Kernel: Container Host Kernel
	Compiler: gcc 12.2.0

Fedora 39 (ARM)
	Kernel: Depends on container host
	Compiler: gcc 13.2.1

Fedora 37 (ARM)
	Kernel: Depends on container host
	Compiler: gcc 12.3.1

CentOS Stream 9 (ARM)
	Kernel: Container Host Kernel
	Compiler: gcc 11.4.1

Ubuntu 20.04 aarch32 GCC Cross Compile
	Kernel: 5.4.0-167-generic
	Compiler: gcc 9.4.0

Ubuntu 20.04 ARM Clang Cross Compile
	Kernel: 5.4.0-72-generic
	Compiler: clang 10.0.0-4ubuntu1

Fedora 38 (ARM)
	Kernel: Depends on container host
	Compiler: gcc 13.2.1

Debian 12 (arm)
	Kernel: Container Host Kernel
	Compiler: gcc 12.2.0

Ubuntu 20.04 (ARM)
	Kernel: Container Host Kernel
	Compiler: gcc 9.4.0

Ubuntu 22.04 (ARM)
	Kernel: Container Host Kernel
	Compiler: gcc 11.4.0

To view detailed results, visit:
https://lab.dpdk.org/results/dashboard/patchsets/30108/

UNH-IOL DPDK Community Lab

To manage your email subscriptions, visit: 
https://lab.dpdk.org/results/dashboard/preferences/subscriptions/