From mboxrd@z Thu Jan  1 00:00:00 1970
Return-Path: <test-report-bounces@dpdk.org>
Received: from mails.dpdk.org (mails.dpdk.org [217.70.189.124])
	by inbox.dpdk.org (Postfix) with ESMTP id 58DF744165
	for <public@inbox.dpdk.org>; Wed,  5 Jun 2024 21:48:24 +0200 (CEST)
Received: from mails.dpdk.org (localhost [127.0.0.1])
	by mails.dpdk.org (Postfix) with ESMTP id 53531402C9;
	Wed,  5 Jun 2024 21:48:24 +0200 (CEST)
Received: from mail-pj1-f100.google.com (mail-pj1-f100.google.com
 [209.85.216.100])
 by mails.dpdk.org (Postfix) with ESMTP id 4D679400EF
 for <test-report@dpdk.org>; Wed,  5 Jun 2024 21:48:23 +0200 (CEST)
Received: by mail-pj1-f100.google.com with SMTP id
 98e67ed59e1d1-2c21574d8ddso180837a91.0
 for <test-report@dpdk.org>; Wed, 05 Jun 2024 12:48:23 -0700 (PDT)
DKIM-Signature: v=1; a=rsa-sha256; c=relaxed/relaxed;
 d=iol.unh.edu; s=unh-iol; t=1717616902; x=1718221702; darn=dpdk.org;
 h=references:in-reply-to:cc:to:from:subject:message-id:date:from:to
 :cc:subject:date:message-id:reply-to;
 bh=azfHEvasGVXlqn9t8a6nliub0GOdXZ5NapE/p+US51g=;
 b=ioRu1QmCX3u/cYRhzNZfL+iiEO+/iU3x16xq7HRI8LHKpgWfygIZAoW6NigddZkMcP
 F/zq+NHimk6tG2HQGlqsySm9UBDCUZFubMTs4DRNmeQS9FSs/BFCEN2E3+oh57gr5TK5
 9d0iHFSxK8hsfLg+iQiRItEz0sXDGad3vrR08=
X-Google-DKIM-Signature: v=1; a=rsa-sha256; c=relaxed/relaxed;
 d=1e100.net; s=20230601; t=1717616902; x=1718221702;
 h=references:in-reply-to:cc:to:from:subject:message-id:date
 :x-gm-message-state:from:to:cc:subject:date:message-id:reply-to;
 bh=azfHEvasGVXlqn9t8a6nliub0GOdXZ5NapE/p+US51g=;
 b=YkEqlgLsrUDYAyTC5VaMmPfhqcS20RduGujeoBY6RN/MiSphcXIiqIraCi+3Vu29Mn
 VkFH3QEuus6Mhh3U4MXW+dZjJ1NNEuGKdBRpqaiqIiSvJ3zD6zTPtH03dfnBImvMo90j
 By8nIyLo0ZRHHxxHyZCcEBx1Aokq6OzoWr4H8fJY3ntq1reqSuVrFIG8dI7vEkengPpf
 wxR1S7nZKbll/dX0RGFGhW9vkJjaNq0HZfBturAwMmlrsrDqwKCvgy6CROVh33qLTQTC
 QAD5MYPOWTX2QSjQ/Y+buKDXPDuZ3RjoA9p2zbbt8mgrQrHH7+0+Hr3+sSdOXxBZSI8t
 Y3/Q==
X-Gm-Message-State: AOJu0YzZ/0F4dNhaHodjGz9SbEM470PCWoHGNz5R6nuuEioexwBECmIw
 FQWwIMo8f00l3zEwuUSqstBtPYeF3nSnGyWZT4gmfGLZY8rjDEM25eN7ulqT2ZCcox/25qWR5ux
 EI6ga5sg5+bJE7PwCoKNNggFhUdRuSwRbFDvII5Wx6GvEUk8mi1hXsIoe
X-Google-Smtp-Source: AGHT+IGEAeOL3uCDaClB/4kWlZz1raUVK89/FcNeuELKzH6gLYW0855XL0ZaE8B/uOzFYrvB4zqdWebn2DMx
X-Received: by 2002:a17:90b:4b12:b0:2c1:c648:1c6c with SMTP id
 98e67ed59e1d1-2c27db6807amr3162881a91.49.1717616902422; 
 Wed, 05 Jun 2024 12:48:22 -0700 (PDT)
Received: from postal.iol.unh.edu (postal.iol.unh.edu.
 [2606:4100:3880:1234::84]) by smtp-relay.gmail.com with ESMTPS id
 98e67ed59e1d1-2c28066166dsm129710a91.5.2024.06.05.12.48.22
 (version=TLS1_2 cipher=ECDHE-ECDSA-AES128-GCM-SHA256 bits=128/128);
 Wed, 05 Jun 2024 12:48:22 -0700 (PDT)
X-Relaying-Domain: iol.unh.edu
Date: Wed, 05 Jun 2024 12:48:22 -0700 (PDT)
Message-ID: <6660c106.170a0220.148839.aeafSMTPIN_ADDED_MISSING@mx.google.com>
Received: from [172.21.0.6] (unknown [172.18.0.240])
 by postal.iol.unh.edu (Postfix) with ESMTP id 72F3B605C373;
 Wed,  5 Jun 2024 15:48:21 -0400 (EDT)
Subject: |SUCCESS| pw140741-140740 [PATCH] [V3,2/2] app/testpmd: support matc
From: dpdklab@iol.unh.edu
To: Test Report <test-report@dpdk.org>
Cc: dpdk-test-reports@iol.unh.edu
In-Reply-To: <20240605080953.534998-3-gavinl@nvidia.com>
References: <20240605080953.534998-3-gavinl@nvidia.com>
Content-Type: text/plain
X-BeenThere: test-report@dpdk.org
X-Mailman-Version: 2.1.29
Precedence: list
List-Id: automatic DPDK test reports <test-report.dpdk.org>
List-Unsubscribe: <https://mails.dpdk.org/options/test-report>,
 <mailto:test-report-request@dpdk.org?subject=unsubscribe>
List-Archive: <http://mails.dpdk.org/archives/test-report/>
List-Post: <mailto:test-report@dpdk.org>
List-Help: <mailto:test-report-request@dpdk.org?subject=help>
List-Subscribe: <https://mails.dpdk.org/listinfo/test-report>,
 <mailto:test-report-request@dpdk.org?subject=subscribe>
Errors-To: test-report-bounces@dpdk.org

Test-Label: iol-compile-arm64-testing
Test-Status: SUCCESS
http://dpdk.org/patch/140740

_Testing PASS_

Submitter: Gavin Li <gavinl@nvidia.com>
Date: Wednesday, June 05 2024 08:09:53 
DPDK git baseline: Repo:dpdk
  Branch: master
  CommitID:a6bbf008457a455fcf4cf7374c280bba697a353f

140741-140740 --> testing pass

Test environment and result as below:

+----------------------------------------+--------------------+
|              Environment               | dpdk_meson_compile |
+========================================+====================+
| Ubuntu 20.04 ARM SVE                   | PASS               |
+----------------------------------------+--------------------+
| Debian 12 with MUSDK                   | PASS               |
+----------------------------------------+--------------------+
| Fedora 39 (ARM)                        | PASS               |
+----------------------------------------+--------------------+
| Fedora 37 (ARM)                        | PASS               |
+----------------------------------------+--------------------+
| CentOS Stream 9 (ARM)                  | PASS               |
+----------------------------------------+--------------------+
| Ubuntu 20.04 aarch32 GCC Cross Compile | PASS               |
+----------------------------------------+--------------------+
| Ubuntu 20.04 ARM Clang Cross Compile   | PASS               |
+----------------------------------------+--------------------+
| Fedora 38 (ARM)                        | PASS               |
+----------------------------------------+--------------------+
| Debian 12 (arm)                        | PASS               |
+----------------------------------------+--------------------+
| Ubuntu 20.04 (ARM)                     | PASS               |
+----------------------------------------+--------------------+
| Ubuntu 22.04 (ARM)                     | PASS               |
+----------------------------------------+--------------------+
| Ubuntu 20.04 ARM GCC Cross Compile     | PASS               |
+----------------------------------------+--------------------+
| Fedora 38 (ARM Clang)                  | PASS               |
+----------------------------------------+--------------------+
| Fedora 39 (ARM Clang)                  | PASS               |
+----------------------------------------+--------------------+
| Debian 11 (Buster) (ARM)               | PASS               |
+----------------------------------------+--------------------+
| Ubuntu 24.04 (ARM)                     | PASS               |
+----------------------------------------+--------------------+


Ubuntu 20.04 ARM SVE
	Kernel: 5.4.0-167-generic
	Compiler: gcc (Ubuntu 10.5.0-1ubuntu1~20.04) 10.5.0

Debian 12 with MUSDK
	Kernel: Container Host Kernel
	Compiler: gcc 12.2.0

Fedora 39 (ARM)
	Kernel: Depends on container host
	Compiler: gcc 13.2.1

Fedora 37 (ARM)
	Kernel: Depends on container host
	Compiler: gcc 12.3.1

CentOS Stream 9 (ARM)
	Kernel: Container Host Kernel
	Compiler: gcc 11.4.1

Ubuntu 20.04 aarch32 GCC Cross Compile
	Kernel: 5.4.0-167-generic
	Compiler: gcc 9.4.0

Ubuntu 20.04 ARM Clang Cross Compile
	Kernel: 5.4.0-72-generic
	Compiler: clang 10.0.0-4ubuntu1

Fedora 38 (ARM)
	Kernel: Depends on container host
	Compiler: gcc 13.2.1

Debian 12 (arm)
	Kernel: Container Host Kernel
	Compiler: gcc 12.2.0

Ubuntu 20.04 (ARM)
	Kernel: Container Host Kernel
	Compiler: gcc 9.4.0

Ubuntu 22.04 (ARM)
	Kernel: Container Host Kernel
	Compiler: gcc 11.4.0

Ubuntu 20.04 ARM GCC Cross Compile
	Kernel: 5.4.0-167-generic
	Compiler: aarch64-linux-gnu-gcc (Ubuntu 9.4.0-1ubuntu1~20.04.2) 9.4.0

Fedora 38 (ARM Clang)
	Kernel: Depends on container host
	Compiler: clang 16.0.6

Fedora 39 (ARM Clang)
	Kernel: Depends on container host
	Compiler: clang 17.0.6

Debian 11 (Buster) (ARM)
	Kernel: Container Host Kernel
	Compiler: gcc 10.2.1

Ubuntu 24.04 (ARM)
	Kernel: 5.4.0-167-generic
	Compiler: gcc 13.2.0

To view detailed results, visit:
https://lab.dpdk.org/results/dashboard/patchsets/30108/

UNH-IOL DPDK Community Lab

To manage your email subscriptions, visit: 
https://lab.dpdk.org/results/dashboard/preferences/subscriptions/