From mboxrd@z Thu Jan  1 00:00:00 1970
Return-Path: <test-report-bounces@dpdk.org>
Received: from mails.dpdk.org (mails.dpdk.org [217.70.189.124])
	by inbox.dpdk.org (Postfix) with ESMTP id B8D2044165
	for <public@inbox.dpdk.org>; Wed,  5 Jun 2024 21:50:45 +0200 (CEST)
Received: from mails.dpdk.org (localhost [127.0.0.1])
	by mails.dpdk.org (Postfix) with ESMTP id 963F1402C9;
	Wed,  5 Jun 2024 21:50:45 +0200 (CEST)
Received: from mail-yw1-f227.google.com (mail-yw1-f227.google.com
 [209.85.128.227])
 by mails.dpdk.org (Postfix) with ESMTP id 760C3400EF
 for <test-report@dpdk.org>; Wed,  5 Jun 2024 21:50:44 +0200 (CEST)
Received: by mail-yw1-f227.google.com with SMTP id
 00721157ae682-62a145e0bb2so1597017b3.0
 for <test-report@dpdk.org>; Wed, 05 Jun 2024 12:50:44 -0700 (PDT)
DKIM-Signature: v=1; a=rsa-sha256; c=relaxed/relaxed;
 d=iol.unh.edu; s=unh-iol; t=1717617044; x=1718221844; darn=dpdk.org;
 h=references:in-reply-to:cc:to:from:subject:message-id:date:from:to
 :cc:subject:date:message-id:reply-to;
 bh=vzgTIbThcp5VVCSd/RBxMdQwRFUDUnSeaqx615tdoxQ=;
 b=T05lc+GEssfJY0BSewUh04QFOL+3SC3s0F/mqdBS+JUBti1tTq1huXD0jclExv/PcS
 xsYxkMxFuLSA11Gy2jik+Hgd7XbXhPXakt/tf+XCvsZpcN7OqX+9YgQ6Tv6rXsmaOV1E
 vO3JtT27OVsbiu5MhwjmsmUF9HCi7n0E2BygI=
X-Google-DKIM-Signature: v=1; a=rsa-sha256; c=relaxed/relaxed;
 d=1e100.net; s=20230601; t=1717617044; x=1718221844;
 h=references:in-reply-to:cc:to:from:subject:message-id:date
 :x-gm-message-state:from:to:cc:subject:date:message-id:reply-to;
 bh=vzgTIbThcp5VVCSd/RBxMdQwRFUDUnSeaqx615tdoxQ=;
 b=G0sxG7zPDqhOT4AIetIpzSGw3zR3PnZoOOR/aWNUONpXVG1xEUNlCwr2YP8dWjfuPf
 hWBsoc+uUNTsrZVEci/Gikl5s6TKXk0z2aNOxI7lLz9CQpvufv9QcVZWktF+AdknqBEU
 SIieAkxq2RQ1XDrcq+Ebim3A55pxgTlNxN1S40kOBS9lVEUxaNleh3s9fHyUmBiZOn/i
 U0+3ejwfmq+WcjrJUkbsw6JIcxOufYasntl2WGGcZ9Y9+9wpLAtmkE8nh0eRSycI6oIB
 E3WqLwSIm2qDGoWuAvorRMeHWYBKkmqThCI1IRJMG8V2VitB4lv+cO+j0liNUPPD5SGf
 FauA==
X-Gm-Message-State: AOJu0YwiXJBccE3nP0/shZRTSIzi8jAuQUoXt2PT6Cu8CR2TsSJndSZ/
 3g4LyUckzzb1paq4NqdYNGS3raP0rg/YWJmquxyZ47FIqnw/l4pRowmqPu5c9wBIM2v+y5vGamt
 AG/xQ9yC4YBSOC6s918YBVnvYxluoTic1wpLWhxee+08NoIwd8Z7+NsSa
X-Google-Smtp-Source: AGHT+IHly455j8BvP7hkY8uFcozV5vycF+JUpdDFlJx1pFoJelJ0rk2jiVm7j6yB5Gz6xAO6/8yykZp/Xhpy
X-Received: by 2002:a0d:efc4:0:b0:61a:b89a:2744 with SMTP id
 00721157ae682-62cbb5dcfdbmr37968437b3.46.1717617043751; 
 Wed, 05 Jun 2024 12:50:43 -0700 (PDT)
Received: from postal.iol.unh.edu (postal.iol.unh.edu.
 [2606:4100:3880:1234::84]) by smtp-relay.gmail.com with ESMTPS id
 00721157ae682-62c765f8640sm4694487b3.12.2024.06.05.12.50.43
 (version=TLS1_2 cipher=ECDHE-ECDSA-AES128-GCM-SHA256 bits=128/128);
 Wed, 05 Jun 2024 12:50:43 -0700 (PDT)
X-Relaying-Domain: iol.unh.edu
Date: Wed, 05 Jun 2024 12:50:43 -0700 (PDT)
Message-ID: <6660c193.050a0220.5434c.5866SMTPIN_ADDED_MISSING@mx.google.com>
Received: from [172.21.0.6] (unknown [172.18.0.240])
 by postal.iol.unh.edu (Postfix) with ESMTP id 5AF5C605C373;
 Wed,  5 Jun 2024 15:50:43 -0400 (EDT)
Subject: |SUCCESS| pw140755-140756 [PATCH] [v7,3/3] net/mlx5: implement VXLAN
From: dpdklab@iol.unh.edu
To: Test Report <test-report@dpdk.org>
Cc: dpdk-test-reports@iol.unh.edu
In-Reply-To: <20240605130419.145311-4-rongweil@nvidia.com>
References: <20240605130419.145311-4-rongweil@nvidia.com>
Content-Type: text/plain
X-BeenThere: test-report@dpdk.org
X-Mailman-Version: 2.1.29
Precedence: list
List-Id: automatic DPDK test reports <test-report.dpdk.org>
List-Unsubscribe: <https://mails.dpdk.org/options/test-report>,
 <mailto:test-report-request@dpdk.org?subject=unsubscribe>
List-Archive: <http://mails.dpdk.org/archives/test-report/>
List-Post: <mailto:test-report@dpdk.org>
List-Help: <mailto:test-report-request@dpdk.org?subject=help>
List-Subscribe: <https://mails.dpdk.org/listinfo/test-report>,
 <mailto:test-report-request@dpdk.org?subject=subscribe>
Errors-To: test-report-bounces@dpdk.org

Test-Label: iol-unit-arm64-testing
Test-Status: SUCCESS
http://dpdk.org/patch/140756

_Testing PASS_

Submitter: Rongwei Liu <rongweil@nvidia.com>
Date: Wednesday, June 05 2024 13:04:19 
DPDK git baseline: Repo:dpdk
  Branch: master
  CommitID:a6bbf008457a455fcf4cf7374c280bba697a353f

140755-140756 --> testing pass

Test environment and result as below:

+-----------------------------+----------------+
|         Environment         | dpdk_unit_test |
+=============================+================+
| CentOS Stream 9 (ARM)       | PASS           |
+-----------------------------+----------------+
| 32-bit Ubuntu 20.04.4 (ARM) | PASS           |
+-----------------------------+----------------+
| Debian 12 (arm)             | PASS           |
+-----------------------------+----------------+
| Fedora 37 (ARM)             | PASS           |
+-----------------------------+----------------+
| Debian 11 (Buster) (ARM)    | PASS           |
+-----------------------------+----------------+
| Fedora 38 (ARM Clang)       | PASS           |
+-----------------------------+----------------+
| Fedora 39 (ARM)             | PASS           |
+-----------------------------+----------------+
| Fedora 38 (ARM)             | PASS           |
+-----------------------------+----------------+


CentOS Stream 9 (ARM)
	Kernel: Container Host Kernel
	Compiler: gcc 11.4.1

32-bit Ubuntu 20.04.4 (ARM)
	Kernel: 5.4.0-155-generic aarch64
	Compiler: gcc 9.4

Debian 12 (arm)
	Kernel: Container Host Kernel
	Compiler: gcc 12.2.0

Fedora 37 (ARM)
	Kernel: Depends on container host
	Compiler: gcc 12.3.1

Debian 11 (Buster) (ARM)
	Kernel: Container Host Kernel
	Compiler: gcc 10.2.1

Fedora 38 (ARM Clang)
	Kernel: Depends on container host
	Compiler: clang 16.0.6

Fedora 39 (ARM)
	Kernel: Depends on container host
	Compiler: gcc 13.2.1

Fedora 38 (ARM)
	Kernel: Depends on container host
	Compiler: gcc 13.2.1

To view detailed results, visit:
https://lab.dpdk.org/results/dashboard/patchsets/30115/

UNH-IOL DPDK Community Lab

To manage your email subscriptions, visit: 
https://lab.dpdk.org/results/dashboard/preferences/subscriptions/