From mboxrd@z Thu Jan  1 00:00:00 1970
Return-Path: <test-report-bounces@dpdk.org>
Received: from mails.dpdk.org (mails.dpdk.org [217.70.189.124])
	by inbox.dpdk.org (Postfix) with ESMTP id A54524416B
	for <public@inbox.dpdk.org>; Thu,  6 Jun 2024 01:31:06 +0200 (CEST)
Received: from mails.dpdk.org (localhost [127.0.0.1])
	by mails.dpdk.org (Postfix) with ESMTP id A158B4027D;
	Thu,  6 Jun 2024 01:31:06 +0200 (CEST)
Received: from mail-qv1-f100.google.com (mail-qv1-f100.google.com
 [209.85.219.100])
 by mails.dpdk.org (Postfix) with ESMTP id 9CB5E40268
 for <test-report@dpdk.org>; Thu,  6 Jun 2024 01:31:05 +0200 (CEST)
Received: by mail-qv1-f100.google.com with SMTP id
 6a1803df08f44-6ae1b32752aso1841616d6.0
 for <test-report@dpdk.org>; Wed, 05 Jun 2024 16:31:05 -0700 (PDT)
DKIM-Signature: v=1; a=rsa-sha256; c=relaxed/relaxed;
 d=iol.unh.edu; s=unh-iol; t=1717630265; x=1718235065; darn=dpdk.org;
 h=references:in-reply-to:cc:to:from:subject:message-id:date:from:to
 :cc:subject:date:message-id:reply-to;
 bh=vB9QFvaCA1hqb0BXivoqNsPHMpu3KlKi2OzOw11uiOs=;
 b=LiwHEl1EpLIOyltnACXsr//SEislAupNfxyIbwuIhK8qVSnLBoRM4C6K5LYHU4rd3m
 xIMbx6r94v+lD+TSSnogeU5wLwjduB1+mizH/loNYgc+W9AC8lxXmJLg9ctI7qFOezuq
 vCzMXxb/T51I8nDJl85ctxW9+hfoWgHrDZ4Jg=
X-Google-DKIM-Signature: v=1; a=rsa-sha256; c=relaxed/relaxed;
 d=1e100.net; s=20230601; t=1717630265; x=1718235065;
 h=references:in-reply-to:cc:to:from:subject:message-id:date
 :x-gm-message-state:from:to:cc:subject:date:message-id:reply-to;
 bh=vB9QFvaCA1hqb0BXivoqNsPHMpu3KlKi2OzOw11uiOs=;
 b=FvlN6yfbPtgw8QNDYeZP2cvbweDXKS1dlTjWh1Oj9ePkc3l451Y6sv5aeNltoxt7Sj
 feeJ3U0gG+wfdPHDKNvQDIZsQc+W3OM1HYmkYqzcaNF3en8anPDuuYERvqms9cmDrfIO
 8AaHQ1lBnpUhDF0Exf2mUN7zkS0AZrdTU/e/4luYAQS1IXMKO1/ZnGc59oiDBn8n1s3Z
 yxwLAg6xAmc+yhDGX2+P+OUaJSYdB3anSWgcBe3s+E1nHijjYGY4FWg9V1zJIKY9NMvt
 qJQ3pjAtbrzvet3WETBs6Av0lIGlsl7/kNQyCYLC4lcdM2h03rZrSycmNFFpDrhrSRUg
 MX1w==
X-Gm-Message-State: AOJu0YzswwVDuKQA4VULfKy7vTK4XsoysLp6QRymrIJRhyipIBtocZCB
 1ouEq5TK5pam63q/5kuieE3LqS15XEAY9xS4jN7/uj1zxtyp87wMQTlcenUqn6whNinZyWzh0kl
 381KwNieLiA2TjVTwOuc37sRPF1GUJZGt+pUeELUqXhsvHMlsiK+EH5qh
X-Google-Smtp-Source: AGHT+IEbqPLcdI53T7Mf5Y2ZkZeT+f3PIbUNJYSfLFuoO45HE65kbhzkTFH922gEBMLpEY23kz0Bt+n5AzA1
X-Received: by 2002:a05:6214:4198:b0:6ad:16a5:4842 with SMTP id
 6a1803df08f44-6b02bf3dfddmr39582206d6.15.1717630265049; 
 Wed, 05 Jun 2024 16:31:05 -0700 (PDT)
Received: from postal.iol.unh.edu (postal.iol.unh.edu.
 [2606:4100:3880:1234::84]) by smtp-relay.gmail.com with ESMTPS id
 6a1803df08f44-6b04fa3e98bsm42046d6.78.2024.06.05.16.31.04
 (version=TLS1_2 cipher=ECDHE-ECDSA-AES128-GCM-SHA256 bits=128/128);
 Wed, 05 Jun 2024 16:31:05 -0700 (PDT)
X-Relaying-Domain: iol.unh.edu
Date: Wed, 05 Jun 2024 16:31:05 -0700 (PDT)
Message-ID: <6660f539.050a0220.287885.04e7SMTPIN_ADDED_MISSING@mx.google.com>
Received: from [172.21.0.6] (unknown [172.18.0.240])
 by postal.iol.unh.edu (Postfix) with ESMTP id C3E69605C380;
 Wed,  5 Jun 2024 19:31:04 -0400 (EDT)
Subject: |SUCCESS| pw140748-140747 [PATCH] [v2,3/3] net/mlx5: add external Tx
From: dpdklab@iol.unh.edu
To: Test Report <test-report@dpdk.org>
Cc: dpdk-test-reports@iol.unh.edu
In-Reply-To: <20240605093141.1826221-3-suanmingm@nvidia.com>
References: <20240605093141.1826221-3-suanmingm@nvidia.com>
Content-Type: text/plain
X-BeenThere: test-report@dpdk.org
X-Mailman-Version: 2.1.29
Precedence: list
List-Id: automatic DPDK test reports <test-report.dpdk.org>
List-Unsubscribe: <https://mails.dpdk.org/options/test-report>,
 <mailto:test-report-request@dpdk.org?subject=unsubscribe>
List-Archive: <http://mails.dpdk.org/archives/test-report/>
List-Post: <mailto:test-report@dpdk.org>
List-Help: <mailto:test-report-request@dpdk.org?subject=help>
List-Subscribe: <https://mails.dpdk.org/listinfo/test-report>,
 <mailto:test-report-request@dpdk.org?subject=subscribe>
Errors-To: test-report-bounces@dpdk.org

Test-Label: iol-unit-amd64-testing
Test-Status: SUCCESS
http://dpdk.org/patch/140747

_Testing PASS_

Submitter: Suanming Mou <suanmingm@nvidia.com>
Date: Wednesday, June 05 2024 09:31:41 
DPDK git baseline: Repo:dpdk
  Branch: master
  CommitID:a207de9a356ef890dd858064ee94e15f0841f0e1

140748-140747 --> testing pass

Test environment and result as below:

+---------------------+----------------+
|     Environment     | dpdk_unit_test |
+=====================+================+
| Windows Server 2019 | PASS           |
+---------------------+----------------+
| Windows Server 2022 | PASS           |
+---------------------+----------------+
| CentOS Stream 9     | PASS           |
+---------------------+----------------+
| CentOS Stream 8     | PASS           |
+---------------------+----------------+
| Debian Bullseye     | PASS           |
+---------------------+----------------+
| Debian 12           | PASS           |
+---------------------+----------------+
| Fedora 37           | PASS           |
+---------------------+----------------+


Windows Server 2019
	Kernel: 10.0.17763
	Compiler: clang 14.0 and gcc 8.1.0 (MinGW)

Windows Server 2022
	Kernel: 10.0.20348.2031
	Compiler: clang 15.0.7, gcc 8.1.0 (MinGW), and MSVC VS 17.9

CentOS Stream 9
	Kernel: 5.4.0-167-generic
	Compiler: gcc 11.4.1 20230605

CentOS Stream 8
	Kernel: 5.4.0-167-generic
	Compiler: gcc 8.5.0 20210514

Debian Bullseye
	Kernel: 5.4.0-167-generic
	Compiler: gcc 10.2.1-6

Debian 12
	Kernel: Container Host Kernel
	Compiler: gcc 10.2.1

Fedora 37
	Kernel: Depends on container host system
	Compiler: gcc 12.3.1

To view detailed results, visit:
https://lab.dpdk.org/results/dashboard/patchsets/30112/

UNH-IOL DPDK Community Lab

To manage your email subscriptions, visit: 
https://lab.dpdk.org/results/dashboard/preferences/subscriptions/