From mboxrd@z Thu Jan  1 00:00:00 1970
Return-Path: <test-report-bounces@dpdk.org>
Received: from mails.dpdk.org (mails.dpdk.org [217.70.189.124])
	by inbox.dpdk.org (Postfix) with ESMTP id 9B8D24416A
	for <public@inbox.dpdk.org>; Thu,  6 Jun 2024 15:52:23 +0200 (CEST)
Received: from mails.dpdk.org (localhost [127.0.0.1])
	by mails.dpdk.org (Postfix) with ESMTP id 75D6640E96;
	Thu,  6 Jun 2024 15:52:23 +0200 (CEST)
Received: from mail-oi1-f225.google.com (mail-oi1-f225.google.com
 [209.85.167.225])
 by mails.dpdk.org (Postfix) with ESMTP id 94EE9402E7
 for <test-report@dpdk.org>; Thu,  6 Jun 2024 15:52:21 +0200 (CEST)
Received: by mail-oi1-f225.google.com with SMTP id
 5614622812f47-3d1facdf12bso355568b6e.0
 for <test-report@dpdk.org>; Thu, 06 Jun 2024 06:52:21 -0700 (PDT)
DKIM-Signature: v=1; a=rsa-sha256; c=relaxed/relaxed;
 d=iol.unh.edu; s=unh-iol; t=1717681941; x=1718286741; darn=dpdk.org;
 h=references:in-reply-to:cc:to:from:subject:message-id:date:from:to
 :cc:subject:date:message-id:reply-to;
 bh=RaTHfGjx1OfcGJtPwYaAQIxyFE+2ohXGCOn5V+/SeOI=;
 b=W8cdQxjNkM15VbGKExHpWQjrZSdj8jEtGmITnqsR95DukphPbsDS51CwIkSSfkLGL6
 HCiUlD5Nep36Uh+SX1WOjM+9Kltlp94oCKKyAguE3LCNG449VtmJdGA+SN/PMMyBlEeq
 qA45IRbPrQKZvG83k15orR5Mx2xRlT5qtDoRA=
X-Google-DKIM-Signature: v=1; a=rsa-sha256; c=relaxed/relaxed;
 d=1e100.net; s=20230601; t=1717681941; x=1718286741;
 h=references:in-reply-to:cc:to:from:subject:message-id:date
 :x-gm-message-state:from:to:cc:subject:date:message-id:reply-to;
 bh=RaTHfGjx1OfcGJtPwYaAQIxyFE+2ohXGCOn5V+/SeOI=;
 b=ixjWO2cVo5QFd1wSUmbw+fr8j2lkeHazogOuRDLkOb0B7lfuhvhYSgVU/HiC+zQKIv
 24uV6W0zEO2qbiBJHlRD2PZYpp8ns1ikAq+1PW35s6Kwmj4j4wFGiupFNFvJjfA4jPya
 Gjct7e3YthWOUIr7aiiHuhDBLgAClAppq1ugMYqLRZ0UOjrUdUgukyXGZLotEVBte4kK
 d3y7Vf+w6rAerdndXlrKS+nduNkT/9RrmFYMfo7rbi9MLBzaDC/nfccLJFfYbcaXISFR
 1eH89An0mRKnjOEBXl/9Hwx8Ez0VU3zAIS9VcIaNwBvfkZw48mWX5kBm3iazwpf2n4RH
 WweA==
X-Gm-Message-State: AOJu0YzJsVDe/MBsSXb8ewLJjNr1iIYlYXohdx1ZgkVTXNYb0UqtPr33
 MF67xa9piMyBYq2O2pqJpMCT5pmCcItzYrr5suST51yzaCoz1AkU/zDBw9jZ96ea4VTsl76qCCz
 GVyPaoTm6XxpBe6jZbZkOXZRjZakX35g98LOFc4lb
X-Google-Smtp-Source: AGHT+IG03S3PSAZeYjEOfQlEWUFxq0c46uqrzjQGBQTiBL2evMzbfg7Obez/wxjkqJI+FDXWpsLqhhRF5aM0
X-Received: by 2002:aca:d18:0:b0:3c9:6fd7:e54e with SMTP id
 5614622812f47-3d20439b0dcmr5654767b6e.27.1717681940906; 
 Thu, 06 Jun 2024 06:52:20 -0700 (PDT)
Received: from postal.iol.unh.edu (postal.iol.unh.edu. [132.177.123.84])
 by smtp-relay.gmail.com with ESMTPS id
 d75a77b69052e-44038b32b45sm381551cf.9.2024.06.06.06.52.20
 (version=TLS1_2 cipher=ECDHE-ECDSA-AES128-GCM-SHA256 bits=128/128);
 Thu, 06 Jun 2024 06:52:20 -0700 (PDT)
X-Relaying-Domain: iol.unh.edu
Date: Thu, 06 Jun 2024 06:52:20 -0700 (PDT)
Message-ID: <6661bf14.050a0220.bb9f6.369bSMTPIN_ADDED_MISSING@mx.google.com>
Received: from [172.21.0.6] (unknown [172.18.0.240])
 by postal.iol.unh.edu (Postfix) with ESMTP id 8B812605C373;
 Thu,  6 Jun 2024 09:52:20 -0400 (EDT)
Subject: |SUCCESS| pw140818-140820 [PATCH] [v4,3/3] net/mlx5/hws: add support
From: dpdklab@iol.unh.edu
To: Test Report <test-report@dpdk.org>
Cc: dpdk-test-reports@iol.unh.edu
In-Reply-To: <20240606103103.173152-4-mkashani@nvidia.com>
References: <20240606103103.173152-4-mkashani@nvidia.com>
Content-Type: text/plain
X-BeenThere: test-report@dpdk.org
X-Mailman-Version: 2.1.29
Precedence: list
List-Id: automatic DPDK test reports <test-report.dpdk.org>
List-Unsubscribe: <https://mails.dpdk.org/options/test-report>,
 <mailto:test-report-request@dpdk.org?subject=unsubscribe>
List-Archive: <http://mails.dpdk.org/archives/test-report/>
List-Post: <mailto:test-report@dpdk.org>
List-Help: <mailto:test-report-request@dpdk.org?subject=help>
List-Subscribe: <https://mails.dpdk.org/listinfo/test-report>,
 <mailto:test-report-request@dpdk.org?subject=subscribe>
Errors-To: test-report-bounces@dpdk.org

Test-Label: iol-compile-amd64-testing
Test-Status: SUCCESS
http://dpdk.org/patch/140820

_Testing PASS_

Submitter: Maayan Kashani <mkashani@nvidia.com>
Date: Thursday, June 06 2024 10:31:03 
DPDK git baseline: Repo:dpdk
  Branch: master
  CommitID:2bf363ff7e924a1fb6054eee693fde66097273f7

140818-140820 --> testing pass

Test environment and result as below:

+---------------------+--------------------+-------------------+----------------------+
|     Environment     | dpdk_meson_compile | dpdk_msvc_compile | dpdk_mingw64_compile |
+=====================+====================+===================+======================+
| FreeBSD 14.0        | PASS               | SKIPPED           | SKIPPED              |
+---------------------+--------------------+-------------------+----------------------+
| FreeBSD 13.3        | PASS               | SKIPPED           | SKIPPED              |
+---------------------+--------------------+-------------------+----------------------+
| Windows Server 2019 | PASS               | SKIPPED           | PASS                 |
+---------------------+--------------------+-------------------+----------------------+
| Windows Server 2022 | PASS               | PASS              | PASS                 |
+---------------------+--------------------+-------------------+----------------------+


FreeBSD 14.0
	Kernel: 14.0
	Compiler: clang 16.0.6

FreeBSD 13.3
	Kernel: 13.3-RELEASE-p1
	Compiler: clang 17.0.6

Windows Server 2019
	Kernel: 10.0.17763
	Compiler: clang 14.0 and gcc 8.1.0 (MinGW)

Windows Server 2022
	Kernel: 10.0.20348.2031
	Compiler: clang 15.0.7, gcc 8.1.0 (MinGW), and MSVC VS 17.9

To view detailed results, visit:
https://lab.dpdk.org/results/dashboard/patchsets/30128/

UNH-IOL DPDK Community Lab

To manage your email subscriptions, visit: 
https://lab.dpdk.org/results/dashboard/preferences/subscriptions/