From mboxrd@z Thu Jan  1 00:00:00 1970
Return-Path: <test-report-bounces@dpdk.org>
Received: from mails.dpdk.org (mails.dpdk.org [217.70.189.124])
	by inbox.dpdk.org (Postfix) with ESMTP id B3F414416A
	for <public@inbox.dpdk.org>; Thu,  6 Jun 2024 15:57:36 +0200 (CEST)
Received: from mails.dpdk.org (localhost [127.0.0.1])
	by mails.dpdk.org (Postfix) with ESMTP id AE18840E96;
	Thu,  6 Jun 2024 15:57:36 +0200 (CEST)
Received: from mail-io1-f99.google.com (mail-io1-f99.google.com
 [209.85.166.99]) by mails.dpdk.org (Postfix) with ESMTP id 2CB3D402E7
 for <test-report@dpdk.org>; Thu,  6 Jun 2024 15:57:35 +0200 (CEST)
Received: by mail-io1-f99.google.com with SMTP id
 ca18e2360f4ac-7e9113f0cc8so43622339f.2
 for <test-report@dpdk.org>; Thu, 06 Jun 2024 06:57:35 -0700 (PDT)
DKIM-Signature: v=1; a=rsa-sha256; c=relaxed/relaxed;
 d=iol.unh.edu; s=unh-iol; t=1717682254; x=1718287054; darn=dpdk.org;
 h=references:in-reply-to:cc:to:from:subject:message-id:date:from:to
 :cc:subject:date:message-id:reply-to;
 bh=HSvo+XCIpxGSls+L0jrZI99YWuy/jb7Q1iMHR0Z0ZHo=;
 b=UzN0xvMu2BEQRMAhGGYLUtF1/cfbC5tRlsAid5vlBkDo3b+ccqpljv9Af1koycGMD3
 3CjnNANS2dQOtxsUYDrmeYOsaalb30FwSA4rgI2yZqUFeWelUtLJs676KqfHWOlPLHKy
 bKQ0x9kj0cCVmfP1DhSnrf2n8zfA4EsYmdZT0=
X-Google-DKIM-Signature: v=1; a=rsa-sha256; c=relaxed/relaxed;
 d=1e100.net; s=20230601; t=1717682254; x=1718287054;
 h=references:in-reply-to:cc:to:from:subject:message-id:date
 :x-gm-message-state:from:to:cc:subject:date:message-id:reply-to;
 bh=HSvo+XCIpxGSls+L0jrZI99YWuy/jb7Q1iMHR0Z0ZHo=;
 b=rxmR8S0UaNf1yzQ1jhWpBx2NAFD40MGujGB00/53GMDq+/4lEwDUhCcI+p9KK0zuGf
 RZbrnbMbpm2e794+ZdX6YS+r+LCoGYzkyA0dJucoPtWU2UeQc4unL8Mj4aRPPwgirLPq
 MCa2HZBmNMMD9dbdCCeRBQ09882v9jlTKemSk6+FysjjpCR6BKRXbUa75xK4ktwY6w0+
 t19RXDAeHYvMU/4ACMuNpPYUJMh934RJDg5proNzqGwd2cr3gSfjR9RJNEIf1flsfK1w
 ot32HiITjJ4Jr7K7RYVfjQwJSw5OCwDlJ0qyDoPvHVcVA6V78Hn4oyj2UtV1LekMiCyO
 LT+A==
X-Gm-Message-State: AOJu0YwgmvjecPF6Rpo7+iR7JJY2uBraJvajfnIsoseziDa9icWa2H2J
 hiAs890+NEG36jWlBi43tN85i3nyWTAU6myNEMsso9UhdmCeqiZaVLfL/HDuCTPIB8pL7wAZmdW
 c77E6PPTGbdZ5FHIvoJ+DYixzAd6llW7n8YbOCRxb
X-Google-Smtp-Source: AGHT+IH9L3HVhDQ5wxDyECLunDGv8mEajEPn22qf/QYxBI/yTYwo7uM2HPmCV6Q8HHcmuyAEvhn6nGQ78QVH
X-Received: by 2002:a5d:8613:0:b0:7e6:eb37:173c with SMTP id
 ca18e2360f4ac-7eb3c8f3237mr525249139f.14.1717682254569; 
 Thu, 06 Jun 2024 06:57:34 -0700 (PDT)
Received: from postal.iol.unh.edu (postal.iol.unh.edu. [132.177.123.84])
 by smtp-relay.gmail.com with ESMTPS id
 8926c6da1cb9f-4b7a22bf8absm23004173.39.2024.06.06.06.57.34
 (version=TLS1_2 cipher=ECDHE-ECDSA-AES128-GCM-SHA256 bits=128/128);
 Thu, 06 Jun 2024 06:57:34 -0700 (PDT)
X-Relaying-Domain: iol.unh.edu
Date: Thu, 06 Jun 2024 06:57:34 -0700 (PDT)
Message-ID: <6661c04e.050a0220.1d457b.1d90SMTPIN_ADDED_MISSING@mx.google.com>
Received: from [172.21.0.6] (unknown [172.18.0.240])
 by postal.iol.unh.edu (Postfix) with ESMTP id 0F951605C373;
 Thu,  6 Jun 2024 09:57:34 -0400 (EDT)
Subject: |SUCCESS| pw140818-140820 [PATCH] [v4,3/3] net/mlx5/hws: add support
From: dpdklab@iol.unh.edu
To: Test Report <test-report@dpdk.org>
Cc: dpdk-test-reports@iol.unh.edu
In-Reply-To: <20240606103103.173152-4-mkashani@nvidia.com>
References: <20240606103103.173152-4-mkashani@nvidia.com>
Content-Type: text/plain
X-BeenThere: test-report@dpdk.org
X-Mailman-Version: 2.1.29
Precedence: list
List-Id: automatic DPDK test reports <test-report.dpdk.org>
List-Unsubscribe: <https://mails.dpdk.org/options/test-report>,
 <mailto:test-report-request@dpdk.org?subject=unsubscribe>
List-Archive: <http://mails.dpdk.org/archives/test-report/>
List-Post: <mailto:test-report@dpdk.org>
List-Help: <mailto:test-report-request@dpdk.org?subject=help>
List-Subscribe: <https://mails.dpdk.org/listinfo/test-report>,
 <mailto:test-report-request@dpdk.org?subject=subscribe>
Errors-To: test-report-bounces@dpdk.org

Test-Label: iol-unit-arm64-testing
Test-Status: SUCCESS
http://dpdk.org/patch/140820

_Testing PASS_

Submitter: Maayan Kashani <mkashani@nvidia.com>
Date: Thursday, June 06 2024 10:31:03 
DPDK git baseline: Repo:dpdk
  Branch: master
  CommitID:2bf363ff7e924a1fb6054eee693fde66097273f7

140818-140820 --> testing pass

Test environment and result as below:

+--------------------------+---------------------------+------------------------------+----------------+
|       Environment        | cryptodev_sw_zuc_autotest | cryptodev_sw_snow3g_autotest | dpdk_unit_test |
+==========================+===========================+==============================+================+
| Debian 12 (arm)          | PASS                      | PASS                         | PASS           |
+--------------------------+---------------------------+------------------------------+----------------+
| Debian 11 (Buster) (ARM) | SKIPPED                   | SKIPPED                      | PASS           |
+--------------------------+---------------------------+------------------------------+----------------+
| CentOS Stream 9 (ARM)    | SKIPPED                   | SKIPPED                      | PASS           |
+--------------------------+---------------------------+------------------------------+----------------+
| Fedora 37 (ARM)          | SKIPPED                   | SKIPPED                      | PASS           |
+--------------------------+---------------------------+------------------------------+----------------+
| Fedora 38 (ARM)          | SKIPPED                   | SKIPPED                      | PASS           |
+--------------------------+---------------------------+------------------------------+----------------+
| Fedora 39 (ARM)          | SKIPPED                   | SKIPPED                      | PASS           |
+--------------------------+---------------------------+------------------------------+----------------+


Debian 12 (arm)
	Kernel: Container Host Kernel
	Compiler: gcc 12.2.0

Debian 11 (Buster) (ARM)
	Kernel: Container Host Kernel
	Compiler: gcc 10.2.1

CentOS Stream 9 (ARM)
	Kernel: Container Host Kernel
	Compiler: gcc 11.4.1

Fedora 37 (ARM)
	Kernel: Depends on container host
	Compiler: gcc 12.3.1

Fedora 38 (ARM)
	Kernel: Depends on container host
	Compiler: gcc 13.2.1

Fedora 39 (ARM)
	Kernel: Depends on container host
	Compiler: gcc 13.2.1

To view detailed results, visit:
https://lab.dpdk.org/results/dashboard/patchsets/30128/

UNH-IOL DPDK Community Lab

To manage your email subscriptions, visit: 
https://lab.dpdk.org/results/dashboard/preferences/subscriptions/