From mboxrd@z Thu Jan  1 00:00:00 1970
Return-Path: <test-report-bounces@dpdk.org>
Received: from mails.dpdk.org (mails.dpdk.org [217.70.189.124])
	by inbox.dpdk.org (Postfix) with ESMTP id 8FDB04416A
	for <public@inbox.dpdk.org>; Thu,  6 Jun 2024 17:59:40 +0200 (CEST)
Received: from mails.dpdk.org (localhost [127.0.0.1])
	by mails.dpdk.org (Postfix) with ESMTP id 87C6640E96;
	Thu,  6 Jun 2024 17:59:40 +0200 (CEST)
Received: from mail-yw1-f228.google.com (mail-yw1-f228.google.com
 [209.85.128.228])
 by mails.dpdk.org (Postfix) with ESMTP id 83EFF40E96
 for <test-report@dpdk.org>; Thu,  6 Jun 2024 17:59:36 +0200 (CEST)
Received: by mail-yw1-f228.google.com with SMTP id
 00721157ae682-627e3368394so11545117b3.2
 for <test-report@dpdk.org>; Thu, 06 Jun 2024 08:59:36 -0700 (PDT)
DKIM-Signature: v=1; a=rsa-sha256; c=relaxed/relaxed;
 d=iol.unh.edu; s=unh-iol; t=1717689576; x=1718294376; darn=dpdk.org;
 h=references:in-reply-to:cc:to:from:subject:message-id:date:from:to
 :cc:subject:date:message-id:reply-to;
 bh=O2KMbz6XCKGi1vA9eRywv1SH3ACiazaFjONLnpovzYg=;
 b=N8HBd6TUVI3jZ5yJIzIAU0rwXB4Fnm/OZNVGCizzuH2TIKta9pySpPlS70OdlHNMfj
 puJwWE4cqNH0ChUT0idJhCGjZDeTzlcVByGrQuuu5pj7Z40MNgnRqJuadZPqvvIsoubf
 2Mk5wUPaVgBHGpEX7M2fBpARp4m8BfVJyi14E=
X-Google-DKIM-Signature: v=1; a=rsa-sha256; c=relaxed/relaxed;
 d=1e100.net; s=20230601; t=1717689576; x=1718294376;
 h=references:in-reply-to:cc:to:from:subject:message-id:date
 :x-gm-message-state:from:to:cc:subject:date:message-id:reply-to;
 bh=O2KMbz6XCKGi1vA9eRywv1SH3ACiazaFjONLnpovzYg=;
 b=dVR06Lz2eAaJYECSMBPPSVN5kyUy6Do8lzmBGueRMcjv/Ovlx6n32ow8PRB1rVlbp2
 2AP391DA8qs513ceQn9pZkFTKewcMfU8Kiy68Xz2onP3phOpMZwughoESzT8oYerz2mX
 d7Sw6nGBU6HKS9OBFRu1Fj7OPlWwMrC0f+KQA66JjdkVXMwpkgZ+2H3eErF+4ibYmpj8
 074PFbTfVYUXoSrsnGAMgVSxtMDLHItqqrHgE58ikgsznnKCTP+1lA37qqt245Ou7Ru3
 2ptHowZ3vp14N8XVSaXJAyGzpeN5F5g5QREe9w3b4ZZhQjsqQ91H/7BqtCqPFbo8BzDI
 aOKw==
X-Gm-Message-State: AOJu0YxD2zHY+NpMloalqIXfrzDiQEBzrHiWoNCR9YphR57c7xpyfHeP
 ybF2jD8boUCGILkXxPm3Ewb9IC9hpNyI75emgrAsuy4LbmOmIxTP43j7kaJXj28qm3uQ9Nsay1n
 X+n5OCh8Jk/6GUN9STj54oEcTH/rHb988/X8lurR1aATEiBMottuHEpsB
X-Google-Smtp-Source: AGHT+IGeX59WnBLyonr5V9J166TJQaQZEJ9I3HfzoHXwWoYiLRbNmQaquNu3QVIjZpHXIFepr31KP4tFksHY
X-Received: by 2002:a0d:d557:0:b0:61b:bd65:1538 with SMTP id
 00721157ae682-62cbb4b30ecmr62574317b3.3.1717689575784; 
 Thu, 06 Jun 2024 08:59:35 -0700 (PDT)
Received: from postal.iol.unh.edu (postal.iol.unh.edu.
 [2606:4100:3880:1234::84]) by smtp-relay.gmail.com with ESMTPS id
 00721157ae682-62ccaec9dfdsm615697b3.60.2024.06.06.08.59.35
 (version=TLS1_2 cipher=ECDHE-ECDSA-AES128-GCM-SHA256 bits=128/128);
 Thu, 06 Jun 2024 08:59:35 -0700 (PDT)
X-Relaying-Domain: iol.unh.edu
Date: Thu, 06 Jun 2024 08:59:35 -0700 (PDT)
Message-ID: <6661dce7.050a0220.c49f9.5292SMTPIN_ADDED_MISSING@mx.google.com>
Received: from [172.21.0.7] (unknown [172.18.0.240])
 by postal.iol.unh.edu (Postfix) with ESMTP id 61CC2605C373;
 Thu,  6 Jun 2024 11:59:35 -0400 (EDT)
Subject: |SUCCESS| pw140802-140806 [PATCH] [v3,5/5] crypto/openssl: only set 
From: dpdklab@iol.unh.edu
To: Test Report <test-report@dpdk.org>
Cc: dpdk-test-reports@iol.unh.edu
In-Reply-To: <20240606102043.2926695-6-jack.bond-preston@foss.arm.com>
References: <20240606102043.2926695-6-jack.bond-preston@foss.arm.com>
Content-Type: text/plain
X-BeenThere: test-report@dpdk.org
X-Mailman-Version: 2.1.29
Precedence: list
List-Id: automatic DPDK test reports <test-report.dpdk.org>
List-Unsubscribe: <https://mails.dpdk.org/options/test-report>,
 <mailto:test-report-request@dpdk.org?subject=unsubscribe>
List-Archive: <http://mails.dpdk.org/archives/test-report/>
List-Post: <mailto:test-report@dpdk.org>
List-Help: <mailto:test-report-request@dpdk.org?subject=help>
List-Subscribe: <https://mails.dpdk.org/listinfo/test-report>,
 <mailto:test-report-request@dpdk.org?subject=subscribe>
Errors-To: test-report-bounces@dpdk.org

Test-Label: iol-unit-amd64-testing
Test-Status: SUCCESS
http://dpdk.org/patch/140806

_Testing PASS_

Submitter: Jack Bond-Preston <jack.bond-preston@foss.arm.com>
Date: Thursday, June 06 2024 10:20:43 
DPDK git baseline: Repo:dpdk
  Branch: master
  CommitID:367b8db312517edb9f5340d280e77b1437d84dd3

140802-140806 --> testing pass

Test environment and result as below:

+---------------------+----------------+
|     Environment     | dpdk_unit_test |
+=====================+================+
| Windows Server 2019 | PASS           |
+---------------------+----------------+
| Windows Server 2022 | PASS           |
+---------------------+----------------+
| CentOS Stream 8     | PASS           |
+---------------------+----------------+
| Fedora 37           | PASS           |
+---------------------+----------------+
| Fedora 38           | PASS           |
+---------------------+----------------+
| CentOS Stream 9     | PASS           |
+---------------------+----------------+
| Fedora 39           | PASS           |
+---------------------+----------------+
| Debian 12           | PASS           |
+---------------------+----------------+
| Ubuntu 24.04        | PASS           |
+---------------------+----------------+


Windows Server 2019
	Kernel: 10.0.17763
	Compiler: clang 14.0 and gcc 8.1.0 (MinGW)

Windows Server 2022
	Kernel: 10.0.20348.2031
	Compiler: clang 15.0.7, gcc 8.1.0 (MinGW), and MSVC VS 17.9

CentOS Stream 8
	Kernel: 5.4.0-167-generic
	Compiler: gcc 8.5.0 20210514

Fedora 37
	Kernel: Depends on container host system
	Compiler: gcc 12.3.1

Fedora 38
	Kernel: Depends on container host
	Compiler: clang 16.0.6

CentOS Stream 9
	Kernel: 5.4.0-167-generic
	Compiler: gcc 11.4.1 20230605

Fedora 39
	Kernel: Depends on container host
	Compiler: gcc 13.2.1

Debian 12
	Kernel: Container Host Kernel
	Compiler: gcc 10.2.1

Ubuntu 24.04
	Kernel: 5.4.0-167-generic
	Compiler: gcc 13.2.0

To view detailed results, visit:
https://lab.dpdk.org/results/dashboard/patchsets/30126/

UNH-IOL DPDK Community Lab

To manage your email subscriptions, visit: 
https://lab.dpdk.org/results/dashboard/preferences/subscriptions/