From mboxrd@z Thu Jan  1 00:00:00 1970
Return-Path: <test-report-bounces@dpdk.org>
Received: from mails.dpdk.org (mails.dpdk.org [217.70.189.124])
	by inbox.dpdk.org (Postfix) with ESMTP id 3032A44174
	for <public@inbox.dpdk.org>; Thu,  6 Jun 2024 18:28:45 +0200 (CEST)
Received: from mails.dpdk.org (localhost [127.0.0.1])
	by mails.dpdk.org (Postfix) with ESMTP id 098EA40E96;
	Thu,  6 Jun 2024 18:28:45 +0200 (CEST)
Received: from mail-oo1-f99.google.com (mail-oo1-f99.google.com
 [209.85.161.99]) by mails.dpdk.org (Postfix) with ESMTP id 73242402E7
 for <test-report@dpdk.org>; Thu,  6 Jun 2024 18:28:43 +0200 (CEST)
Received: by mail-oo1-f99.google.com with SMTP id
 006d021491bc7-5b52b0d0dfeso577266eaf.0
 for <test-report@dpdk.org>; Thu, 06 Jun 2024 09:28:43 -0700 (PDT)
DKIM-Signature: v=1; a=rsa-sha256; c=relaxed/relaxed;
 d=iol.unh.edu; s=unh-iol; t=1717691322; x=1718296122; darn=dpdk.org;
 h=references:in-reply-to:cc:to:from:subject:message-id:date:from:to
 :cc:subject:date:message-id:reply-to;
 bh=1q4XgAdmrAFm7oAWFnMeuMizLZuE0AOmvjsbr8DQTQc=;
 b=WNmgWVwjCddiulsLuHcHVPM93696puS6zZkQhKogSJ7TwQcVCiNRUEPI3307DCsISH
 ZVAGYuV3nPvmJfl+/KyHiqZGPbF7In/KMsGCi/UjTaoqcuFCZAWsHuJwxP5aF6D82JNN
 vbMfIIahNO6LUd3kBdS7UCmMecpZ6DEGjcAhI=
X-Google-DKIM-Signature: v=1; a=rsa-sha256; c=relaxed/relaxed;
 d=1e100.net; s=20230601; t=1717691322; x=1718296122;
 h=references:in-reply-to:cc:to:from:subject:message-id:date
 :x-gm-message-state:from:to:cc:subject:date:message-id:reply-to;
 bh=1q4XgAdmrAFm7oAWFnMeuMizLZuE0AOmvjsbr8DQTQc=;
 b=XhiiUHzJroQrMdA9nFASgGtbSIGJJoTnnEZPGxiLsLZeEaXOaIvwQjktO5gIG3DEVa
 ZMI0cFG2MzjCfn3/w7ZKt/QuOWnrhDTq6eFRPnaCXNDqsXS7L3+jiVmrEbc+JHk3cK9m
 yeds3oTk7lLpNpBNn3kX4Z6Tt5sVT4saR3ilFC1v2Lj+0e01s4qn7Heo71NtwpXo9MDd
 kUrT71sTCi4dpFoJxXKjmfh4VdWWE5ERT0QyZSe3U1gY0XeGHFnHczc8AWx82mU15oEU
 Cd2gXdU+0IcrC3rUeZBica4d6AGmgs6SZp1So8Km8cA/9d8EsB0eR4rPfyFspzhEWQYo
 whSw==
X-Gm-Message-State: AOJu0Ywym+4LRQI13kO8SmSjeOaabpMUqmrR77vq2RExvqIndFTZZnr5
 l38TTafmdmmKqgDk9ICpCAWgaxLRemvB/X9vg4VER0ZDSCpziIVeON43WSxbzp/V3LF/8rvhjkR
 WhshhwpftQT/pUtpKoH2wkH+QJGzLJIBit4Zh+WfYk3Gwxj3j3sYePzCS
X-Google-Smtp-Source: AGHT+IEFwlij+eptLOo0nbtF1badd+al2w/RAFYmUbXRNolpPN3JF6f580vO2TUY0c+uQ1/jfas39AO5r0nH
X-Received: by 2002:a05:6358:938c:b0:19f:1e0c:e1ab with SMTP id
 e5c5f4694b2df-19f1fe4f6f2mr22451455d.8.1717691322496; 
 Thu, 06 Jun 2024 09:28:42 -0700 (PDT)
Received: from postal.iol.unh.edu (postal.iol.unh.edu.
 [2606:4100:3880:1234::84]) by smtp-relay.gmail.com with ESMTPS id
 6a1803df08f44-6b04f63c86dsm795996d6.1.2024.06.06.09.28.42
 (version=TLS1_2 cipher=ECDHE-ECDSA-AES128-GCM-SHA256 bits=128/128);
 Thu, 06 Jun 2024 09:28:42 -0700 (PDT)
X-Relaying-Domain: iol.unh.edu
Date: Thu, 06 Jun 2024 09:28:42 -0700 (PDT)
Message-ID: <6661e3ba.050a0220.7e2ea.73d8SMTPIN_ADDED_MISSING@mx.google.com>
Received: from [172.21.0.6] (unknown [172.18.0.240])
 by postal.iol.unh.edu (Postfix) with ESMTP id 306B0605C373;
 Thu,  6 Jun 2024 12:28:42 -0400 (EDT)
Subject: |SUCCESS| pw140802-140806 [PATCH] [v3,5/5] crypto/openssl: only set 
From: dpdklab@iol.unh.edu
To: Test Report <test-report@dpdk.org>
Cc: Jack Bond-Preston <jack.bond-preston@foss.arm.com>
In-Reply-To: <20240606102043.2926695-6-jack.bond-preston@foss.arm.com>
References: <20240606102043.2926695-6-jack.bond-preston@foss.arm.com>
Content-Type: text/plain
X-BeenThere: test-report@dpdk.org
X-Mailman-Version: 2.1.29
Precedence: list
List-Id: automatic DPDK test reports <test-report.dpdk.org>
List-Unsubscribe: <https://mails.dpdk.org/options/test-report>,
 <mailto:test-report-request@dpdk.org?subject=unsubscribe>
List-Archive: <http://mails.dpdk.org/archives/test-report/>
List-Post: <mailto:test-report@dpdk.org>
List-Help: <mailto:test-report-request@dpdk.org?subject=help>
List-Subscribe: <https://mails.dpdk.org/listinfo/test-report>,
 <mailto:test-report-request@dpdk.org?subject=subscribe>
Errors-To: test-report-bounces@dpdk.org

Test-Label: iol-compile-amd64-testing
Test-Status: SUCCESS
http://dpdk.org/patch/140806

_Testing PASS_

Submitter: Jack Bond-Preston <jack.bond-preston@foss.arm.com>
Date: Thursday, June 06 2024 10:20:43 
DPDK git baseline: Repo:dpdk
  Branch: master
  CommitID:367b8db312517edb9f5340d280e77b1437d84dd3

140802-140806 --> testing pass

Test environment and result as below:

+---------------------+--------------------+-------------------+----------------------+------------------+-------------------+
|     Environment     | dpdk_meson_compile | dpdk_msvc_compile | dpdk_mingw64_compile | dpdk_compile_ovs | dpdk_compile_spdk |
+=====================+====================+===================+======================+==================+===================+
| FreeBSD 13.3        | PASS               | SKIPPED           | SKIPPED              | SKIPPED          | SKIPPED           |
+---------------------+--------------------+-------------------+----------------------+------------------+-------------------+
| FreeBSD 14.0        | PASS               | SKIPPED           | SKIPPED              | SKIPPED          | SKIPPED           |
+---------------------+--------------------+-------------------+----------------------+------------------+-------------------+
| Windows Server 2019 | PASS               | SKIPPED           | PASS                 | SKIPPED          | SKIPPED           |
+---------------------+--------------------+-------------------+----------------------+------------------+-------------------+
| Windows Server 2022 | PASS               | PASS              | PASS                 | SKIPPED          | SKIPPED           |
+---------------------+--------------------+-------------------+----------------------+------------------+-------------------+
| Debian 12           | PASS               | SKIPPED           | SKIPPED              | PASS             | SKIPPED           |
+---------------------+--------------------+-------------------+----------------------+------------------+-------------------+
| Ubuntu 20.04        | PASS               | SKIPPED           | SKIPPED              | PASS             | SKIPPED           |
+---------------------+--------------------+-------------------+----------------------+------------------+-------------------+
| Debian Bullseye     | PASS               | SKIPPED           | SKIPPED              | PASS             | PASS              |
+---------------------+--------------------+-------------------+----------------------+------------------+-------------------+


FreeBSD 13.3
	Kernel: 13.3-RELEASE-p1
	Compiler: clang 17.0.6

FreeBSD 14.0
	Kernel: 14.0
	Compiler: clang 16.0.6

Windows Server 2019
	Kernel: 10.0.17763
	Compiler: clang 14.0 and gcc 8.1.0 (MinGW)

Windows Server 2022
	Kernel: 10.0.20348.2031
	Compiler: clang 15.0.7, gcc 8.1.0 (MinGW), and MSVC VS 17.9

Debian 12
	Kernel: Container Host Kernel
	Compiler: gcc 10.2.1

Ubuntu 20.04
	Kernel: 5.4.0-167-generic
	Compiler: gcc 9.4.0-1ubuntu1~20.04.1

Debian Bullseye
	Kernel: 5.4.0-167-generic
	Compiler: gcc 10.2.1-6

To view detailed results, visit:
https://lab.dpdk.org/results/dashboard/patchsets/30126/

UNH-IOL DPDK Community Lab

To manage your email subscriptions, visit: 
https://lab.dpdk.org/results/dashboard/preferences/subscriptions/