From mboxrd@z Thu Jan  1 00:00:00 1970
Return-Path: <test-report-bounces@dpdk.org>
Received: from mails.dpdk.org (mails.dpdk.org [217.70.189.124])
	by inbox.dpdk.org (Postfix) with ESMTP id 6A1F244174
	for <public@inbox.dpdk.org>; Thu,  6 Jun 2024 18:34:25 +0200 (CEST)
Received: from mails.dpdk.org (localhost [127.0.0.1])
	by mails.dpdk.org (Postfix) with ESMTP id 65A3E40E96;
	Thu,  6 Jun 2024 18:34:25 +0200 (CEST)
Received: from mail-pl1-f226.google.com (mail-pl1-f226.google.com
 [209.85.214.226])
 by mails.dpdk.org (Postfix) with ESMTP id C2F2D402E7
 for <test-report@dpdk.org>; Thu,  6 Jun 2024 18:34:24 +0200 (CEST)
Received: by mail-pl1-f226.google.com with SMTP id
 d9443c01a7336-1f60a502bb2so9520015ad.3
 for <test-report@dpdk.org>; Thu, 06 Jun 2024 09:34:24 -0700 (PDT)
DKIM-Signature: v=1; a=rsa-sha256; c=relaxed/relaxed;
 d=iol.unh.edu; s=unh-iol; t=1717691664; x=1718296464; darn=dpdk.org;
 h=references:in-reply-to:cc:to:from:subject:message-id:date:from:to
 :cc:subject:date:message-id:reply-to;
 bh=dncLwZ9nwm7wDCPismrqtOUlmEXDfL2OTpQTSD0Fxvk=;
 b=SGoCXd9LlheZZHl397ewsxh7RsLPcIh5TJjFwxfQnlJmYDj6eF5eK2U9/9tFPqx2xc
 uwlw3lj/qUF4ZOaRb2Z7+uvpJaElqjxdNHwKqz6tL/lRP0n5qaL9Aly8Pwk9UNW4zA+L
 XJULDn1mMo5mux3zjB4Z9A94dTtfHMb/0T8iA=
X-Google-DKIM-Signature: v=1; a=rsa-sha256; c=relaxed/relaxed;
 d=1e100.net; s=20230601; t=1717691664; x=1718296464;
 h=references:in-reply-to:cc:to:from:subject:message-id:date
 :x-gm-message-state:from:to:cc:subject:date:message-id:reply-to;
 bh=dncLwZ9nwm7wDCPismrqtOUlmEXDfL2OTpQTSD0Fxvk=;
 b=BCSaelml7oDJljN1HTOOrCZsxCWObo6gy3SOE9Dj7NmPn3ocJ5IDH6hPX3YmomTRnV
 stOIu8IfY3Xr6t0pdw8yexhpy6j60F4quuPHC/m3/jk8Z7Gg4kSo0KEJPHG1g5eSv+2I
 /FZzJngLkXArLtkJVLtlSsJ5p+HPMirxbMdsyetizZKdR7U/0DV/T1ehkWmx/1PjZbx5
 qcjMBqQeX6OcLY2tw8NrSmldHd5hnHLG1nPym3ArD0kdkQBs+xm26FdHzr0ZFP7SADVe
 D6qsN5n4ksNd5Ra5kdJiOXqlGTZwB+rpfQCaWqyzoscuUHs+oY255oc1gC6urFmAZ3M7
 Isbw==
X-Gm-Message-State: AOJu0YwPYM0DsOpX1Po9Xdjhg5aiaiHi6lqdDG/xWsBmLHd1Q1cHXm03
 YHnhti2/TfwlfsMmvD3Z58+ciA6V7TPbIwmoGim92be3CEQBWVn5vZuCd3WT81kqsCFlkFiK8ei
 BoPCB8vR7zK6xP+OdFxOzZY09bN3RsKpDVXEtNdB/wNdZlmRxLFUC3xuu
X-Google-Smtp-Source: AGHT+IFUuVtHExunSzr1ZnTvu1d+95tSsbumU9ai9cRGsj65tsR6iC5B3mrXtM7vMaXJe4XyV+UKqD/EMZ0y
X-Received: by 2002:a17:902:ea02:b0:1f4:b43f:9c01 with SMTP id
 d9443c01a7336-1f6d03bd85fmr1613875ad.64.1717691663890; 
 Thu, 06 Jun 2024 09:34:23 -0700 (PDT)
Received: from postal.iol.unh.edu (postal.iol.unh.edu.
 [2606:4100:3880:1234::84]) by smtp-relay.gmail.com with ESMTPS id
 d9443c01a7336-1f6bd7e7a08sm493325ad.148.2024.06.06.09.34.23
 (version=TLS1_2 cipher=ECDHE-ECDSA-AES128-GCM-SHA256 bits=128/128);
 Thu, 06 Jun 2024 09:34:23 -0700 (PDT)
X-Relaying-Domain: iol.unh.edu
Date: Thu, 06 Jun 2024 09:34:23 -0700 (PDT)
Message-ID: <6661e50f.170a0220.1fc8e7.40ceSMTPIN_ADDED_MISSING@mx.google.com>
Received: from [172.17.0.3] (unknown [172.18.0.217])
 by postal.iol.unh.edu (Postfix) with ESMTP id CD807605C373;
 Thu,  6 Jun 2024 12:34:22 -0400 (EDT)
Subject: |SUCCESS| pw140802-140806 [PATCH] [v3,5/5] crypto/openssl: only set 
From: dpdklab@iol.unh.edu
To: Test Report <test-report@dpdk.org>
Cc: dpdk-test-reports@iol.unh.edu
In-Reply-To: <20240606102043.2926695-6-jack.bond-preston@foss.arm.com>
References: <20240606102043.2926695-6-jack.bond-preston@foss.arm.com>
Content-Type: text/plain
X-BeenThere: test-report@dpdk.org
X-Mailman-Version: 2.1.29
Precedence: list
List-Id: automatic DPDK test reports <test-report.dpdk.org>
List-Unsubscribe: <https://mails.dpdk.org/options/test-report>,
 <mailto:test-report-request@dpdk.org?subject=unsubscribe>
List-Archive: <http://mails.dpdk.org/archives/test-report/>
List-Post: <mailto:test-report@dpdk.org>
List-Help: <mailto:test-report-request@dpdk.org?subject=help>
List-Subscribe: <https://mails.dpdk.org/listinfo/test-report>,
 <mailto:test-report-request@dpdk.org?subject=subscribe>
Errors-To: test-report-bounces@dpdk.org

Test-Label: iol-compile-amd64-testing
Test-Status: SUCCESS
http://dpdk.org/patch/140806

_Testing PASS_

Submitter: Jack Bond-Preston <jack.bond-preston@foss.arm.com>
Date: Thursday, June 06 2024 10:20:43 
DPDK git baseline: Repo:dpdk
  Branch: master
  CommitID:367b8db312517edb9f5340d280e77b1437d84dd3

140802-140806 --> testing pass

Test environment and result as below:

+---------------------+--------------------+-------------------+----------------------+------------------+-------------------+
|     Environment     | dpdk_meson_compile | dpdk_msvc_compile | dpdk_mingw64_compile | dpdk_compile_ovs | dpdk_compile_spdk |
+=====================+====================+===================+======================+==================+===================+
| FreeBSD 13.3        | PASS               | SKIPPED           | SKIPPED              | SKIPPED          | SKIPPED           |
+---------------------+--------------------+-------------------+----------------------+------------------+-------------------+
| FreeBSD 14.0        | PASS               | SKIPPED           | SKIPPED              | SKIPPED          | SKIPPED           |
+---------------------+--------------------+-------------------+----------------------+------------------+-------------------+
| Windows Server 2019 | PASS               | SKIPPED           | PASS                 | SKIPPED          | SKIPPED           |
+---------------------+--------------------+-------------------+----------------------+------------------+-------------------+
| Windows Server 2022 | PASS               | PASS              | PASS                 | SKIPPED          | SKIPPED           |
+---------------------+--------------------+-------------------+----------------------+------------------+-------------------+
| Debian 12           | PASS               | SKIPPED           | SKIPPED              | PASS             | SKIPPED           |
+---------------------+--------------------+-------------------+----------------------+------------------+-------------------+
| Ubuntu 20.04        | PASS               | SKIPPED           | SKIPPED              | PASS             | SKIPPED           |
+---------------------+--------------------+-------------------+----------------------+------------------+-------------------+
| Debian Bullseye     | PASS               | SKIPPED           | SKIPPED              | PASS             | PASS              |
+---------------------+--------------------+-------------------+----------------------+------------------+-------------------+
| openSUSE Leap 15    | PASS               | SKIPPED           | SKIPPED              | PASS             | SKIPPED           |
+---------------------+--------------------+-------------------+----------------------+------------------+-------------------+
| RHEL8               | PASS               | SKIPPED           | SKIPPED              | PASS             | SKIPPED           |
+---------------------+--------------------+-------------------+----------------------+------------------+-------------------+
| CentOS Stream 8     | PASS               | SKIPPED           | SKIPPED              | PASS             | PASS              |
+---------------------+--------------------+-------------------+----------------------+------------------+-------------------+
| Fedora 37           | PASS               | SKIPPED           | SKIPPED              | PASS             | PASS              |
+---------------------+--------------------+-------------------+----------------------+------------------+-------------------+
| Fedora 39           | PASS               | SKIPPED           | SKIPPED              | PASS             | PASS              |
+---------------------+--------------------+-------------------+----------------------+------------------+-------------------+
| CentOS Stream 9     | PASS               | SKIPPED           | SKIPPED              | PASS             | PASS              |
+---------------------+--------------------+-------------------+----------------------+------------------+-------------------+


FreeBSD 13.3
	Kernel: 13.3-RELEASE-p1
	Compiler: clang 17.0.6

FreeBSD 14.0
	Kernel: 14.0
	Compiler: clang 16.0.6

Windows Server 2019
	Kernel: 10.0.17763
	Compiler: clang 14.0 and gcc 8.1.0 (MinGW)

Windows Server 2022
	Kernel: 10.0.20348.2031
	Compiler: clang 15.0.7, gcc 8.1.0 (MinGW), and MSVC VS 17.9

Debian 12
	Kernel: Container Host Kernel
	Compiler: gcc 10.2.1

Ubuntu 20.04
	Kernel: 5.4.0-167-generic
	Compiler: gcc 9.4.0-1ubuntu1~20.04.1

Debian Bullseye
	Kernel: 5.4.0-167-generic
	Compiler: gcc 10.2.1-6

openSUSE Leap 15
	Kernel: 5.4.0-167-generic
	Compiler: gcc 7.5.0

RHEL8
	Kernel: 5.4.0-167-generic
	Compiler: gcc 8.5.0 20210514 (Red Hat 8.5.0-20)

CentOS Stream 8
	Kernel: 5.4.0-167-generic
	Compiler: gcc 8.5.0 20210514

Fedora 37
	Kernel: Depends on container host system
	Compiler: gcc 12.3.1

Fedora 39
	Kernel: Depends on container host
	Compiler: gcc 13.2.1

CentOS Stream 9
	Kernel: 5.4.0-167-generic
	Compiler: gcc 11.4.1 20230605

To view detailed results, visit:
https://lab.dpdk.org/results/dashboard/patchsets/30126/

UNH-IOL DPDK Community Lab

To manage your email subscriptions, visit: 
https://lab.dpdk.org/results/dashboard/preferences/subscriptions/