From mboxrd@z Thu Jan  1 00:00:00 1970
Return-Path: <test-report-bounces@dpdk.org>
Received: from mails.dpdk.org (mails.dpdk.org [217.70.189.124])
	by inbox.dpdk.org (Postfix) with ESMTP id D6BED44180
	for <public@inbox.dpdk.org>; Fri,  7 Jun 2024 11:21:37 +0200 (CEST)
Received: from mails.dpdk.org (localhost [127.0.0.1])
	by mails.dpdk.org (Postfix) with ESMTP id D349C427DB;
	Fri,  7 Jun 2024 11:21:37 +0200 (CEST)
Received: from mail-oa1-f97.google.com (mail-oa1-f97.google.com
 [209.85.160.97]) by mails.dpdk.org (Postfix) with ESMTP id AC4C74028A
 for <test-report@dpdk.org>; Fri,  7 Jun 2024 11:21:36 +0200 (CEST)
Received: by mail-oa1-f97.google.com with SMTP id
 586e51a60fabf-24c9f6338a4so955132fac.1
 for <test-report@dpdk.org>; Fri, 07 Jun 2024 02:21:36 -0700 (PDT)
DKIM-Signature: v=1; a=rsa-sha256; c=relaxed/relaxed;
 d=iol.unh.edu; s=unh-iol; t=1717752095; x=1718356895; darn=dpdk.org;
 h=references:in-reply-to:cc:to:from:subject:message-id:date:from:to
 :cc:subject:date:message-id:reply-to;
 bh=WRYkpSYGxornx6iD6TjV+HJ7fSPu2gmkyCLjpnch294=;
 b=CNoemyQd+WlkIr4Zx5cj3V/FEp0si/HmyoKLzRpiaRJOmTICRylJ3lbON7WGH4FPFl
 qYeXBeJ87Yu/sSxc99XtgTFkGnm/74qXCBLF9r8OfkzJXENOfxrho61BBoCj8JxXjbW8
 Yk34GPwSjY0Y00qkIxkIEZrqyQ3wkmaAdaMdM=
X-Google-DKIM-Signature: v=1; a=rsa-sha256; c=relaxed/relaxed;
 d=1e100.net; s=20230601; t=1717752095; x=1718356895;
 h=references:in-reply-to:cc:to:from:subject:message-id:date
 :x-gm-message-state:from:to:cc:subject:date:message-id:reply-to;
 bh=WRYkpSYGxornx6iD6TjV+HJ7fSPu2gmkyCLjpnch294=;
 b=A6F4E7wwMW9synV+gZuu4krc5Kdv3sRQUQpiPQHgRb5poka6zU3Ztcpc7z4xrzQkhb
 pkEP9s/zb2w4Uld1d7eV2nODIaCo/SSdXlPfm0XYngAk+Wvx+zrP+4J+NRuxc6NfVLBt
 QlFfDL+RAZLOw9Uth74cW38QzgmD0boK1s8Md2V8sYECHb3HNKvpplw86CAoeKV4+Uy4
 exrcyh1g9wLL2tvZmwlM+tMTJkGYIW57+Ud+bA3aY3XEMJ8Z/p+FrKnu4KJATbQmoxDn
 mwMB0OTjbGTMawUX6gGzGpc0lObesarjy4h1p4g1Uc3jftgZHRGeZx4WQLQHrFus/bos
 raFA==
X-Gm-Message-State: AOJu0YwXJz2XX44o8sSEKMIGfqKLUhjoDpqj+xxWWJzkG5Kdm7rveeeq
 aAv3fA/P61WmX6a5/C04+tRZZ599wJDgcH4yv0HCZIEHxabOiFs0ENDs1evmwcvxXwNP1namqAr
 592PC9Y+qISKwmdWjSswidZ7Y8V9b5gGEeMCEb8YR
X-Google-Smtp-Source: AGHT+IE3VgIszsvcvxBxewPpqStQT2pkxdGCz9Yc4padFDlsXQUs0hciBBm9IKRxagj5TgFDWoXT//x0faww
X-Received: by 2002:a05:6871:5222:b0:250:876d:2a72 with SMTP id
 586e51a60fabf-25464584f03mr2063911fac.30.1717752095665; 
 Fri, 07 Jun 2024 02:21:35 -0700 (PDT)
Received: from postal.iol.unh.edu (postal.iol.unh.edu. [132.177.123.84])
 by smtp-relay.gmail.com with ESMTPS id
 586e51a60fabf-25447e76d49sm115446fac.22.2024.06.07.02.21.35
 (version=TLS1_2 cipher=ECDHE-ECDSA-AES128-GCM-SHA256 bits=128/128);
 Fri, 07 Jun 2024 02:21:35 -0700 (PDT)
X-Relaying-Domain: iol.unh.edu
Date: Fri, 07 Jun 2024 02:21:35 -0700 (PDT)
Message-ID: <6662d11f.050a0220.3b702b.a17aSMTPIN_ADDED_MISSING@mx.google.com>
Received: from [172.21.0.12] (unknown [172.18.0.240])
 by postal.iol.unh.edu (Postfix) with ESMTP id 9FCD4605C380;
 Fri,  7 Jun 2024 05:21:34 -0400 (EDT)
Subject: |SUCCESS| pw140844-140846 [PATCH] [3/3] net/bnxt: fix backing store 
From: dpdklab@iol.unh.edu
To: Test Report <test-report@dpdk.org>
Cc: dpdk-test-reports@iol.unh.edu
In-Reply-To: <20240606233116.38445-4-ajit.khaparde@broadcom.com>
References: <20240606233116.38445-4-ajit.khaparde@broadcom.com>
Content-Type: text/plain
X-BeenThere: test-report@dpdk.org
X-Mailman-Version: 2.1.29
Precedence: list
List-Id: automatic DPDK test reports <test-report.dpdk.org>
List-Unsubscribe: <https://mails.dpdk.org/options/test-report>,
 <mailto:test-report-request@dpdk.org?subject=unsubscribe>
List-Archive: <http://mails.dpdk.org/archives/test-report/>
List-Post: <mailto:test-report@dpdk.org>
List-Help: <mailto:test-report-request@dpdk.org?subject=help>
List-Subscribe: <https://mails.dpdk.org/listinfo/test-report>,
 <mailto:test-report-request@dpdk.org?subject=subscribe>
Errors-To: test-report-bounces@dpdk.org

Test-Label: iol-compile-arm64-testing
Test-Status: SUCCESS
http://dpdk.org/patch/140846

_Testing PASS_

Submitter: Ajit Khaparde <ajit.khaparde@broadcom.com>
Date: Thursday, June 06 2024 23:31:16 
DPDK git baseline: Repo:dpdk
  Branch: master
  CommitID:76cef1af8bdaeaf67a5c4ca5df3f221df994dc46

140844-140846 --> testing pass

Test environment and result as below:

+--------------------------+--------------------+
|       Environment        | dpdk_meson_compile |
+==========================+====================+
| Ubuntu 20.04 ARM SVE     | PASS               |
+--------------------------+--------------------+
| Debian 12 with MUSDK     | PASS               |
+--------------------------+--------------------+
| Fedora 38 (ARM)          | PASS               |
+--------------------------+--------------------+
| Ubuntu 24.04 (ARM)       | PASS               |
+--------------------------+--------------------+
| Fedora 37 (ARM)          | PASS               |
+--------------------------+--------------------+
| Fedora 39 (ARM)          | PASS               |
+--------------------------+--------------------+
| Ubuntu 22.04 (ARM)       | PASS               |
+--------------------------+--------------------+
| Ubuntu 20.04 (ARM)       | PASS               |
+--------------------------+--------------------+
| Debian 12 (arm)          | PASS               |
+--------------------------+--------------------+
| Debian 11 (Buster) (ARM) | PASS               |
+--------------------------+--------------------+
| CentOS Stream 9 (ARM)    | PASS               |
+--------------------------+--------------------+


Ubuntu 20.04 ARM SVE
	Kernel: 5.4.0-167-generic
	Compiler: gcc (Ubuntu 10.5.0-1ubuntu1~20.04) 10.5.0

Debian 12 with MUSDK
	Kernel: Container Host Kernel
	Compiler: gcc 12.2.0

Fedora 38 (ARM)
	Kernel: Depends on container host
	Compiler: gcc 13.2.1

Ubuntu 24.04 (ARM)
	Kernel: 5.4.0-167-generic
	Compiler: gcc 13.2.0

Fedora 37 (ARM)
	Kernel: Depends on container host
	Compiler: gcc 12.3.1

Fedora 39 (ARM)
	Kernel: Depends on container host
	Compiler: gcc 13.2.1

Ubuntu 22.04 (ARM)
	Kernel: Container Host Kernel
	Compiler: gcc 11.4.0

Ubuntu 20.04 (ARM)
	Kernel: Container Host Kernel
	Compiler: gcc 9.4.0

Debian 12 (arm)
	Kernel: Container Host Kernel
	Compiler: gcc 12.2.0

Debian 11 (Buster) (ARM)
	Kernel: Container Host Kernel
	Compiler: gcc 10.2.1

CentOS Stream 9 (ARM)
	Kernel: Container Host Kernel
	Compiler: gcc 11.4.1

To view detailed results, visit:
https://lab.dpdk.org/results/dashboard/patchsets/30138/

UNH-IOL DPDK Community Lab

To manage your email subscriptions, visit: 
https://lab.dpdk.org/results/dashboard/preferences/subscriptions/