From mboxrd@z Thu Jan  1 00:00:00 1970
Return-Path: <test-report-bounces@dpdk.org>
Received: from mails.dpdk.org (mails.dpdk.org [217.70.189.124])
	by inbox.dpdk.org (Postfix) with ESMTP id 1C50044180
	for <public@inbox.dpdk.org>; Fri,  7 Jun 2024 11:25:35 +0200 (CEST)
Received: from mails.dpdk.org (localhost [127.0.0.1])
	by mails.dpdk.org (Postfix) with ESMTP id 1806E4028A;
	Fri,  7 Jun 2024 11:25:35 +0200 (CEST)
Received: from mail-oi1-f227.google.com (mail-oi1-f227.google.com
 [209.85.167.227])
 by mails.dpdk.org (Postfix) with ESMTP id 2D33B40151
 for <test-report@dpdk.org>; Fri,  7 Jun 2024 11:25:32 +0200 (CEST)
Received: by mail-oi1-f227.google.com with SMTP id
 5614622812f47-3c9cc681e4fso1003213b6e.0
 for <test-report@dpdk.org>; Fri, 07 Jun 2024 02:25:32 -0700 (PDT)
DKIM-Signature: v=1; a=rsa-sha256; c=relaxed/relaxed;
 d=iol.unh.edu; s=unh-iol; t=1717752331; x=1718357131; darn=dpdk.org;
 h=references:in-reply-to:cc:to:from:subject:message-id:date:from:to
 :cc:subject:date:message-id:reply-to;
 bh=zDAjMEMOEoRFHikzhGDM5A5/Nuq+2syobCR+IlNXkqU=;
 b=L9tut5FFpHknYNcEPwfoJ8Fu3oRR4GBcZvLv87HVXc92TRuGseCgc2/zWUJqabr4io
 /SIIeOskXxtLlEJW6UmhfZYE7ATRloK04vCZOJCVyxJeXF8oZ3Tv5BWz8KMxnBWOu4df
 u8wTa4f/E2vIkPItkyOrNiSepUdUUFsckGHEY=
X-Google-DKIM-Signature: v=1; a=rsa-sha256; c=relaxed/relaxed;
 d=1e100.net; s=20230601; t=1717752331; x=1718357131;
 h=references:in-reply-to:cc:to:from:subject:message-id:date
 :x-gm-message-state:from:to:cc:subject:date:message-id:reply-to;
 bh=zDAjMEMOEoRFHikzhGDM5A5/Nuq+2syobCR+IlNXkqU=;
 b=k9OJY4U2Rw/qel3eCvqjs3bouDIc8CPPazTMKezP41Ztgo941n9aDNsstwMf9HC16z
 ao065553Ec0ewutOe6uMPtwSh/SJR+znP9T7V9rXcbsJLXZZX9Vj4Agor8PvFPviIgkV
 45D6lj1DR0AtTvEQfe5pqjkfvHPTu1i1MvQUAZAL9dlxB60gutO/P/ucDk6iFzRRLpy/
 l/uPg5bb0CLKq5th4bCVLRl4XIo7Ir6CbpFu+kNJSIEjVL6jyK/U+oKra0Jl0y7n7Pft
 Goqdpe2BC3+QdfFVweGdRRC2nm0pIfJB9dw08T4Gii6CgC0NoPN9VO/Y1MqiduLjLX4t
 sD+w==
X-Gm-Message-State: AOJu0Yyfn1/tBNiP2kmjf10BSzDqsjUJv7J7b5byp8m6SDnxzPDSu+4c
 NhCyzHwGfwf1L0w3lGznUTtYJudXZTs7xqeoM1EvDQsixBEMdELGaq7ByQqF4wdLEGYX8WOM2U1
 KmuyHBYZyMJaJb5xq/HQ/aEXVE8A6S4XlYFHk62Jg
X-Google-Smtp-Source: AGHT+IFAlz5TwFgz0nAtMrjVoi6GeVBocyqJjzSIm2BYgS95gznTwIQDou043WKZMu/y+dsdeuDYof6uPMqt
X-Received: by 2002:a05:6808:913:b0:3cf:8cd8:2e4f with SMTP id
 5614622812f47-3d210d7efc7mr1911509b6e.27.1717752331341; 
 Fri, 07 Jun 2024 02:25:31 -0700 (PDT)
Received: from postal.iol.unh.edu (postal.iol.unh.edu. [132.177.123.84])
 by smtp-relay.gmail.com with ESMTPS id
 6a1803df08f44-6b04f9e1dfcsm1384556d6.60.2024.06.07.02.25.31
 (version=TLS1_2 cipher=ECDHE-ECDSA-AES128-GCM-SHA256 bits=128/128);
 Fri, 07 Jun 2024 02:25:31 -0700 (PDT)
X-Relaying-Domain: iol.unh.edu
Date: Fri, 07 Jun 2024 02:25:31 -0700 (PDT)
Message-ID: <6662d20b.050a0220.d9d80.aa08SMTPIN_ADDED_MISSING@mx.google.com>
Received: from [172.21.0.13] (unknown [172.18.0.240])
 by postal.iol.unh.edu (Postfix) with ESMTP id 0B76F605C380;
 Fri,  7 Jun 2024 05:25:31 -0400 (EDT)
Subject: |SUCCESS| pw140844-140846 [PATCH] [3/3] net/bnxt: fix backing store 
From: dpdklab@iol.unh.edu
To: Test Report <test-report@dpdk.org>
Cc: dpdk-test-reports@iol.unh.edu
In-Reply-To: <20240606233116.38445-4-ajit.khaparde@broadcom.com>
References: <20240606233116.38445-4-ajit.khaparde@broadcom.com>
Content-Type: text/plain
X-BeenThere: test-report@dpdk.org
X-Mailman-Version: 2.1.29
Precedence: list
List-Id: automatic DPDK test reports <test-report.dpdk.org>
List-Unsubscribe: <https://mails.dpdk.org/options/test-report>,
 <mailto:test-report-request@dpdk.org?subject=unsubscribe>
List-Archive: <http://mails.dpdk.org/archives/test-report/>
List-Post: <mailto:test-report@dpdk.org>
List-Help: <mailto:test-report-request@dpdk.org?subject=help>
List-Subscribe: <https://mails.dpdk.org/listinfo/test-report>,
 <mailto:test-report-request@dpdk.org?subject=subscribe>
Errors-To: test-report-bounces@dpdk.org

Test-Label: iol-unit-arm64-testing
Test-Status: SUCCESS
http://dpdk.org/patch/140846

_Testing PASS_

Submitter: Ajit Khaparde <ajit.khaparde@broadcom.com>
Date: Thursday, June 06 2024 23:31:16 
DPDK git baseline: Repo:dpdk
  Branch: master
  CommitID:76cef1af8bdaeaf67a5c4ca5df3f221df994dc46

140844-140846 --> testing pass

Test environment and result as below:

+--------------------------+------------------------------+----------------+
|       Environment        | cryptodev_sw_snow3g_autotest | dpdk_unit_test |
+==========================+==============================+================+
| Debian 12 (arm)          | PASS                         | PASS           |
+--------------------------+------------------------------+----------------+
| CentOS Stream 9 (ARM)    | SKIPPED                      | PASS           |
+--------------------------+------------------------------+----------------+
| Debian 11 (Buster) (ARM) | SKIPPED                      | PASS           |
+--------------------------+------------------------------+----------------+
| Fedora 37 (ARM)          | SKIPPED                      | PASS           |
+--------------------------+------------------------------+----------------+


Debian 12 (arm)
	Kernel: Container Host Kernel
	Compiler: gcc 12.2.0

CentOS Stream 9 (ARM)
	Kernel: Container Host Kernel
	Compiler: gcc 11.4.1

Debian 11 (Buster) (ARM)
	Kernel: Container Host Kernel
	Compiler: gcc 10.2.1

Fedora 37 (ARM)
	Kernel: Depends on container host
	Compiler: gcc 12.3.1

To view detailed results, visit:
https://lab.dpdk.org/results/dashboard/patchsets/30138/

UNH-IOL DPDK Community Lab

To manage your email subscriptions, visit: 
https://lab.dpdk.org/results/dashboard/preferences/subscriptions/