From mboxrd@z Thu Jan  1 00:00:00 1970
Return-Path: <test-report-bounces@dpdk.org>
Received: from mails.dpdk.org (mails.dpdk.org [217.70.189.124])
	by inbox.dpdk.org (Postfix) with ESMTP id 2DE9E44180
	for <public@inbox.dpdk.org>; Fri,  7 Jun 2024 11:25:52 +0200 (CEST)
Received: from mails.dpdk.org (localhost [127.0.0.1])
	by mails.dpdk.org (Postfix) with ESMTP id 299034028A;
	Fri,  7 Jun 2024 11:25:52 +0200 (CEST)
Received: from mail-oa1-f99.google.com (mail-oa1-f99.google.com
 [209.85.160.99]) by mails.dpdk.org (Postfix) with ESMTP id 966D840151
 for <test-report@dpdk.org>; Fri,  7 Jun 2024 11:25:50 +0200 (CEST)
Received: by mail-oa1-f99.google.com with SMTP id
 586e51a60fabf-250b1549b97so980418fac.1
 for <test-report@dpdk.org>; Fri, 07 Jun 2024 02:25:50 -0700 (PDT)
DKIM-Signature: v=1; a=rsa-sha256; c=relaxed/relaxed;
 d=iol.unh.edu; s=unh-iol; t=1717752350; x=1718357150; darn=dpdk.org;
 h=references:in-reply-to:cc:to:from:subject:message-id:date:from:to
 :cc:subject:date:message-id:reply-to;
 bh=2unpjc8S469vXGzSAryi1ExT1X3IvSrbF+WnH1713mo=;
 b=HowoRVebwS733HAUpM6/WrG8ZWFu3P8PRY289Z/Sn7/jTnPXMkv9wuOuOX6Iz22km1
 TAbSWR6GTvOyUtzIpKdXLCnOg4GnHatTgdE/7M8KV2OzCGU+wKGkVke3ABgk7HYR0vhx
 YS+HgKQ+KyUMX1Kejk2ucbJsYn8hYtlhuJ1Ok=
X-Google-DKIM-Signature: v=1; a=rsa-sha256; c=relaxed/relaxed;
 d=1e100.net; s=20230601; t=1717752350; x=1718357150;
 h=references:in-reply-to:cc:to:from:subject:message-id:date
 :x-gm-message-state:from:to:cc:subject:date:message-id:reply-to;
 bh=2unpjc8S469vXGzSAryi1ExT1X3IvSrbF+WnH1713mo=;
 b=L3UAjKfVMvL8gmtouCJ70ypUqGBaDD44iz9XJosUcbLoWjG3N2xJDxk/s+AVtsaA1/
 97n5xlSEwkaksdPyuhQbsGU9l4kyFHbY3mxLjyYPGjdw9khh/CFS6V9svCx5T8XejvJF
 QSathm5nRZdR2ZFzbbyF5URyKOSViCEAkEPlRQ2/sKUjiT/wreidqnqPh/SCAc5NeYlk
 EYeORt/nj+WWmbRq9RWPR6L4UQuC2rRGWubWdf7egqp/bdsuBlFeeGOWyAUu1QRPHOeO
 N2wUnnuKayL3OqZWAfB9yI/wI/Yomyul4rjEcZVwREyH+4s6fg91G/KzqL/j/0vTdkf9
 iT3A==
X-Gm-Message-State: AOJu0Yzcr3NjONksnInKm7U4KWjXlE/gJ+5KzVrpkVW438V5q/WcwTRo
 oQKrGIsxqK7bReyW92IhkglgrINitpxxX6OEL8/KeXdUdgNmmP8R9cKrGUeXKQluRWBNaEXTZrC
 TyITG/WXBqyDRHaAokBzU4izReObGVxLZ7Ozd1BZr
X-Google-Smtp-Source: AGHT+IH/roYht4dwPsaVULu2W3DWOCKg91mKVGV8ln4DPLEiSNJt2Q235MH2S/Ma3bunbmHIP5bkI2zxf1j6
X-Received: by 2002:a05:6870:649f:b0:250:4bcb:9a0a with SMTP id
 586e51a60fabf-254648d19cbmr1871998fac.52.1717752349859; 
 Fri, 07 Jun 2024 02:25:49 -0700 (PDT)
Received: from postal.iol.unh.edu (postal.iol.unh.edu. [132.177.123.84])
 by smtp-relay.gmail.com with ESMTPS id
 586e51a60fabf-25447d0f427sm110532fac.10.2024.06.07.02.25.49
 (version=TLS1_2 cipher=ECDHE-ECDSA-AES128-GCM-SHA256 bits=128/128);
 Fri, 07 Jun 2024 02:25:49 -0700 (PDT)
X-Relaying-Domain: iol.unh.edu
Date: Fri, 07 Jun 2024 02:25:49 -0700 (PDT)
Message-ID: <6662d21d.050a0220.22b84c.8dafSMTPIN_ADDED_MISSING@mx.google.com>
Received: from [172.21.0.9] (unknown [172.18.0.240])
 by postal.iol.unh.edu (Postfix) with ESMTP id 41066605C380;
 Fri,  7 Jun 2024 05:25:48 -0400 (EDT)
Subject: |SUCCESS| pw140844-140846 [PATCH] [3/3] net/bnxt: fix backing store 
From: dpdklab@iol.unh.edu
To: Test Report <test-report@dpdk.org>
Cc: dpdk-test-reports@iol.unh.edu
In-Reply-To: <20240606233116.38445-4-ajit.khaparde@broadcom.com>
References: <20240606233116.38445-4-ajit.khaparde@broadcom.com>
Content-Type: text/plain
X-BeenThere: test-report@dpdk.org
X-Mailman-Version: 2.1.29
Precedence: list
List-Id: automatic DPDK test reports <test-report.dpdk.org>
List-Unsubscribe: <https://mails.dpdk.org/options/test-report>,
 <mailto:test-report-request@dpdk.org?subject=unsubscribe>
List-Archive: <http://mails.dpdk.org/archives/test-report/>
List-Post: <mailto:test-report@dpdk.org>
List-Help: <mailto:test-report-request@dpdk.org?subject=help>
List-Subscribe: <https://mails.dpdk.org/listinfo/test-report>,
 <mailto:test-report-request@dpdk.org?subject=subscribe>
Errors-To: test-report-bounces@dpdk.org

Test-Label: iol-abi-testing
Test-Status: SUCCESS
http://dpdk.org/patch/140846

_Testing PASS_

Submitter: Ajit Khaparde <ajit.khaparde@broadcom.com>
Date: Thursday, June 06 2024 23:31:16 
DPDK git baseline: Repo:dpdk
  Branch: master
  CommitID:76cef1af8bdaeaf67a5c4ca5df3f221df994dc46

140844-140846 --> testing pass

Test environment and result as below:

+-----------------+----------+
|   Environment   | abi_test |
+=================+==========+
| Debian 12       | PASS     |
+-----------------+----------+
| Fedora 39       | PASS     |
+-----------------+----------+
| CentOS Stream 8 | PASS     |
+-----------------+----------+
| CentOS Stream 9 | PASS     |
+-----------------+----------+
| Fedora 37       | PASS     |
+-----------------+----------+
| Fedora 38       | PASS     |
+-----------------+----------+


Debian 12
	Kernel: Container Host Kernel
	Compiler: gcc 12.2.0

Fedora 39
	Kernel: Depends on container host
	Compiler: gcc 13.2.1

CentOS Stream 8
	Kernel: 5.4.0-167-generic
	Compiler: gcc 8.5.0 20210514

CentOS Stream 9
	Kernel: 5.4.0-167-generic
	Compiler: gcc 11.4.1 20230605

Fedora 37
	Kernel: Depends on container host system
	Compiler: gcc 12.3.1

Fedora 38
	Kernel: Depends on container host
	Compiler: gcc 13.2.1

To view detailed results, visit:
https://lab.dpdk.org/results/dashboard/patchsets/30138/

UNH-IOL DPDK Community Lab

To manage your email subscriptions, visit: 
https://lab.dpdk.org/results/dashboard/preferences/subscriptions/