From mboxrd@z Thu Jan  1 00:00:00 1970
Return-Path: <test-report-bounces@dpdk.org>
Received: from mails.dpdk.org (mails.dpdk.org [217.70.189.124])
	by inbox.dpdk.org (Postfix) with ESMTP id 1AE1C44180
	for <public@inbox.dpdk.org>; Fri,  7 Jun 2024 11:32:43 +0200 (CEST)
Received: from mails.dpdk.org (localhost [127.0.0.1])
	by mails.dpdk.org (Postfix) with ESMTP id 176184028A;
	Fri,  7 Jun 2024 11:32:43 +0200 (CEST)
Received: from mail-yw1-f228.google.com (mail-yw1-f228.google.com
 [209.85.128.228])
 by mails.dpdk.org (Postfix) with ESMTP id 375E540151
 for <test-report@dpdk.org>; Fri,  7 Jun 2024 11:32:42 +0200 (CEST)
Received: by mail-yw1-f228.google.com with SMTP id
 00721157ae682-62a08099115so20219577b3.0
 for <test-report@dpdk.org>; Fri, 07 Jun 2024 02:32:42 -0700 (PDT)
DKIM-Signature: v=1; a=rsa-sha256; c=relaxed/relaxed;
 d=iol.unh.edu; s=unh-iol; t=1717752761; x=1718357561; darn=dpdk.org;
 h=references:in-reply-to:cc:to:from:subject:message-id:date:from:to
 :cc:subject:date:message-id:reply-to;
 bh=RtgPAKHjUvTzV40ZOJrXZC4ggrXUjjakrGdxcNdF9Mw=;
 b=eW9xnfSCDR9cb+ENeTNM+2UHPctCO/MVxwEsP/J1Wteq3bxoG6cWJQXM34OYZoeNU2
 BvxiyJv+Hesm/n9ILAENlOD8KjUtqo17DzL/hWo/brLFPeZQwp2jHTNoyJuZXBIhvBFj
 YyEuW2gTf0jDS9H4oNmi/W1TlAIOvGQ/HapUw=
X-Google-DKIM-Signature: v=1; a=rsa-sha256; c=relaxed/relaxed;
 d=1e100.net; s=20230601; t=1717752761; x=1718357561;
 h=references:in-reply-to:cc:to:from:subject:message-id:date
 :x-gm-message-state:from:to:cc:subject:date:message-id:reply-to;
 bh=RtgPAKHjUvTzV40ZOJrXZC4ggrXUjjakrGdxcNdF9Mw=;
 b=bdyEUFvhIKxcOA0ZPUcJTQtxC34DKp5BnCl46bL6Pb1VfPQO0R9ahzsT8zEVtEMIoP
 TMLBtUXPWBAuvGKehd9HU7HO7RS/YFVeQAmlt+uqrh4YafZFNHYnupiDW09tHuEy6tOI
 TJzKszL62dqLF9qoIODnUxPFW3MkNIpeOW2KP69qcThX3fh/vHBzq36Ma/l2efGBUbn/
 wA4lUIyWNwDINmU5dOqY71iXxQCpNH0swgq3jU6LUQkmYDqLGk8Sn6Ve6Pw3vsAhn78Y
 B01PKJrZ7HG2okRaeX4t2q1iN3tTp24Xu+SB/CWwQjg0bowyfqUB5M6W9zV3+EwRgGly
 fdAw==
X-Gm-Message-State: AOJu0Yx+UW5zCHYaI1FSIFlVxwrnmEgvDK2OMCJ+TYknYYCELDHC1S61
 3xh/Z0FrsFeUZUj9Pmdnq8jzfGpzbGIIQBNfbxOKYNJqYylI9ADejhvjrBRyKXs6aFPAD/GLxir
 peW9rBWgxAAXkeIV0l8nzQUB2jRzfyF7yD1vaC7P2
X-Google-Smtp-Source: AGHT+IHhjWYjvweaxMqLpEkFIHIMbDMcqbRh1XxAWdrLPDhcoEBDi36Unixum0WLDAM68NYOzVwBcxouANGL
X-Received: by 2002:a81:8483:0:b0:61a:b199:9313 with SMTP id
 00721157ae682-62cd55cc443mr18471427b3.16.1717752761350; 
 Fri, 07 Jun 2024 02:32:41 -0700 (PDT)
Received: from postal.iol.unh.edu (postal.iol.unh.edu. [132.177.123.84])
 by smtp-relay.gmail.com with ESMTPS id
 00721157ae682-62ccaec9dfdsm1490047b3.60.2024.06.07.02.32.41
 (version=TLS1_2 cipher=ECDHE-ECDSA-AES128-GCM-SHA256 bits=128/128);
 Fri, 07 Jun 2024 02:32:41 -0700 (PDT)
X-Relaying-Domain: iol.unh.edu
Date: Fri, 07 Jun 2024 02:32:41 -0700 (PDT)
Message-ID: <6662d3b9.050a0220.c49f9.c343SMTPIN_ADDED_MISSING@mx.google.com>
Received: from [172.21.0.7] (unknown [172.18.0.240])
 by postal.iol.unh.edu (Postfix) with ESMTP id 23EFE605C380;
 Fri,  7 Jun 2024 05:32:40 -0400 (EDT)
Subject: |SUCCESS| pw140844-140846 [PATCH] [3/3] net/bnxt: fix backing store 
From: dpdklab@iol.unh.edu
To: Test Report <test-report@dpdk.org>
Cc: dpdk-test-reports@iol.unh.edu
In-Reply-To: <20240606233116.38445-4-ajit.khaparde@broadcom.com>
References: <20240606233116.38445-4-ajit.khaparde@broadcom.com>
Content-Type: text/plain
X-BeenThere: test-report@dpdk.org
X-Mailman-Version: 2.1.29
Precedence: list
List-Id: automatic DPDK test reports <test-report.dpdk.org>
List-Unsubscribe: <https://mails.dpdk.org/options/test-report>,
 <mailto:test-report-request@dpdk.org?subject=unsubscribe>
List-Archive: <http://mails.dpdk.org/archives/test-report/>
List-Post: <mailto:test-report@dpdk.org>
List-Help: <mailto:test-report-request@dpdk.org?subject=help>
List-Subscribe: <https://mails.dpdk.org/listinfo/test-report>,
 <mailto:test-report-request@dpdk.org?subject=subscribe>
Errors-To: test-report-bounces@dpdk.org

Test-Label: iol-compile-arm64-testing
Test-Status: SUCCESS
http://dpdk.org/patch/140846

_Testing PASS_

Submitter: Ajit Khaparde <ajit.khaparde@broadcom.com>
Date: Thursday, June 06 2024 23:31:16 
DPDK git baseline: Repo:dpdk
  Branch: master
  CommitID:76cef1af8bdaeaf67a5c4ca5df3f221df994dc46

140844-140846 --> testing pass

Test environment and result as below:

+------------------------------------+--------------------+
|            Environment             | dpdk_meson_compile |
+====================================+====================+
| Ubuntu 20.04 ARM SVE               | PASS               |
+------------------------------------+--------------------+
| Debian 12 with MUSDK               | PASS               |
+------------------------------------+--------------------+
| Fedora 38 (ARM)                    | PASS               |
+------------------------------------+--------------------+
| Ubuntu 24.04 (ARM)                 | PASS               |
+------------------------------------+--------------------+
| Fedora 37 (ARM)                    | PASS               |
+------------------------------------+--------------------+
| Fedora 39 (ARM)                    | PASS               |
+------------------------------------+--------------------+
| Ubuntu 22.04 (ARM)                 | PASS               |
+------------------------------------+--------------------+
| Ubuntu 20.04 (ARM)                 | PASS               |
+------------------------------------+--------------------+
| Debian 12 (arm)                    | PASS               |
+------------------------------------+--------------------+
| Debian 11 (Buster) (ARM)           | PASS               |
+------------------------------------+--------------------+
| CentOS Stream 9 (ARM)              | PASS               |
+------------------------------------+--------------------+
| Ubuntu 20.04 ARM GCC Cross Compile | PASS               |
+------------------------------------+--------------------+


Ubuntu 20.04 ARM SVE
	Kernel: 5.4.0-167-generic
	Compiler: gcc (Ubuntu 10.5.0-1ubuntu1~20.04) 10.5.0

Debian 12 with MUSDK
	Kernel: Container Host Kernel
	Compiler: gcc 12.2.0

Fedora 38 (ARM)
	Kernel: Depends on container host
	Compiler: gcc 13.2.1

Ubuntu 24.04 (ARM)
	Kernel: 5.4.0-167-generic
	Compiler: gcc 13.2.0

Fedora 37 (ARM)
	Kernel: Depends on container host
	Compiler: gcc 12.3.1

Fedora 39 (ARM)
	Kernel: Depends on container host
	Compiler: gcc 13.2.1

Ubuntu 22.04 (ARM)
	Kernel: Container Host Kernel
	Compiler: gcc 11.4.0

Ubuntu 20.04 (ARM)
	Kernel: Container Host Kernel
	Compiler: gcc 9.4.0

Debian 12 (arm)
	Kernel: Container Host Kernel
	Compiler: gcc 12.2.0

Debian 11 (Buster) (ARM)
	Kernel: Container Host Kernel
	Compiler: gcc 10.2.1

CentOS Stream 9 (ARM)
	Kernel: Container Host Kernel
	Compiler: gcc 11.4.1

Ubuntu 20.04 ARM GCC Cross Compile
	Kernel: 5.4.0-167-generic
	Compiler: aarch64-linux-gnu-gcc (Ubuntu 9.4.0-1ubuntu1~20.04.2) 9.4.0

To view detailed results, visit:
https://lab.dpdk.org/results/dashboard/patchsets/30138/

UNH-IOL DPDK Community Lab

To manage your email subscriptions, visit: 
https://lab.dpdk.org/results/dashboard/preferences/subscriptions/