From mboxrd@z Thu Jan  1 00:00:00 1970
Return-Path: <test-report-bounces@dpdk.org>
Received: from mails.dpdk.org (mails.dpdk.org [217.70.189.124])
	by inbox.dpdk.org (Postfix) with ESMTP id 35CDF44180
	for <public@inbox.dpdk.org>; Fri,  7 Jun 2024 11:32:58 +0200 (CEST)
Received: from mails.dpdk.org (localhost [127.0.0.1])
	by mails.dpdk.org (Postfix) with ESMTP id 31CB64028A;
	Fri,  7 Jun 2024 11:32:58 +0200 (CEST)
Received: from mail-yw1-f226.google.com (mail-yw1-f226.google.com
 [209.85.128.226])
 by mails.dpdk.org (Postfix) with ESMTP id AD0BE40151
 for <test-report@dpdk.org>; Fri,  7 Jun 2024 11:32:57 +0200 (CEST)
Received: by mail-yw1-f226.google.com with SMTP id
 00721157ae682-627efad69b4so18801257b3.3
 for <test-report@dpdk.org>; Fri, 07 Jun 2024 02:32:57 -0700 (PDT)
DKIM-Signature: v=1; a=rsa-sha256; c=relaxed/relaxed;
 d=iol.unh.edu; s=unh-iol; t=1717752777; x=1718357577; darn=dpdk.org;
 h=references:in-reply-to:cc:to:from:subject:message-id:date:from:to
 :cc:subject:date:message-id:reply-to;
 bh=xA2xtoxQrCbHtLGgjmfxwVWHmgLwDfUlFsi+K8Nl9MA=;
 b=U2y62gqJTLvJ9HDTVSKk+uQvSfxzst4ZfuvKWHPGDkx3asYzQ4lx6qCiH1QMekFM/8
 DwRU0/3K5RFlD+B5qgw4n/68PEEmOy/C0w8h7s6JeEcz9k0RHfhO6Mos0OCTqtheAMz1
 lDphkzWTxFMkK0KalSenWSxsYx8TLuyUDFdlM=
X-Google-DKIM-Signature: v=1; a=rsa-sha256; c=relaxed/relaxed;
 d=1e100.net; s=20230601; t=1717752777; x=1718357577;
 h=references:in-reply-to:cc:to:from:subject:message-id:date
 :x-gm-message-state:from:to:cc:subject:date:message-id:reply-to;
 bh=xA2xtoxQrCbHtLGgjmfxwVWHmgLwDfUlFsi+K8Nl9MA=;
 b=e14dkoJUlBiQG3JbYDN5FSynNdkjYegcDGYe8hZfKd0mZP29erJaA7SogGaGPS6Ia7
 91k76qNDNl7sLXJWH8fXlytt9/bm6YBcJRZXdybd4t9wiWxdgBz8BnDiR4QAfPFjJqEV
 UYKVVJRtRbb8YZzmRE+UOFyVWhpb+o1mnNf6xr6xdK4uKZ+B4Q1V3xHG9jWA5WF9wIQg
 tAfZroel/PscIe4zfSnVkqkS2fQgCcv99PlN8UImyLP83E/J+JVhS8tgsVUkImzS2Jnu
 deKIrL6TvzQHSaeZofQp1M1AlhU01s+rwdhl9+glJ90tLU4ycfOk9LbS6aboA1u4PLld
 W5dw==
X-Gm-Message-State: AOJu0YwjB+ocOeX6zDEI/7msTGNwaZ2uAU0ZPFY19aLtgQnMRtOHNMES
 2nGrubyYyR8eDQB36AVYonW367j28dBrXWfC8NCOCNQxuIu2WlffprlsLRc7crH/cPmBZxw1wl9
 ymJKoBNYL6bwIZtEZVIAum+p9iVn8kobYnz9FJKyBZSAUfH55zJDWh5GC
X-Google-Smtp-Source: AGHT+IElkTD8aeRkSGlT4LRkuSjePy7LmEOXviizKSh9+wXsFIgM4qFT0rR+XTImrMhYRZTzTOiCxrheNrgE
X-Received: by 2002:a81:9e4e:0:b0:61a:da7e:1f66 with SMTP id
 00721157ae682-62cd55f1a5emr17830177b3.2.1717752777098; 
 Fri, 07 Jun 2024 02:32:57 -0700 (PDT)
Received: from postal.iol.unh.edu (postal.iol.unh.edu.
 [2606:4100:3880:1234::84]) by smtp-relay.gmail.com with ESMTPS id
 00721157ae682-62ccaf89378sm1458397b3.78.2024.06.07.02.32.57
 (version=TLS1_2 cipher=ECDHE-ECDSA-AES128-GCM-SHA256 bits=128/128);
 Fri, 07 Jun 2024 02:32:57 -0700 (PDT)
X-Relaying-Domain: iol.unh.edu
Date: Fri, 07 Jun 2024 02:32:57 -0700 (PDT)
Message-ID: <6662d3c9.050a0220.54cb5.b0b9SMTPIN_ADDED_MISSING@mx.google.com>
Received: from [172.21.0.6] (unknown [172.18.0.240])
 by postal.iol.unh.edu (Postfix) with ESMTP id BA995605C380;
 Fri,  7 Jun 2024 05:32:56 -0400 (EDT)
Subject: |SUCCESS| pw140844-140846 [PATCH] [3/3] net/bnxt: fix backing store 
From: dpdklab@iol.unh.edu
To: Test Report <test-report@dpdk.org>
Cc: dpdk-test-reports@iol.unh.edu
In-Reply-To: <20240606233116.38445-4-ajit.khaparde@broadcom.com>
References: <20240606233116.38445-4-ajit.khaparde@broadcom.com>
Content-Type: text/plain
X-BeenThere: test-report@dpdk.org
X-Mailman-Version: 2.1.29
Precedence: list
List-Id: automatic DPDK test reports <test-report.dpdk.org>
List-Unsubscribe: <https://mails.dpdk.org/options/test-report>,
 <mailto:test-report-request@dpdk.org?subject=unsubscribe>
List-Archive: <http://mails.dpdk.org/archives/test-report/>
List-Post: <mailto:test-report@dpdk.org>
List-Help: <mailto:test-report-request@dpdk.org?subject=help>
List-Subscribe: <https://mails.dpdk.org/listinfo/test-report>,
 <mailto:test-report-request@dpdk.org?subject=subscribe>
Errors-To: test-report-bounces@dpdk.org

Test-Label: iol-abi-testing
Test-Status: SUCCESS
http://dpdk.org/patch/140846

_Testing PASS_

Submitter: Ajit Khaparde <ajit.khaparde@broadcom.com>
Date: Thursday, June 06 2024 23:31:16 
DPDK git baseline: Repo:dpdk
  Branch: master
  CommitID:76cef1af8bdaeaf67a5c4ca5df3f221df994dc46

140844-140846 --> testing pass

Test environment and result as below:

+------------------+----------+
|   Environment    | abi_test |
+==================+==========+
| Debian 12        | PASS     |
+------------------+----------+
| Fedora 39        | PASS     |
+------------------+----------+
| CentOS Stream 8  | PASS     |
+------------------+----------+
| CentOS Stream 9  | PASS     |
+------------------+----------+
| Fedora 37        | PASS     |
+------------------+----------+
| Fedora 38        | PASS     |
+------------------+----------+
| Debian Bullseye  | PASS     |
+------------------+----------+
| openSUSE Leap 15 | PASS     |
+------------------+----------+


Debian 12
	Kernel: Container Host Kernel
	Compiler: gcc 12.2.0

Fedora 39
	Kernel: Depends on container host
	Compiler: gcc 13.2.1

CentOS Stream 8
	Kernel: 5.4.0-167-generic
	Compiler: gcc 8.5.0 20210514

CentOS Stream 9
	Kernel: 5.4.0-167-generic
	Compiler: gcc 11.4.1 20230605

Fedora 37
	Kernel: Depends on container host system
	Compiler: gcc 12.3.1

Fedora 38
	Kernel: Depends on container host
	Compiler: gcc 13.2.1

Debian Bullseye
	Kernel: 5.4.0-167-generic
	Compiler: gcc 10.2.1-6

openSUSE Leap 15
	Kernel: 5.4.0-167-generic
	Compiler: gcc 7.5.0

To view detailed results, visit:
https://lab.dpdk.org/results/dashboard/patchsets/30138/

UNH-IOL DPDK Community Lab

To manage your email subscriptions, visit: 
https://lab.dpdk.org/results/dashboard/preferences/subscriptions/