From mboxrd@z Thu Jan  1 00:00:00 1970
Return-Path: <test-report-bounces@dpdk.org>
Received: from mails.dpdk.org (mails.dpdk.org [217.70.189.124])
	by inbox.dpdk.org (Postfix) with ESMTP id 0C62444180
	for <public@inbox.dpdk.org>; Fri,  7 Jun 2024 11:39:31 +0200 (CEST)
Received: from mails.dpdk.org (localhost [127.0.0.1])
	by mails.dpdk.org (Postfix) with ESMTP id 079D94028A;
	Fri,  7 Jun 2024 11:39:31 +0200 (CEST)
Received: from mail-yw1-f227.google.com (mail-yw1-f227.google.com
 [209.85.128.227])
 by mails.dpdk.org (Postfix) with ESMTP id 6199640151
 for <test-report@dpdk.org>; Fri,  7 Jun 2024 11:39:29 +0200 (CEST)
Received: by mail-yw1-f227.google.com with SMTP id
 00721157ae682-62a080a171dso19470617b3.0
 for <test-report@dpdk.org>; Fri, 07 Jun 2024 02:39:29 -0700 (PDT)
DKIM-Signature: v=1; a=rsa-sha256; c=relaxed/relaxed;
 d=iol.unh.edu; s=unh-iol; t=1717753168; x=1718357968; darn=dpdk.org;
 h=references:in-reply-to:cc:to:from:subject:message-id:date:from:to
 :cc:subject:date:message-id:reply-to;
 bh=XIF8F/M8gXjdKMNpp9LURP2uVzHApjfbKzxOCUs4nrY=;
 b=iuGErIWjRz8ygFIeutwZDjPUtJQejJQK+QPJ92ALfIDczjAO0t4y6mrIYak08/VJgi
 bd6xLfaEEbVqncTtB4Bj4MBitUw0DJq/DjT3lgS6gdvEvx7y4X8ODVy40JsL1dnjIs0E
 T++LQTzHK8e5fpyFPFoiZD51V1iIeLhmDLBng=
X-Google-DKIM-Signature: v=1; a=rsa-sha256; c=relaxed/relaxed;
 d=1e100.net; s=20230601; t=1717753168; x=1718357968;
 h=references:in-reply-to:cc:to:from:subject:message-id:date
 :x-gm-message-state:from:to:cc:subject:date:message-id:reply-to;
 bh=XIF8F/M8gXjdKMNpp9LURP2uVzHApjfbKzxOCUs4nrY=;
 b=hxqRd3gnOtR+ULoUWBx1Z1EvVw8uJSxiCmwLjX65j0uO+cXbdOjHCPVnBcgWCYf0Po
 p8HhbGqeTK5yoDC+ft2OsvGUlOpYxVKQ8N4fO9sdcLiP3MOqhmTPtzsBAp3Wlrj73tre
 tD9JbRtSHmcNYGkPodXEkmHm2whY7aMmelktAjEawKKCwFRfYNdi99TyRl15DKurYbf1
 UBbBir5KptVOQcLqCbB2rQqkMfi46sGrYV1fyvfJGco6GYo8OUzxHy71GzFWS5sT/a7w
 Gn7wVXRsdcOOD1qGyDJFxQ7iBkO/D2eEKlEODu9vKAjH9cYtLkPGvElq+JyGxf54YQXv
 JqLQ==
X-Gm-Message-State: AOJu0YyyAabOEnNVBqh62F0n5ZX2SaE0OuOM9UavLIwjnWu17JmLQ2VB
 2bvSI3C1+j/aVw3aKKv9W/IUGxNyX5X8Swi7GGt96z0mj99rgAhy90+UuMJzBaitb8dufYZwNgO
 p7vdn5OdA7sXpPyEuwx/h2IaqXYAIN6EYJBci8TVoGDT8tD9GV9oQyoP7
X-Google-Smtp-Source: AGHT+IFeuKkkfLFxvKh9zcEypHN5PNECaDkvIAbfvk/C+wwnv/xaDWmR0cacnAXKraR9t+jsuTvV+mZ89zzV
X-Received: by 2002:a81:a50f:0:b0:62c:6fac:1c2b with SMTP id
 00721157ae682-62cd562bed7mr18834257b3.27.1717753168609; 
 Fri, 07 Jun 2024 02:39:28 -0700 (PDT)
Received: from postal.iol.unh.edu (postal.iol.unh.edu.
 [2606:4100:3880:1234::84]) by smtp-relay.gmail.com with ESMTPS id
 00721157ae682-62ccaf28959sm1391157b3.67.2024.06.07.02.39.28
 (version=TLS1_2 cipher=ECDHE-ECDSA-AES128-GCM-SHA256 bits=128/128);
 Fri, 07 Jun 2024 02:39:28 -0700 (PDT)
X-Relaying-Domain: iol.unh.edu
Date: Fri, 07 Jun 2024 02:39:28 -0700 (PDT)
Message-ID: <6662d550.050a0220.9ac77.b134SMTPIN_ADDED_MISSING@mx.google.com>
Received: from [172.21.0.6] (unknown [172.18.0.240])
 by postal.iol.unh.edu (Postfix) with ESMTP id 43238605C381;
 Fri,  7 Jun 2024 05:39:28 -0400 (EDT)
Subject: |SUCCESS| pw140844-140846 [PATCH] [3/3] net/bnxt: fix backing store 
From: dpdklab@iol.unh.edu
To: Test Report <test-report@dpdk.org>
Cc: dpdk-test-reports@iol.unh.edu
In-Reply-To: <20240606233116.38445-4-ajit.khaparde@broadcom.com>
References: <20240606233116.38445-4-ajit.khaparde@broadcom.com>
Content-Type: text/plain
X-BeenThere: test-report@dpdk.org
X-Mailman-Version: 2.1.29
Precedence: list
List-Id: automatic DPDK test reports <test-report.dpdk.org>
List-Unsubscribe: <https://mails.dpdk.org/options/test-report>,
 <mailto:test-report-request@dpdk.org?subject=unsubscribe>
List-Archive: <http://mails.dpdk.org/archives/test-report/>
List-Post: <mailto:test-report@dpdk.org>
List-Help: <mailto:test-report-request@dpdk.org?subject=help>
List-Subscribe: <https://mails.dpdk.org/listinfo/test-report>,
 <mailto:test-report-request@dpdk.org?subject=subscribe>
Errors-To: test-report-bounces@dpdk.org

Test-Label: iol-unit-arm64-testing
Test-Status: SUCCESS
http://dpdk.org/patch/140846

_Testing PASS_

Submitter: Ajit Khaparde <ajit.khaparde@broadcom.com>
Date: Thursday, June 06 2024 23:31:16 
DPDK git baseline: Repo:dpdk
  Branch: master
  CommitID:76cef1af8bdaeaf67a5c4ca5df3f221df994dc46

140844-140846 --> testing pass

Test environment and result as below:

+-----------------------------+------------------------------+----------------+
|         Environment         | cryptodev_sw_snow3g_autotest | dpdk_unit_test |
+=============================+==============================+================+
| Debian 12 (arm)             | PASS                         | PASS           |
+-----------------------------+------------------------------+----------------+
| CentOS Stream 9 (ARM)       | SKIPPED                      | PASS           |
+-----------------------------+------------------------------+----------------+
| Debian 11 (Buster) (ARM)    | SKIPPED                      | PASS           |
+-----------------------------+------------------------------+----------------+
| Fedora 37 (ARM)             | SKIPPED                      | PASS           |
+-----------------------------+------------------------------+----------------+
| Fedora 38 (ARM)             | SKIPPED                      | PASS           |
+-----------------------------+------------------------------+----------------+
| Fedora 39 (ARM)             | SKIPPED                      | PASS           |
+-----------------------------+------------------------------+----------------+
| Ubuntu 20.04 (ARM)          | SKIPPED                      | PASS           |
+-----------------------------+------------------------------+----------------+
| 32-bit Ubuntu 20.04.4 (ARM) | SKIPPED                      | PASS           |
+-----------------------------+------------------------------+----------------+


Debian 12 (arm)
	Kernel: Container Host Kernel
	Compiler: gcc 12.2.0

CentOS Stream 9 (ARM)
	Kernel: Container Host Kernel
	Compiler: gcc 11.4.1

Debian 11 (Buster) (ARM)
	Kernel: Container Host Kernel
	Compiler: gcc 10.2.1

Fedora 37 (ARM)
	Kernel: Depends on container host
	Compiler: gcc 12.3.1

Fedora 38 (ARM)
	Kernel: Depends on container host
	Compiler: gcc 13.2.1

Fedora 39 (ARM)
	Kernel: Depends on container host
	Compiler: gcc 13.2.1

Ubuntu 20.04 (ARM)
	Kernel: Container Host Kernel
	Compiler: gcc 9.4.0

32-bit Ubuntu 20.04.4 (ARM)
	Kernel: 5.4.0-155-generic aarch64
	Compiler: gcc 9.4

To view detailed results, visit:
https://lab.dpdk.org/results/dashboard/patchsets/30138/

UNH-IOL DPDK Community Lab

To manage your email subscriptions, visit: 
https://lab.dpdk.org/results/dashboard/preferences/subscriptions/