From mboxrd@z Thu Jan  1 00:00:00 1970
Return-Path: <test-report-bounces@dpdk.org>
Received: from mails.dpdk.org (mails.dpdk.org [217.70.189.124])
	by inbox.dpdk.org (Postfix) with ESMTP id 9AFB144180
	for <public@inbox.dpdk.org>; Fri,  7 Jun 2024 11:49:18 +0200 (CEST)
Received: from mails.dpdk.org (localhost [127.0.0.1])
	by mails.dpdk.org (Postfix) with ESMTP id 927254028A;
	Fri,  7 Jun 2024 11:49:18 +0200 (CEST)
Received: from mail-oo1-f99.google.com (mail-oo1-f99.google.com
 [209.85.161.99]) by mails.dpdk.org (Postfix) with ESMTP id 0E06D40151
 for <test-report@dpdk.org>; Fri,  7 Jun 2024 11:49:17 +0200 (CEST)
Received: by mail-oo1-f99.google.com with SMTP id
 006d021491bc7-5b9f9e7176eso852311eaf.2
 for <test-report@dpdk.org>; Fri, 07 Jun 2024 02:49:17 -0700 (PDT)
DKIM-Signature: v=1; a=rsa-sha256; c=relaxed/relaxed;
 d=iol.unh.edu; s=unh-iol; t=1717753756; x=1718358556; darn=dpdk.org;
 h=references:in-reply-to:cc:to:from:subject:message-id:date:from:to
 :cc:subject:date:message-id:reply-to;
 bh=mu+mWXufhj/3QvC1nVkxdE8PMUCxxiSW7sZKqIRLnS0=;
 b=JWYk/PCcX6rJe8lypv2NeCAyrKSAxlkCv8FSLBw6CUGslcyZmqxoEqS4JaQuL+qJjA
 V3+sNlMVdUJ9RdirKBKMosYZwLLofOVNlPaSkfqGBkM0pyoW6A7iaIRFUw9YtfeqKgr6
 hPIHqKzbN6tMpxuqPkToUfGveLvWoK7COi3jo=
X-Google-DKIM-Signature: v=1; a=rsa-sha256; c=relaxed/relaxed;
 d=1e100.net; s=20230601; t=1717753756; x=1718358556;
 h=references:in-reply-to:cc:to:from:subject:message-id:date
 :x-gm-message-state:from:to:cc:subject:date:message-id:reply-to;
 bh=mu+mWXufhj/3QvC1nVkxdE8PMUCxxiSW7sZKqIRLnS0=;
 b=DVuFfY22ec4nSbKBV8pe/kay6TyLUjFID83/dxZlrNa+EQwLfjQukG863YNh/ZHUIR
 WpK4nt5h+C6+VXzRXxbxb4Bc3Z6/qaSH083mGRsLfRZzJZcs4360My87WzkG5Z11FBAZ
 u0nOYaIlXS1HXowmGPSbKMYsGH0BSQFOAshIwAcP2lY4fONzlLDz5MU6XeuxmwPFJ/g0
 9zy/jKyJSynP1RxR/iQJos/cBGGa13aVNTD83OaEH/WoCd7FBzJjVU9gEEyN3jgzaM3f
 WJvsM4e53sjykEI8Ou5hLE1DNiuTWpRr9vuoeN/4KLIfA6me0WFVppk9/2rNnKUqX9Rt
 RiBA==
X-Gm-Message-State: AOJu0YzaFe+elqPW/PGNDjp3T4SWgY/dnfg/Zhk7wgDgTH2RNpUv1ogd
 hKQD/5mgWGH+06LL8DLulIghssQbbOgqOpMrK7JeuphoFmZTlAgvxmVjKqEsOBr7JMZeuJ9s7x3
 SeD37tTZjSGYFSvqBDJox0qgnsYHsGLuOEQyw8r77i3RK4HND1DrqwvxO
X-Google-Smtp-Source: AGHT+IHTydMpJvRWaakCTJsMIVjgcDUt/uErcXF0CberilLEjA8n66ONTzMyweWDf+Bfk/8fDGfdfBB95C8w
X-Received: by 2002:a05:6820:1689:b0:5b9:fae1:75b6 with SMTP id
 006d021491bc7-5baae512ac9mr2163479eaf.1.1717753756251; 
 Fri, 07 Jun 2024 02:49:16 -0700 (PDT)
Received: from postal.iol.unh.edu (postal.iol.unh.edu.
 [2606:4100:3880:1234::84]) by smtp-relay.gmail.com with ESMTPS id
 006d021491bc7-5ba976a4e77sm192212eaf.2.2024.06.07.02.49.16
 (version=TLS1_2 cipher=ECDHE-ECDSA-AES128-GCM-SHA256 bits=128/128);
 Fri, 07 Jun 2024 02:49:16 -0700 (PDT)
X-Relaying-Domain: iol.unh.edu
Date: Fri, 07 Jun 2024 02:49:16 -0700 (PDT)
Message-ID: <6662d79c.4a0a0220.560c0.fbd1SMTPIN_ADDED_MISSING@mx.google.com>
Received: from [172.17.0.5] (unknown [172.18.0.214])
 by postal.iol.unh.edu (Postfix) with ESMTP id A7CB1605C380;
 Fri,  7 Jun 2024 05:49:15 -0400 (EDT)
Subject: |SUCCESS| pw140844-140846 [PATCH] [3/3] net/bnxt: fix backing store 
From: dpdklab@iol.unh.edu
To: Test Report <test-report@dpdk.org>
Cc: dpdk-test-reports@iol.unh.edu
In-Reply-To: <20240606233116.38445-4-ajit.khaparde@broadcom.com>
References: <20240606233116.38445-4-ajit.khaparde@broadcom.com>
Content-Type: text/plain
X-BeenThere: test-report@dpdk.org
X-Mailman-Version: 2.1.29
Precedence: list
List-Id: automatic DPDK test reports <test-report.dpdk.org>
List-Unsubscribe: <https://mails.dpdk.org/options/test-report>,
 <mailto:test-report-request@dpdk.org?subject=unsubscribe>
List-Archive: <http://mails.dpdk.org/archives/test-report/>
List-Post: <mailto:test-report@dpdk.org>
List-Help: <mailto:test-report-request@dpdk.org?subject=help>
List-Subscribe: <https://mails.dpdk.org/listinfo/test-report>,
 <mailto:test-report-request@dpdk.org?subject=subscribe>
Errors-To: test-report-bounces@dpdk.org

Test-Label: iol-compile-amd64-testing
Test-Status: SUCCESS
http://dpdk.org/patch/140846

_Testing PASS_

Submitter: Ajit Khaparde <ajit.khaparde@broadcom.com>
Date: Thursday, June 06 2024 23:31:16 
DPDK git baseline: Repo:dpdk
  Branch: master
  CommitID:76cef1af8bdaeaf67a5c4ca5df3f221df994dc46

140844-140846 --> testing pass

Test environment and result as below:

+---------------------+--------------------+----------------------+-------------------+------------------+-------------------+
|     Environment     | dpdk_meson_compile | dpdk_mingw64_compile | dpdk_msvc_compile | dpdk_compile_ovs | dpdk_compile_spdk |
+=====================+====================+======================+===================+==================+===================+
| FreeBSD 13.3        | PASS               | SKIPPED              | SKIPPED           | SKIPPED          | SKIPPED           |
+---------------------+--------------------+----------------------+-------------------+------------------+-------------------+
| Windows Server 2019 | PASS               | PASS                 | SKIPPED           | SKIPPED          | SKIPPED           |
+---------------------+--------------------+----------------------+-------------------+------------------+-------------------+
| Windows Server 2022 | PASS               | PASS                 | PASS              | SKIPPED          | SKIPPED           |
+---------------------+--------------------+----------------------+-------------------+------------------+-------------------+
| FreeBSD 14.0        | PASS               | SKIPPED              | SKIPPED           | SKIPPED          | SKIPPED           |
+---------------------+--------------------+----------------------+-------------------+------------------+-------------------+
| Fedora 37           | PASS               | SKIPPED              | SKIPPED           | PASS             | PASS              |
+---------------------+--------------------+----------------------+-------------------+------------------+-------------------+
| Debian Bullseye     | PASS               | SKIPPED              | SKIPPED           | PASS             | PASS              |
+---------------------+--------------------+----------------------+-------------------+------------------+-------------------+
| Fedora 38           | PASS               | SKIPPED              | SKIPPED           | PASS             | PASS              |
+---------------------+--------------------+----------------------+-------------------+------------------+-------------------+
| CentOS Stream 9     | PASS               | SKIPPED              | SKIPPED           | PASS             | PASS              |
+---------------------+--------------------+----------------------+-------------------+------------------+-------------------+
| CentOS Stream 8     | PASS               | SKIPPED              | SKIPPED           | PASS             | PASS              |
+---------------------+--------------------+----------------------+-------------------+------------------+-------------------+
| Ubuntu 22.04        | PASS               | SKIPPED              | SKIPPED           | PASS             | PASS              |
+---------------------+--------------------+----------------------+-------------------+------------------+-------------------+
| RHEL8               | PASS               | SKIPPED              | SKIPPED           | PASS             | SKIPPED           |
+---------------------+--------------------+----------------------+-------------------+------------------+-------------------+
| Ubuntu 24.04        | PASS               | SKIPPED              | SKIPPED           | PASS             | PASS              |
+---------------------+--------------------+----------------------+-------------------+------------------+-------------------+
| Alpine              | PASS               | SKIPPED              | SKIPPED           | PASS             | SKIPPED           |
+---------------------+--------------------+----------------------+-------------------+------------------+-------------------+
| Ubuntu 20.04        | PASS               | SKIPPED              | SKIPPED           | PASS             | SKIPPED           |
+---------------------+--------------------+----------------------+-------------------+------------------+-------------------+
| Fedora 39           | PASS               | SKIPPED              | SKIPPED           | PASS             | PASS              |
+---------------------+--------------------+----------------------+-------------------+------------------+-------------------+
| Debian 12           | PASS               | SKIPPED              | SKIPPED           | PASS             | SKIPPED           |
+---------------------+--------------------+----------------------+-------------------+------------------+-------------------+


FreeBSD 13.3
	Kernel: 13.3-RELEASE-p1
	Compiler: clang 17.0.6

Windows Server 2019
	Kernel: 10.0.17763
	Compiler: clang 14.0 and gcc 8.1.0 (MinGW)

Windows Server 2022
	Kernel: 10.0.20348.2031
	Compiler: clang 15.0.7, gcc 8.1.0 (MinGW), and MSVC VS 17.9

FreeBSD 14.0
	Kernel: 14.0
	Compiler: clang 16.0.6

Fedora 37
	Kernel: Depends on container host system
	Compiler: gcc 12.3.1

Debian Bullseye
	Kernel: 5.4.0-167-generic
	Compiler: gcc 10.2.1-6

Fedora 38
	Kernel: Depends on container host
	Compiler: gcc 13.2.1

CentOS Stream 9
	Kernel: 5.4.0-167-generic
	Compiler: gcc 11.4.1 20230605

CentOS Stream 8
	Kernel: 5.4.0-167-generic
	Compiler: gcc 8.5.0 20210514

Ubuntu 22.04
	Kernel: 5.4.0-167-generic
	Compiler: gcc 11.4.0

RHEL8
	Kernel: 5.4.0-167-generic
	Compiler: gcc 8.5.0 20210514 (Red Hat 8.5.0-20)

Ubuntu 24.04
	Kernel: 5.4.0-167-generic
	Compiler: gcc 13.2.0

Alpine
	Kernel: 5.4.0-167-generic
	Compiler: gcc (Alpine 13.2.1_git20231014) 13.2.1 20231014

Ubuntu 20.04
	Kernel: 5.4.0-167-generic
	Compiler: gcc 9.4.0-1ubuntu1~20.04.1

Fedora 39
	Kernel: Depends on container host
	Compiler: gcc 13.2.1

Debian 12
	Kernel: Container Host Kernel
	Compiler: gcc 12.2.0

To view detailed results, visit:
https://lab.dpdk.org/results/dashboard/patchsets/30138/

UNH-IOL DPDK Community Lab

To manage your email subscriptions, visit: 
https://lab.dpdk.org/results/dashboard/preferences/subscriptions/