From mboxrd@z Thu Jan  1 00:00:00 1970
Return-Path: <test-report-bounces@dpdk.org>
Received: from mails.dpdk.org (mails.dpdk.org [217.70.189.124])
	by inbox.dpdk.org (Postfix) with ESMTP id 472C344180
	for <public@inbox.dpdk.org>; Fri,  7 Jun 2024 13:24:13 +0200 (CEST)
Received: from mails.dpdk.org (localhost [127.0.0.1])
	by mails.dpdk.org (Postfix) with ESMTP id 424154029A;
	Fri,  7 Jun 2024 13:24:13 +0200 (CEST)
Received: from mail-pf1-f227.google.com (mail-pf1-f227.google.com
 [209.85.210.227])
 by mails.dpdk.org (Postfix) with ESMTP id 1B08740151
 for <test-report@dpdk.org>; Fri,  7 Jun 2024 13:24:12 +0200 (CEST)
Received: by mail-pf1-f227.google.com with SMTP id
 d2e1a72fcca58-7024d571d8eso1700374b3a.0
 for <test-report@dpdk.org>; Fri, 07 Jun 2024 04:24:12 -0700 (PDT)
DKIM-Signature: v=1; a=rsa-sha256; c=relaxed/relaxed;
 d=iol.unh.edu; s=unh-iol; t=1717759451; x=1718364251; darn=dpdk.org;
 h=references:in-reply-to:cc:to:from:subject:message-id:date:from:to
 :cc:subject:date:message-id:reply-to;
 bh=pie/ZznnpqI1DX7XUJIDvAK30S5JSwPYWyrTOYBbcCc=;
 b=OJaaX8wYyZeAfW8WA3mhgBoGsVpnr/H7YJfqTMnh/GuXZX6uBo09fwNlsKntOZZPqa
 PxUpdXd05qmki77pAi8Q3mlr5K6QJNiRO5Xj7eKw4tw+W009qh33u5Tb8J8lF54EvCQO
 Sg+RiDLM17WfGBxoY74NM+QGEB7Vjzb+jEw3U=
X-Google-DKIM-Signature: v=1; a=rsa-sha256; c=relaxed/relaxed;
 d=1e100.net; s=20230601; t=1717759451; x=1718364251;
 h=references:in-reply-to:cc:to:from:subject:message-id:date
 :x-gm-message-state:from:to:cc:subject:date:message-id:reply-to;
 bh=pie/ZznnpqI1DX7XUJIDvAK30S5JSwPYWyrTOYBbcCc=;
 b=rihB+AlkriaA3DKKc41M1ilGPZ2gQSS9UqkoljjCFk0UUAZ249JcnSNWa0eF5W6vH4
 xltU6OpB3WNNPlFUXaxDrjjH7CgSKM7z5vsgpOrrEtz0JDBti3BgioOSPOhWjvlKrcK0
 6IKmFjLQ3un1AshN4/xZUmydhC0knHiAFG/Wopd+wZ7f9x8FdGXcHzowdjTg8RUDKYLW
 dZ7og4pg16+sN8jEMkTWhj0AeTGXgNGJ8lJuqnN3D002Dm3kzJ1oQZjXYmrG6bbzP/M9
 /VicvQd1CqZYcQt8HzL+EFytYn76+pxXoFXSyK7DsbAg1OvB0IS/DVvnwXx5QXQtDAIm
 5i+Q==
X-Gm-Message-State: AOJu0YxsgwheA/VAKX5zwIqek6E3sPDIlo07mshV0BZhrLlK/hCtWqn3
 HZGulTL1/0gEO+jP6XjwH+zpFG6Na4ZeAQnyc6IbjASecvaMRgfAtm4Jug++0Ky4FuOBj55ZTnb
 HbwU78p3gSj21XFlU2V2V3zlnJkZCKFcaR3/B82SuUMMp6abVayJ3jiWK
X-Google-Smtp-Source: AGHT+IGQ4mDVdfO8URUqbt40UxjIMF7HmjGnVQS1xYWfUvukQrO77io3P9EocAk+Iuhadx4HbE4lPA2j37yO
X-Received: by 2002:a05:6a00:178c:b0:702:6ed6:4f67 with SMTP id
 d2e1a72fcca58-7040c67798bmr2715250b3a.17.1717759451295; 
 Fri, 07 Jun 2024 04:24:11 -0700 (PDT)
Received: from postal.iol.unh.edu (postal.iol.unh.edu.
 [2606:4100:3880:1234::84]) by smtp-relay.gmail.com with ESMTPS id
 d2e1a72fcca58-703fd561be0sm122317b3a.21.2024.06.07.04.24.11
 (version=TLS1_2 cipher=ECDHE-ECDSA-AES128-GCM-SHA256 bits=128/128);
 Fri, 07 Jun 2024 04:24:11 -0700 (PDT)
X-Relaying-Domain: iol.unh.edu
Date: Fri, 07 Jun 2024 04:24:11 -0700 (PDT)
Message-ID: <6662eddb.050a0220.3349e0.afe1SMTPIN_ADDED_MISSING@mx.google.com>
Received: from [172.21.0.8] (unknown [172.18.0.240])
 by postal.iol.unh.edu (Postfix) with ESMTP id 6108D605C380;
 Fri,  7 Jun 2024 07:24:10 -0400 (EDT)
Subject: |SUCCESS| pw140849-140850 [PATCH] [v5,2/2] dma/cnxk: remove completi
From: dpdklab@iol.unh.edu
To: Test Report <test-report@dpdk.org>
Cc: dpdk-test-reports@iol.unh.edu
In-Reply-To: <20240607103626.905-2-pbhagavatula@marvell.com>
References: <20240607103626.905-2-pbhagavatula@marvell.com>
Content-Type: text/plain
X-BeenThere: test-report@dpdk.org
X-Mailman-Version: 2.1.29
Precedence: list
List-Id: automatic DPDK test reports <test-report.dpdk.org>
List-Unsubscribe: <https://mails.dpdk.org/options/test-report>,
 <mailto:test-report-request@dpdk.org?subject=unsubscribe>
List-Archive: <http://mails.dpdk.org/archives/test-report/>
List-Post: <mailto:test-report@dpdk.org>
List-Help: <mailto:test-report-request@dpdk.org?subject=help>
List-Subscribe: <https://mails.dpdk.org/listinfo/test-report>,
 <mailto:test-report-request@dpdk.org?subject=subscribe>
Errors-To: test-report-bounces@dpdk.org

Test-Label: iol-compile-amd64-testing
Test-Status: SUCCESS
http://dpdk.org/patch/140850

_Testing PASS_

Submitter: Pavan Nikhilesh Bhagavatula <pbhagavatula@marvell.com>
Date: Friday, June 07 2024 10:36:26 
DPDK git baseline: Repo:dpdk
  Branch: master
  CommitID:76cef1af8bdaeaf67a5c4ca5df3f221df994dc46

140849-140850 --> testing pass

Test environment and result as below:

+---------------------+--------------------+-------------------+----------------------+------------------+-------------------+
|     Environment     | dpdk_meson_compile | dpdk_msvc_compile | dpdk_mingw64_compile | dpdk_compile_ovs | dpdk_compile_spdk |
+=====================+====================+===================+======================+==================+===================+
| FreeBSD 13.3        | PASS               | SKIPPED           | SKIPPED              | SKIPPED          | SKIPPED           |
+---------------------+--------------------+-------------------+----------------------+------------------+-------------------+
| Windows Server 2022 | PASS               | PASS              | PASS                 | SKIPPED          | SKIPPED           |
+---------------------+--------------------+-------------------+----------------------+------------------+-------------------+
| Debian 12           | PASS               | SKIPPED           | SKIPPED              | PASS             | SKIPPED           |
+---------------------+--------------------+-------------------+----------------------+------------------+-------------------+
| FreeBSD 14.0        | PASS               | SKIPPED           | SKIPPED              | SKIPPED          | SKIPPED           |
+---------------------+--------------------+-------------------+----------------------+------------------+-------------------+
| CentOS Stream 8     | PASS               | SKIPPED           | SKIPPED              | PASS             | PASS              |
+---------------------+--------------------+-------------------+----------------------+------------------+-------------------+
| Windows Server 2019 | PASS               | SKIPPED           | SKIPPED              | SKIPPED          | SKIPPED           |
+---------------------+--------------------+-------------------+----------------------+------------------+-------------------+


FreeBSD 13.3
	Kernel: 13.3-RELEASE-p1
	Compiler: clang 17.0.6

Windows Server 2022
	Kernel: 10.0.20348.2031
	Compiler: clang 15.0.7, gcc 8.1.0 (MinGW), and MSVC VS 17.9

Debian 12
	Kernel: Container Host Kernel
	Compiler: gcc 12.2.0

FreeBSD 14.0
	Kernel: 14.0
	Compiler: clang 16.0.6

CentOS Stream 8
	Kernel: 5.4.0-167-generic
	Compiler: gcc 8.5.0 20210514

Windows Server 2019
	Kernel: 10.0.17763
	Compiler: clang 14.0 and gcc 8.1.0 (MinGW)

To view detailed results, visit:
https://lab.dpdk.org/results/dashboard/patchsets/30141/

UNH-IOL DPDK Community Lab

To manage your email subscriptions, visit: 
https://lab.dpdk.org/results/dashboard/preferences/subscriptions/