From mboxrd@z Thu Jan  1 00:00:00 1970
Return-Path: <test-report-bounces@dpdk.org>
Received: from mails.dpdk.org (mails.dpdk.org [217.70.189.124])
	by inbox.dpdk.org (Postfix) with ESMTP id 5714244180
	for <public@inbox.dpdk.org>; Fri,  7 Jun 2024 13:28:38 +0200 (CEST)
Received: from mails.dpdk.org (localhost [127.0.0.1])
	by mails.dpdk.org (Postfix) with ESMTP id 526884029A;
	Fri,  7 Jun 2024 13:28:38 +0200 (CEST)
Received: from mail-pl1-f226.google.com (mail-pl1-f226.google.com
 [209.85.214.226])
 by mails.dpdk.org (Postfix) with ESMTP id B508240151
 for <test-report@dpdk.org>; Fri,  7 Jun 2024 13:28:37 +0200 (CEST)
Received: by mail-pl1-f226.google.com with SMTP id
 d9443c01a7336-1f65a3abd01so18858715ad.3
 for <test-report@dpdk.org>; Fri, 07 Jun 2024 04:28:37 -0700 (PDT)
DKIM-Signature: v=1; a=rsa-sha256; c=relaxed/relaxed;
 d=iol.unh.edu; s=unh-iol; t=1717759717; x=1718364517; darn=dpdk.org;
 h=references:in-reply-to:cc:to:from:subject:message-id:date:from:to
 :cc:subject:date:message-id:reply-to;
 bh=jmiUbOMtYSiocyLbpoH1GqCiBActMBX8DKCyHVeLYmw=;
 b=Cp6NWGaoDgWMUQ8kxBrCUM3YmZu0zitLUVl1W7vDDsRx4bE2t3Dd4YbcjaAF/iiX2C
 JQvttbZRbiUUbkFIsBBTDCx1LQZYyD2RdQRYCoq85BE/DmrRIHHgXER4tmxqmbmx2lc6
 01OHjyZOpEwILxFBAbpDsJgGT2EwP0QuDPg/s=
X-Google-DKIM-Signature: v=1; a=rsa-sha256; c=relaxed/relaxed;
 d=1e100.net; s=20230601; t=1717759717; x=1718364517;
 h=references:in-reply-to:cc:to:from:subject:message-id:date
 :x-gm-message-state:from:to:cc:subject:date:message-id:reply-to;
 bh=jmiUbOMtYSiocyLbpoH1GqCiBActMBX8DKCyHVeLYmw=;
 b=O5hi628DSkzg/mGTxfd7UHZ50X8EObMeg2xcIHqXV0GjgqLRjVIPe2gNHAJZsd2iLI
 pICfemNL21QNmw9nU6S/Vnau7bz/b83rSrBqKMNnf0/VvGsM0LKpn/J97eKwcfZlEdhm
 xKhySmQCvkUeErZqVI8o//uCRIwpKpH4haMAH3TZp0bTcoaDkKxxXrDKve7f606slmEQ
 0cs1NVoqEs6iFz9IXKXLHsgMR7uN2uz6gcIVfaWOm/KJSgjFD9hzEeDI6V4T4a1ntEUB
 tUbT7jmsPzqp1Bpefq4Qx3yACLEAVIR1bjf0U/BXAi6Jss4rURhff7zquiwvaOXamXIR
 KrLQ==
X-Gm-Message-State: AOJu0Yyq90N0Cbc1RHNJ4+x0S249OfSUsOiT5wBAEch53InWK6Q24rx9
 VgdRteOu1mwanf0mTenniJ6i6WeV4NFKMH3luhD+bANdMUHQCVowleOowaRZiFFPEIDpKyPp1Bc
 9/L2AzbCj+c3t/LQ9rp3LkuY6qmsCvipBxqHATXDF
X-Google-Smtp-Source: AGHT+IHEjSpmGtBqi9vQg9zXzwOcf0enljja5Wpuo68gz2YgtGHISafcNvv5CbBwjs85yXmwX2aJ0MPrNIlT
X-Received: by 2002:a17:902:e84d:b0:1f6:607e:16d7 with SMTP id
 d9443c01a7336-1f6d036c44dmr27920255ad.52.1717759717051; 
 Fri, 07 Jun 2024 04:28:37 -0700 (PDT)
Received: from postal.iol.unh.edu (postal.iol.unh.edu. [132.177.123.84])
 by smtp-relay.gmail.com with ESMTPS id
 d9443c01a7336-1f6bd75eec4sm1220875ad.1.2024.06.07.04.28.36
 (version=TLS1_2 cipher=ECDHE-ECDSA-AES128-GCM-SHA256 bits=128/128);
 Fri, 07 Jun 2024 04:28:37 -0700 (PDT)
X-Relaying-Domain: iol.unh.edu
Date: Fri, 07 Jun 2024 04:28:37 -0700 (PDT)
Message-ID: <6662eee5.170a0220.ba7ae.9c17SMTPIN_ADDED_MISSING@mx.google.com>
Received: from [172.21.0.10] (unknown [172.18.0.240])
 by postal.iol.unh.edu (Postfix) with ESMTP id 1558C605C382;
 Fri,  7 Jun 2024 07:28:36 -0400 (EDT)
Subject: |SUCCESS| pw140849-140850 [PATCH] [v5,2/2] dma/cnxk: remove completi
From: dpdklab@iol.unh.edu
To: Test Report <test-report@dpdk.org>
Cc: dpdk-test-reports@iol.unh.edu
In-Reply-To: <20240607103626.905-2-pbhagavatula@marvell.com>
References: <20240607103626.905-2-pbhagavatula@marvell.com>
Content-Type: text/plain
X-BeenThere: test-report@dpdk.org
X-Mailman-Version: 2.1.29
Precedence: list
List-Id: automatic DPDK test reports <test-report.dpdk.org>
List-Unsubscribe: <https://mails.dpdk.org/options/test-report>,
 <mailto:test-report-request@dpdk.org?subject=unsubscribe>
List-Archive: <http://mails.dpdk.org/archives/test-report/>
List-Post: <mailto:test-report@dpdk.org>
List-Help: <mailto:test-report-request@dpdk.org?subject=help>
List-Subscribe: <https://mails.dpdk.org/listinfo/test-report>,
 <mailto:test-report-request@dpdk.org?subject=subscribe>
Errors-To: test-report-bounces@dpdk.org

Test-Label: iol-compile-arm64-testing
Test-Status: SUCCESS
http://dpdk.org/patch/140850

_Testing PASS_

Submitter: Pavan Nikhilesh Bhagavatula <pbhagavatula@marvell.com>
Date: Friday, June 07 2024 10:36:26 
DPDK git baseline: Repo:dpdk
  Branch: master
  CommitID:76cef1af8bdaeaf67a5c4ca5df3f221df994dc46

140849-140850 --> testing pass

Test environment and result as below:

+-----------------------+--------------------+
|      Environment      | dpdk_meson_compile |
+=======================+====================+
| Ubuntu 20.04 ARM SVE  | PASS               |
+-----------------------+--------------------+
| Debian 12 with MUSDK  | PASS               |
+-----------------------+--------------------+
| Fedora 38 (ARM)       | PASS               |
+-----------------------+--------------------+
| Fedora 39 (ARM)       | PASS               |
+-----------------------+--------------------+
| Fedora 37 (ARM)       | PASS               |
+-----------------------+--------------------+
| Debian 12 (arm)       | PASS               |
+-----------------------+--------------------+
| CentOS Stream 9 (ARM) | PASS               |
+-----------------------+--------------------+


Ubuntu 20.04 ARM SVE
	Kernel: 5.4.0-167-generic
	Compiler: gcc (Ubuntu 10.5.0-1ubuntu1~20.04) 10.5.0

Debian 12 with MUSDK
	Kernel: Container Host Kernel
	Compiler: gcc 12.2.0

Fedora 38 (ARM)
	Kernel: Depends on container host
	Compiler: gcc 13.2.1

Fedora 39 (ARM)
	Kernel: Depends on container host
	Compiler: gcc 13.2.1

Fedora 37 (ARM)
	Kernel: Depends on container host
	Compiler: gcc 12.3.1

Debian 12 (arm)
	Kernel: Container Host Kernel
	Compiler: gcc 12.2.0

CentOS Stream 9 (ARM)
	Kernel: Container Host Kernel
	Compiler: gcc 11.4.1

To view detailed results, visit:
https://lab.dpdk.org/results/dashboard/patchsets/30141/

UNH-IOL DPDK Community Lab

To manage your email subscriptions, visit: 
https://lab.dpdk.org/results/dashboard/preferences/subscriptions/