From mboxrd@z Thu Jan  1 00:00:00 1970
Return-Path: <test-report-bounces@dpdk.org>
Received: from mails.dpdk.org (mails.dpdk.org [217.70.189.124])
	by inbox.dpdk.org (Postfix) with ESMTP id BD00144184
	for <public@inbox.dpdk.org>; Fri,  7 Jun 2024 18:18:20 +0200 (CEST)
Received: from mails.dpdk.org (localhost [127.0.0.1])
	by mails.dpdk.org (Postfix) with ESMTP id 99C0F40272;
	Fri,  7 Jun 2024 18:18:20 +0200 (CEST)
Received: from mail-il1-f225.google.com (mail-il1-f225.google.com
 [209.85.166.225])
 by mails.dpdk.org (Postfix) with ESMTP id AC84A40150
 for <test-report@dpdk.org>; Fri,  7 Jun 2024 18:18:18 +0200 (CEST)
Received: by mail-il1-f225.google.com with SMTP id
 e9e14a558f8ab-3758fdbd2a5so614775ab.2
 for <test-report@dpdk.org>; Fri, 07 Jun 2024 09:18:18 -0700 (PDT)
DKIM-Signature: v=1; a=rsa-sha256; c=relaxed/relaxed;
 d=iol.unh.edu; s=unh-iol; t=1717777097; x=1718381897; darn=dpdk.org;
 h=references:in-reply-to:cc:to:from:subject:message-id:date:from:to
 :cc:subject:date:message-id:reply-to;
 bh=Sy24IoJlzCLlW3sjyLSyE8y5+VdIGMaRQX8D8ko1hDA=;
 b=BJWPjeJsa1jQaC4UqbI8/AMXodrj5jwZtMB39g99q+8OHqvVi/EVRqJ4U/QQzM14qa
 VjhAMjrob/d9rQGkEAvSUvFWQVlsI57TcJaUONh83vk3NoxG86FNIFhtQUSF2vo5VkE8
 n5GIXNd3jkMqWPzw4/K81xXcdaYdwqIIKpK5s=
X-Google-DKIM-Signature: v=1; a=rsa-sha256; c=relaxed/relaxed;
 d=1e100.net; s=20230601; t=1717777097; x=1718381897;
 h=references:in-reply-to:cc:to:from:subject:message-id:date
 :x-gm-message-state:from:to:cc:subject:date:message-id:reply-to;
 bh=Sy24IoJlzCLlW3sjyLSyE8y5+VdIGMaRQX8D8ko1hDA=;
 b=dLIKxM9oBcG+ukZdAvg18D0D2leuaeCotjRk73bP3evc7WSRcpyyFSTprUCRQ87I8+
 EXvYW+ItgwLH8QGuZ7eW5QLDQnPKmjgVCd4yG6Ub69opcFQME6BrMHNUwGMnLH3mb4ej
 v8DFagrABaAbWxxCpRj0STdKkvDeY75uVtHf9vZ7WSO6vDr1/VZgf7lhgwey6VDa8M3D
 1h1qmKpJFNHXgWUZGwefkgwf/N+iOUtvSGl/RThrniSdqy6lBQbaCEJiqc/Lcdwetmpa
 7OL7WLMV/18b6e9HS7jNCxW75a66JU5YpQ5msbBzEw2kAjopX3mY1jKFfN4XibfGVK7a
 nG3Q==
X-Gm-Message-State: AOJu0Ywb0m/OkAonggqbOsbcqgeS0kpzzr/60P++x4lRmte5EJY2ltBd
 jYxHEPzObiIoMyDkwjF564TjSYGZ9XC4T3HDhI407JAF+aA8/rXfco2aguwQBX9C7SU5T1qcJ2e
 be9FByLGq2TB3IDQhu2TakV5d2w+U15xiv2SKEsOIlVBgRwg0s54mI6Gr
X-Google-Smtp-Source: AGHT+IHTebNuyL5qxpHc60KczxDpZIOJJQcDyG0fANoNVdKL8ixb8ktTBro8WvyxLloP4e5/asJk+DNOrWvs
X-Received: by 2002:a05:6e02:12e2:b0:374:aafd:4580 with SMTP id
 e9e14a558f8ab-375803313camr35972525ab.16.1717777097178; 
 Fri, 07 Jun 2024 09:18:17 -0700 (PDT)
Received: from postal.iol.unh.edu (postal.iol.unh.edu.
 [2606:4100:3880:1234::84]) by smtp-relay.gmail.com with ESMTPS id
 e9e14a558f8ab-374bc1b68d4sm1541235ab.55.2024.06.07.09.18.17
 (version=TLS1_2 cipher=ECDHE-ECDSA-AES128-GCM-SHA256 bits=128/128);
 Fri, 07 Jun 2024 09:18:17 -0700 (PDT)
X-Relaying-Domain: iol.unh.edu
Date: Fri, 07 Jun 2024 09:18:17 -0700 (PDT)
Message-ID: <666332c9.050a0220.3466e6.d1abSMTPIN_ADDED_MISSING@mx.google.com>
Received: from [172.21.0.6] (unknown [172.18.0.240])
 by postal.iol.unh.edu (Postfix) with ESMTP id 9FFB7605C380;
 Fri,  7 Jun 2024 12:18:16 -0400 (EDT)
Subject: |SUCCESS| pw140871-140872 [PATCH] [v9,2/2] dts: Change hugepage 'amo
From: dpdklab@iol.unh.edu
To: Test Report <test-report@dpdk.org>
Cc: dpdk-test-reports@iol.unh.edu
In-Reply-To: <20240607145925.27566-3-npratte@iol.unh.edu>
References: <20240607145925.27566-3-npratte@iol.unh.edu>
Content-Type: text/plain
X-BeenThere: test-report@dpdk.org
X-Mailman-Version: 2.1.29
Precedence: list
List-Id: automatic DPDK test reports <test-report.dpdk.org>
List-Unsubscribe: <https://mails.dpdk.org/options/test-report>,
 <mailto:test-report-request@dpdk.org?subject=unsubscribe>
List-Archive: <http://mails.dpdk.org/archives/test-report/>
List-Post: <mailto:test-report@dpdk.org>
List-Help: <mailto:test-report-request@dpdk.org?subject=help>
List-Subscribe: <https://mails.dpdk.org/listinfo/test-report>,
 <mailto:test-report-request@dpdk.org?subject=subscribe>
Errors-To: test-report-bounces@dpdk.org

Test-Label: iol-unit-arm64-testing
Test-Status: SUCCESS
http://dpdk.org/patch/140872

_Testing PASS_

Submitter: Nicholas Pratte <npratte@iol.unh.edu>
Date: Friday, June 07 2024 14:59:24 
DPDK git baseline: Repo:dpdk
  Branch: master
  CommitID:76cef1af8bdaeaf67a5c4ca5df3f221df994dc46

140871-140872 --> testing pass

Test environment and result as below:

+-----------------------------+------------------------------+---------------------------+----------------+--------------+
|         Environment         | cryptodev_sw_snow3g_autotest | cryptodev_sw_zuc_autotest | dpdk_unit_test | lpm_autotest |
+=============================+==============================+===========================+================+==============+
| Debian 12 (arm)             | PASS                         | PASS                      | PASS           | SKIPPED      |
+-----------------------------+------------------------------+---------------------------+----------------+--------------+
| Debian 11 (Buster) (ARM)    | SKIPPED                      | SKIPPED                   | PASS           | SKIPPED      |
+-----------------------------+------------------------------+---------------------------+----------------+--------------+
| Fedora 38 (ARM)             | SKIPPED                      | SKIPPED                   | PASS           | SKIPPED      |
+-----------------------------+------------------------------+---------------------------+----------------+--------------+
| Fedora 37 (ARM)             | SKIPPED                      | SKIPPED                   | PASS           | SKIPPED      |
+-----------------------------+------------------------------+---------------------------+----------------+--------------+
| 32-bit Ubuntu 20.04.4 (ARM) | SKIPPED                      | SKIPPED                   | PASS           | SKIPPED      |
+-----------------------------+------------------------------+---------------------------+----------------+--------------+
| Fedora 39 (ARM)             | SKIPPED                      | SKIPPED                   | PASS           | SKIPPED      |
+-----------------------------+------------------------------+---------------------------+----------------+--------------+
| Ubuntu 20.04 (ARM)          | SKIPPED                      | SKIPPED                   | PASS           | SKIPPED      |
+-----------------------------+------------------------------+---------------------------+----------------+--------------+
| Ubuntu 22.04 (ARM)          | SKIPPED                      | SKIPPED                   | PASS           | SKIPPED      |
+-----------------------------+------------------------------+---------------------------+----------------+--------------+
| Fedora 39 (ARM Clang)       | SKIPPED                      | SKIPPED                   | PASS           | SKIPPED      |
+-----------------------------+------------------------------+---------------------------+----------------+--------------+
| Ubuntu 24.04 (ARM)          | SKIPPED                      | SKIPPED                   | PASS           | SKIPPED      |
+-----------------------------+------------------------------+---------------------------+----------------+--------------+
| Fedora 38 (ARM Clang)       | SKIPPED                      | SKIPPED                   | PASS           | SKIPPED      |
+-----------------------------+------------------------------+---------------------------+----------------+--------------+
| Ubuntu 20.04 ARM SVE        | SKIPPED                      | SKIPPED                   | SKIPPED        | PASS         |
+-----------------------------+------------------------------+---------------------------+----------------+--------------+


Debian 12 (arm)
	Kernel: Container Host Kernel
	Compiler: gcc 12.2.0

Debian 11 (Buster) (ARM)
	Kernel: Container Host Kernel
	Compiler: gcc 10.2.1

Fedora 38 (ARM)
	Kernel: Depends on container host
	Compiler: gcc 13.2.1

Fedora 37 (ARM)
	Kernel: Depends on container host
	Compiler: gcc 12.3.1

32-bit Ubuntu 20.04.4 (ARM)
	Kernel: 5.4.0-155-generic aarch64
	Compiler: gcc 9.4

Fedora 39 (ARM)
	Kernel: Depends on container host
	Compiler: gcc 13.2.1

Ubuntu 20.04 (ARM)
	Kernel: Container Host Kernel
	Compiler: gcc 9.4.0

Ubuntu 22.04 (ARM)
	Kernel: Container Host Kernel
	Compiler: gcc 11.4.0

Fedora 39 (ARM Clang)
	Kernel: Depends on container host
	Compiler: clang 17.0.6

Ubuntu 24.04 (ARM)
	Kernel: 5.4.0-167-generic
	Compiler: gcc 13.2.0

Fedora 38 (ARM Clang)
	Kernel: Depends on container host
	Compiler: clang 16.0.6

Ubuntu 20.04 ARM SVE
	Kernel: 5.4.0-167-generic
	Compiler: gcc (Ubuntu 10.5.0-1ubuntu1~20.04) 10.5.0

To view detailed results, visit:
https://lab.dpdk.org/results/dashboard/patchsets/30148/

UNH-IOL DPDK Community Lab

To manage your email subscriptions, visit: 
https://lab.dpdk.org/results/dashboard/preferences/subscriptions/