From mboxrd@z Thu Jan  1 00:00:00 1970
Return-Path: <test-report-bounces@dpdk.org>
Received: from mails.dpdk.org (mails.dpdk.org [217.70.189.124])
	by inbox.dpdk.org (Postfix) with ESMTP id D2B2B44184
	for <public@inbox.dpdk.org>; Fri,  7 Jun 2024 18:30:51 +0200 (CEST)
Received: from mails.dpdk.org (localhost [127.0.0.1])
	by mails.dpdk.org (Postfix) with ESMTP id CE90540272;
	Fri,  7 Jun 2024 18:30:51 +0200 (CEST)
Received: from mail-io1-f100.google.com (mail-io1-f100.google.com
 [209.85.166.100])
 by mails.dpdk.org (Postfix) with ESMTP id 4AFFD40150
 for <test-report@dpdk.org>; Fri,  7 Jun 2024 18:30:50 +0200 (CEST)
Received: by mail-io1-f100.google.com with SMTP id
 ca18e2360f4ac-7eb6ca2cd09so947039f.2
 for <test-report@dpdk.org>; Fri, 07 Jun 2024 09:30:50 -0700 (PDT)
DKIM-Signature: v=1; a=rsa-sha256; c=relaxed/relaxed;
 d=iol.unh.edu; s=unh-iol; t=1717777849; x=1718382649; darn=dpdk.org;
 h=references:in-reply-to:cc:to:from:subject:message-id:date:from:to
 :cc:subject:date:message-id:reply-to;
 bh=vmR3pfXK/bMTv1ZZqgZjTlZ+YZLfDh4DzHd57+97umU=;
 b=QCpkI0tvYbKVTwFg5tZ3kxx4mE3TsTUCECzmTC0Vus/Y+u/NZz2j9oS8Ubq9E55CDe
 BKBx3KuEiLO4PeC5+JHNlRXlb0VXvAvoXVqm/bJ+awrk8qIonoqsdOWLeGgrl1Tu2ZvB
 BBVMVl8+hDVPEwjPIC3CtGauegv/FNZWG7Zl0=
X-Google-DKIM-Signature: v=1; a=rsa-sha256; c=relaxed/relaxed;
 d=1e100.net; s=20230601; t=1717777849; x=1718382649;
 h=references:in-reply-to:cc:to:from:subject:message-id:date
 :x-gm-message-state:from:to:cc:subject:date:message-id:reply-to;
 bh=vmR3pfXK/bMTv1ZZqgZjTlZ+YZLfDh4DzHd57+97umU=;
 b=tvg8hjGb1vN9MldsgDINACDhJYoXL/z8hEYRxC1XE/QNHFzBolrZ8nB+UCXxtC0g/v
 hfUt36ez0B3dlMxnUjofBAiL9Uq38WstuF855Alyv/JnAO+RUIz8JIwnPGo6NAY7KM+L
 nvXg27WLBQ8B/ipHymk8Li1CbGGK/GYFi4e5sZp5QyZSbVFckSWiiZDJbF93pwXDUiNg
 ipgKaJPsAlf6qJwMrIWTLI4DMsYZhhQImWWGRSVQ0Bu276gxc362cx3d7NQPd+ZT75Wm
 kpjoXf7oPpqM7K2eeaMsIm1bsSJJknYX0hZB60Bf27NRlcc041icZYY0aY18Y7jgROxS
 gq2g==
X-Gm-Message-State: AOJu0YwFdiHDZtbItYPx2T9WJ7lNHP/xDck5aIBfcuGlw4liI6oKKk1R
 f6zp30z/JDwUmoH99/8Albs9NEKwMm3FXkEWSuS1xOMgi0PZV2HUqxoykIrjGgoDw2aXNgbmuOT
 3BllUeNZbTxai5o7vV85HliVjAf0fWCDmJeACo12yM0x7FzCxCcegOH9Z
X-Google-Smtp-Source: AGHT+IEvHcxWcQGFapXShqUyu0VD55PKsbLhJFKIRko/wINrcse0k7UIEu5SUwiJ4B7F554y/X/D+o/RVVpL
X-Received: by 2002:a92:cd81:0:b0:374:aa60:a5c3 with SMTP id
 e9e14a558f8ab-375803bf248mr35794135ab.28.1717777849684; 
 Fri, 07 Jun 2024 09:30:49 -0700 (PDT)
Received: from postal.iol.unh.edu (postal.iol.unh.edu.
 [2606:4100:3880:1234::84]) by smtp-relay.gmail.com with ESMTPS id
 e9e14a558f8ab-375933d7fddsm35055ab.72.2024.06.07.09.30.49
 (version=TLS1_2 cipher=ECDHE-ECDSA-AES128-GCM-SHA256 bits=128/128);
 Fri, 07 Jun 2024 09:30:49 -0700 (PDT)
X-Relaying-Domain: iol.unh.edu
Date: Fri, 07 Jun 2024 09:30:49 -0700 (PDT)
Message-ID: <666335b9.050a0220.8b34d.068cSMTPIN_ADDED_MISSING@mx.google.com>
Received: from [172.21.0.6] (unknown [172.18.0.240])
 by postal.iol.unh.edu (Postfix) with ESMTP id 3A432605C380;
 Fri,  7 Jun 2024 12:30:49 -0400 (EDT)
Subject: |SUCCESS| pw140871-140872 [PATCH] [v9,2/2] dts: Change hugepage 'amo
From: dpdklab@iol.unh.edu
To: Test Report <test-report@dpdk.org>
Cc: Nicholas Pratte <npratte@iol.unh.edu>
In-Reply-To: <20240607145925.27566-3-npratte@iol.unh.edu>
References: <20240607145925.27566-3-npratte@iol.unh.edu>
Content-Type: text/plain
X-BeenThere: test-report@dpdk.org
X-Mailman-Version: 2.1.29
Precedence: list
List-Id: automatic DPDK test reports <test-report.dpdk.org>
List-Unsubscribe: <https://mails.dpdk.org/options/test-report>,
 <mailto:test-report-request@dpdk.org?subject=unsubscribe>
List-Archive: <http://mails.dpdk.org/archives/test-report/>
List-Post: <mailto:test-report@dpdk.org>
List-Help: <mailto:test-report-request@dpdk.org?subject=help>
List-Subscribe: <https://mails.dpdk.org/listinfo/test-report>,
 <mailto:test-report-request@dpdk.org?subject=subscribe>
Errors-To: test-report-bounces@dpdk.org

Test-Label: iol-unit-amd64-testing
Test-Status: SUCCESS
http://dpdk.org/patch/140872

_Testing PASS_

Submitter: Nicholas Pratte <npratte@iol.unh.edu>
Date: Friday, June 07 2024 14:59:24 
DPDK git baseline: Repo:dpdk
  Branch: master
  CommitID:76cef1af8bdaeaf67a5c4ca5df3f221df994dc46

140871-140872 --> testing pass

Test environment and result as below:

+---------------------+----------------+
|     Environment     | dpdk_unit_test |
+=====================+================+
| Windows Server 2019 | PASS           |
+---------------------+----------------+
| CentOS Stream 8     | PASS           |
+---------------------+----------------+
| CentOS Stream 9     | PASS           |
+---------------------+----------------+
| Debian 12           | PASS           |
+---------------------+----------------+
| Fedora 37           | PASS           |
+---------------------+----------------+
| Fedora 38           | PASS           |
+---------------------+----------------+
| Ubuntu 20.04        | PASS           |
+---------------------+----------------+
| Fedora 39           | PASS           |
+---------------------+----------------+
| RHEL8               | PASS           |
+---------------------+----------------+
| Debian Bullseye     | PASS           |
+---------------------+----------------+


Windows Server 2019
	Kernel: 10.0.17763
	Compiler: clang 14.0 and gcc 8.1.0 (MinGW)

CentOS Stream 8
	Kernel: 5.4.0-167-generic
	Compiler: gcc 8.5.0 20210514

CentOS Stream 9
	Kernel: 5.4.0-167-generic
	Compiler: gcc 11.4.1 20230605

Debian 12
	Kernel: Container Host Kernel
	Compiler: gcc 12.2.0

Fedora 37
	Kernel: Depends on container host system
	Compiler: gcc 12.3.1

Fedora 38
	Kernel: Depends on container host
	Compiler: gcc 13.2.1

Ubuntu 20.04
	Kernel: 5.4.0-167-generic
	Compiler: gcc 9.4.0-1ubuntu1~20.04.1

Fedora 39
	Kernel: Depends on container host
	Compiler: gcc 13.2.1

RHEL8
	Kernel: 5.4.0-167-generic
	Compiler: gcc 8.5.0 20210514 (Red Hat 8.5.0-20)

Debian Bullseye
	Kernel: 5.4.0-167-generic
	Compiler: gcc 10.2.1-6

To view detailed results, visit:
https://lab.dpdk.org/results/dashboard/patchsets/30148/

UNH-IOL DPDK Community Lab

To manage your email subscriptions, visit: 
https://lab.dpdk.org/results/dashboard/preferences/subscriptions/