From mboxrd@z Thu Jan  1 00:00:00 1970
Return-Path: <test-report-bounces@dpdk.org>
Received: from mails.dpdk.org (mails.dpdk.org [217.70.189.124])
	by inbox.dpdk.org (Postfix) with ESMTP id 00A9E44184
	for <public@inbox.dpdk.org>; Fri,  7 Jun 2024 19:51:27 +0200 (CEST)
Received: from mails.dpdk.org (localhost [127.0.0.1])
	by mails.dpdk.org (Postfix) with ESMTP id F0C4B40272;
	Fri,  7 Jun 2024 19:51:27 +0200 (CEST)
Received: from mail-oo1-f99.google.com (mail-oo1-f99.google.com
 [209.85.161.99]) by mails.dpdk.org (Postfix) with ESMTP id 3D2F240150
 for <test-report@dpdk.org>; Fri,  7 Jun 2024 19:51:26 +0200 (CEST)
Received: by mail-oo1-f99.google.com with SMTP id
 006d021491bc7-5b997b8a7efso940332eaf.0
 for <test-report@dpdk.org>; Fri, 07 Jun 2024 10:51:26 -0700 (PDT)
DKIM-Signature: v=1; a=rsa-sha256; c=relaxed/relaxed;
 d=iol.unh.edu; s=unh-iol; t=1717782685; x=1718387485; darn=dpdk.org;
 h=references:in-reply-to:cc:to:from:subject:message-id:date:from:to
 :cc:subject:date:message-id:reply-to;
 bh=5mp80jC0dgHsmySUQgnOAdhJUInCvv1ZBKW+bxiRJHM=;
 b=Ym8CYiDjLhX69t1BbJCI98oMgO435LDcDe25WNuYeiSPN1E1TbD0QZl1tGisW/o4ek
 xOJMkgq0JmFUjPcmVoH//ULAPTK3HNNy3GCkrXqFW6e2tDnwXdQYw8fV3NcqGOHC30hQ
 0zrwJ/Q5/nTBSNI3YYqCk22e6c9Wo49tJzdqg=
X-Google-DKIM-Signature: v=1; a=rsa-sha256; c=relaxed/relaxed;
 d=1e100.net; s=20230601; t=1717782685; x=1718387485;
 h=references:in-reply-to:cc:to:from:subject:message-id:date
 :x-gm-message-state:from:to:cc:subject:date:message-id:reply-to;
 bh=5mp80jC0dgHsmySUQgnOAdhJUInCvv1ZBKW+bxiRJHM=;
 b=ZgbDN8Qgd3+EwIyH9C4Bt0paK8lcRwCBZmZ5a6CRxpH8lqd2nGrKPjllIXq8Gd/Jz/
 d1H2IigTX7fhpqesqfovHaGyFo8E8I4/BN8FxW4LKTV1kmanpHYb2SAWroNPNJ+fodOg
 orV3eA2vpPm/ch/50NO9XKzOQSkF40cESVF1RQAbndvfhupCLKBlfbADU0QsvfkTLjRV
 SR6fSo+Xo4g8wL0faFVMtzlKHAPQ4VMX7PxnWS/PuFWhk251//HfSAqF2IxJDwlPZmxK
 7LgIkHc6QG1g0+/Z0l/7Bv18/8RmVqd80888VqF60XK2jbWf7SWqAgsqcp+w2SQpbrMr
 N7dQ==
X-Gm-Message-State: AOJu0Yw98Rccjs5EvTxt7+NWU+covmn4TW/Qqkqiksgh+svCtWqr/JdB
 HQKpzOx62TS1g3bW5ScETwpYxoKapZ5BcIZihc0FkF/iRQ4qOi612WxvfDSf8e9Ht3Pd8+bf5kh
 ZbdMITJcKjk4UHNx0lr0TF8jy0uitWAz9WdRtSibne9mE+V0bTfovKk4H
X-Google-Smtp-Source: AGHT+IHlPw3HXa+KGpwNha0eb+VkAymMW8S3X+3j9Nb7UhYUZzdnlRiU6pfsow8My12Ak/L93wTmoGhbm8ul
X-Received: by 2002:a05:6820:1ad3:b0:5ba:6b7b:670a with SMTP id
 006d021491bc7-5baae5126c0mr3761698eaf.1.1717782685315; 
 Fri, 07 Jun 2024 10:51:25 -0700 (PDT)
Received: from postal.iol.unh.edu (postal.iol.unh.edu.
 [2606:4100:3880:1234::84]) by smtp-relay.gmail.com with ESMTPS id
 006d021491bc7-5ba977c5a45sm273756eaf.10.2024.06.07.10.51.25
 (version=TLS1_2 cipher=ECDHE-ECDSA-AES128-GCM-SHA256 bits=128/128);
 Fri, 07 Jun 2024 10:51:25 -0700 (PDT)
X-Relaying-Domain: iol.unh.edu
Date: Fri, 07 Jun 2024 10:51:25 -0700 (PDT)
Message-ID: <6663489d.4a0a0220.cbd7c.8dbcSMTPIN_ADDED_MISSING@mx.google.com>
Received: from [172.21.0.6] (unknown [172.18.0.240])
 by postal.iol.unh.edu (Postfix) with ESMTP id C3E43605C381;
 Fri,  7 Jun 2024 13:51:24 -0400 (EDT)
Subject: |SUCCESS| pw140861-140867 [PATCH] [v3,9/9] crypto/ionic: add stats s
From: dpdklab@iol.unh.edu
To: Test Report <test-report@dpdk.org>
Cc: dpdk-test-reports@iol.unh.edu
In-Reply-To: <20240607142740.60175-10-andrew.boyer@amd.com>
References: <20240607142740.60175-10-andrew.boyer@amd.com>
Content-Type: text/plain
X-BeenThere: test-report@dpdk.org
X-Mailman-Version: 2.1.29
Precedence: list
List-Id: automatic DPDK test reports <test-report.dpdk.org>
List-Unsubscribe: <https://mails.dpdk.org/options/test-report>,
 <mailto:test-report-request@dpdk.org?subject=unsubscribe>
List-Archive: <http://mails.dpdk.org/archives/test-report/>
List-Post: <mailto:test-report@dpdk.org>
List-Help: <mailto:test-report-request@dpdk.org?subject=help>
List-Subscribe: <https://mails.dpdk.org/listinfo/test-report>,
 <mailto:test-report-request@dpdk.org?subject=subscribe>
Errors-To: test-report-bounces@dpdk.org

Test-Label: iol-compile-amd64-testing
Test-Status: SUCCESS
http://dpdk.org/patch/140867

_Testing PASS_

Submitter: Andrew Boyer <Andrew.Boyer@amd.com>
Date: Friday, June 07 2024 14:27:40 
DPDK git baseline: Repo:dpdk
  Branch: master
  CommitID:367b8db312517edb9f5340d280e77b1437d84dd3

140861-140867 --> testing pass

Test environment and result as below:

+---------------------+--------------------+-------------------+----------------------+
|     Environment     | dpdk_meson_compile | dpdk_msvc_compile | dpdk_mingw64_compile |
+=====================+====================+===================+======================+
| FreeBSD 13.3        | PASS               | SKIPPED           | SKIPPED              |
+---------------------+--------------------+-------------------+----------------------+
| Windows Server 2022 | PASS               | PASS              | PASS                 |
+---------------------+--------------------+-------------------+----------------------+
| FreeBSD 14.1        | PASS               | SKIPPED           | SKIPPED              |
+---------------------+--------------------+-------------------+----------------------+
| Windows Server 2019 | PASS               | SKIPPED           | PASS                 |
+---------------------+--------------------+-------------------+----------------------+


FreeBSD 13.3
	Kernel: 13.3-RELEASE-p1
	Compiler: clang 17.0.6

Windows Server 2022
	Kernel: 10.0.20348.2031
	Compiler: clang 15.0.7, gcc 8.1.0 (MinGW), and MSVC VS 17.9

FreeBSD 14.1
	Kernel: 14.1
	Compiler: clang 18.1.5

Windows Server 2019
	Kernel: 10.0.17763
	Compiler: clang 14.0 and gcc 8.1.0 (MinGW)

To view detailed results, visit:
https://lab.dpdk.org/results/dashboard/patchsets/30145/

UNH-IOL DPDK Community Lab

To manage your email subscriptions, visit: 
https://lab.dpdk.org/results/dashboard/preferences/subscriptions/