From mboxrd@z Thu Jan  1 00:00:00 1970
Return-Path: <test-report-bounces@dpdk.org>
Received: from mails.dpdk.org (mails.dpdk.org [217.70.189.124])
	by inbox.dpdk.org (Postfix) with ESMTP id 180E944185
	for <public@inbox.dpdk.org>; Fri,  7 Jun 2024 20:31:32 +0200 (CEST)
Received: from mails.dpdk.org (localhost [127.0.0.1])
	by mails.dpdk.org (Postfix) with ESMTP id 12FE3402DD;
	Fri,  7 Jun 2024 20:31:32 +0200 (CEST)
Received: from mail-io1-f100.google.com (mail-io1-f100.google.com
 [209.85.166.100])
 by mails.dpdk.org (Postfix) with ESMTP id 481F140272
 for <test-report@dpdk.org>; Fri,  7 Jun 2024 20:31:30 +0200 (CEST)
Received: by mail-io1-f100.google.com with SMTP id
 ca18e2360f4ac-7eb0b9fa610so111768539f.3
 for <test-report@dpdk.org>; Fri, 07 Jun 2024 11:31:30 -0700 (PDT)
DKIM-Signature: v=1; a=rsa-sha256; c=relaxed/relaxed;
 d=iol.unh.edu; s=unh-iol; t=1717785089; x=1718389889; darn=dpdk.org;
 h=references:in-reply-to:cc:to:from:subject:message-id:date:from:to
 :cc:subject:date:message-id:reply-to;
 bh=pTBUkQIvojhixqzeVcaPdV6Yaym5SlSH3KnVNpuuCSw=;
 b=AmV8KBrApRlEO01ogiR2QOuU52Bf2OhiLNO0VooRY3QzdClW2zcnqboqjNhX3PNpq7
 OpI1NjuogTUaKt0A4eTX8esxZeZfMUxMt8UxTANvbhC/q/o3LPYmPPJmiA0GZxUhSr14
 6SIVfZ28c2XbOOfhq21eWQWwLrr40pclgeXcs=
X-Google-DKIM-Signature: v=1; a=rsa-sha256; c=relaxed/relaxed;
 d=1e100.net; s=20230601; t=1717785089; x=1718389889;
 h=references:in-reply-to:cc:to:from:subject:message-id:date
 :x-gm-message-state:from:to:cc:subject:date:message-id:reply-to;
 bh=pTBUkQIvojhixqzeVcaPdV6Yaym5SlSH3KnVNpuuCSw=;
 b=HqLCU8TdY3tA+6a+0i8nWGwp/UwNmUqN1Ilkm0v3kJOgSnPL4lsoy/H1UlcxYFYaCM
 a9o6h54yhwM6QFTGR93FA+b49qe1ocYvceydjVLNqtNTPI3eiIKIprbpqv9S99U7JCdJ
 9TJXJpg1sxC9Wd+FBC+1ks6oZkzxYk8ziMy60fDqVysSeeKA9phcNBJKCxHO5VrFQFms
 6cF23QZGhHWKYaOHayFbmoeo5JSACiYBjBXeKvd5PnRhtIQA10YWqUU/ZK4P3iVGC+9Q
 6I0vBVhnRI/S/UydfxIIW/Hhc1TVEWFx16rYKHer9mi5MnqXv3JCxoneeZjGEa3rldw/
 WEhg==
X-Gm-Message-State: AOJu0YxGLlijsE0RcA/COo9fN8UCB+S3pWRT0WfMM7e5X9j+j651MCXN
 DSgpbJxM4wh2wqECj2gnDsnBGuypTt/Peca1oRcot0O/BbkW/VUHhSVVkFSZNAVPNEHOaS6ATy3
 xycB1jXMYXdIR38qA09uMBzDydnOJky6dFO5cRn/wMf7soK6bBlHZufLp
X-Google-Smtp-Source: AGHT+IHzMDeTSn6iwIW7DI9uBqK/2XvY0QMIrVURXg1ZclMStZ9Tx4kLy36587LDUPJSv9TSxBhga/8ZKJJ/
X-Received: by 2002:a05:6602:2c85:b0:7e1:8dad:20fb with SMTP id
 ca18e2360f4ac-7eb571c0f5amr433113439f.4.1717785089590; 
 Fri, 07 Jun 2024 11:31:29 -0700 (PDT)
Received: from postal.iol.unh.edu (postal.iol.unh.edu.
 [2606:4100:3880:1234::84]) by smtp-relay.gmail.com with ESMTPS id
 ca18e2360f4ac-7eb4c42f5d2sm13698839f.24.2024.06.07.11.31.29
 (version=TLS1_2 cipher=ECDHE-ECDSA-AES128-GCM-SHA256 bits=128/128);
 Fri, 07 Jun 2024 11:31:29 -0700 (PDT)
X-Relaying-Domain: iol.unh.edu
Date: Fri, 07 Jun 2024 11:31:29 -0700 (PDT)
Message-ID: <66635201.050a0220.140db6.bc49SMTPIN_ADDED_MISSING@mx.google.com>
Received: from [172.21.0.6] (unknown [172.18.0.240])
 by postal.iol.unh.edu (Postfix) with ESMTP id 0DEA5605C380;
 Fri,  7 Jun 2024 14:31:29 -0400 (EDT)
Subject: |SUCCESS| pw140861-140867 [PATCH] [v3,9/9] crypto/ionic: add stats s
From: dpdklab@iol.unh.edu
To: Test Report <test-report@dpdk.org>
Cc: dpdk-test-reports@iol.unh.edu
In-Reply-To: <20240607142740.60175-10-andrew.boyer@amd.com>
References: <20240607142740.60175-10-andrew.boyer@amd.com>
Content-Type: text/plain
X-BeenThere: test-report@dpdk.org
X-Mailman-Version: 2.1.29
Precedence: list
List-Id: automatic DPDK test reports <test-report.dpdk.org>
List-Unsubscribe: <https://mails.dpdk.org/options/test-report>,
 <mailto:test-report-request@dpdk.org?subject=unsubscribe>
List-Archive: <http://mails.dpdk.org/archives/test-report/>
List-Post: <mailto:test-report@dpdk.org>
List-Help: <mailto:test-report-request@dpdk.org?subject=help>
List-Subscribe: <https://mails.dpdk.org/listinfo/test-report>,
 <mailto:test-report-request@dpdk.org?subject=subscribe>
Errors-To: test-report-bounces@dpdk.org

Test-Label: iol-compile-arm64-testing
Test-Status: SUCCESS
http://dpdk.org/patch/140867

_Testing PASS_

Submitter: Andrew Boyer <Andrew.Boyer@amd.com>
Date: Friday, June 07 2024 14:27:40 
DPDK git baseline: Repo:dpdk
  Branch: master
  CommitID:367b8db312517edb9f5340d280e77b1437d84dd3

140861-140867 --> testing pass

Test environment and result as below:

+----------------------------------------+--------------------+
|              Environment               | dpdk_meson_compile |
+========================================+====================+
| Ubuntu 20.04 ARM SVE                   | PASS               |
+----------------------------------------+--------------------+
| Debian 12 with MUSDK                   | PASS               |
+----------------------------------------+--------------------+
| Ubuntu 20.04 (ARM)                     | PASS               |
+----------------------------------------+--------------------+
| Fedora 39 (ARM)                        | PASS               |
+----------------------------------------+--------------------+
| Fedora 37 (ARM)                        | PASS               |
+----------------------------------------+--------------------+
| Debian 11 (Buster) (ARM)               | PASS               |
+----------------------------------------+--------------------+
| CentOS Stream 9 (ARM)                  | PASS               |
+----------------------------------------+--------------------+
| Ubuntu 24.04 (ARM)                     | PASS               |
+----------------------------------------+--------------------+
| Ubuntu 22.04 (ARM)                     | PASS               |
+----------------------------------------+--------------------+
| Debian 12 (arm)                        | PASS               |
+----------------------------------------+--------------------+
| Fedora 38 (ARM)                        | PASS               |
+----------------------------------------+--------------------+
| Ubuntu 20.04 ARM GCC Cross Compile     | PASS               |
+----------------------------------------+--------------------+
| Ubuntu 20.04 aarch32 GCC Cross Compile | PASS               |
+----------------------------------------+--------------------+


Ubuntu 20.04 ARM SVE
	Kernel: 5.4.0-167-generic
	Compiler: gcc (Ubuntu 10.5.0-1ubuntu1~20.04) 10.5.0

Debian 12 with MUSDK
	Kernel: Container Host Kernel
	Compiler: gcc 12.2.0

Ubuntu 20.04 (ARM)
	Kernel: Container Host Kernel
	Compiler: gcc 9.4.0

Fedora 39 (ARM)
	Kernel: Depends on container host
	Compiler: gcc 13.2.1

Fedora 37 (ARM)
	Kernel: Depends on container host
	Compiler: gcc 12.3.1

Debian 11 (Buster) (ARM)
	Kernel: Container Host Kernel
	Compiler: gcc 10.2.1

CentOS Stream 9 (ARM)
	Kernel: Container Host Kernel
	Compiler: gcc 11.4.1

Ubuntu 24.04 (ARM)
	Kernel: 5.4.0-167-generic
	Compiler: gcc 13.2.0

Ubuntu 22.04 (ARM)
	Kernel: Container Host Kernel
	Compiler: gcc 11.4.0

Debian 12 (arm)
	Kernel: Container Host Kernel
	Compiler: gcc 12.2.0

Fedora 38 (ARM)
	Kernel: Depends on container host
	Compiler: gcc 13.2.1

Ubuntu 20.04 ARM GCC Cross Compile
	Kernel: 5.4.0-167-generic
	Compiler: aarch64-linux-gnu-gcc (Ubuntu 9.4.0-1ubuntu1~20.04.2) 9.4.0

Ubuntu 20.04 aarch32 GCC Cross Compile
	Kernel: 5.4.0-167-generic
	Compiler: gcc 9.4.0

To view detailed results, visit:
https://lab.dpdk.org/results/dashboard/patchsets/30145/

UNH-IOL DPDK Community Lab

To manage your email subscriptions, visit: 
https://lab.dpdk.org/results/dashboard/preferences/subscriptions/