From mboxrd@z Thu Jan  1 00:00:00 1970
Return-Path: <test-report-bounces@dpdk.org>
Received: from mails.dpdk.org (mails.dpdk.org [217.70.189.124])
	by inbox.dpdk.org (Postfix) with ESMTP id 9C20B44186
	for <public@inbox.dpdk.org>; Fri,  7 Jun 2024 22:17:06 +0200 (CEST)
Received: from mails.dpdk.org (localhost [127.0.0.1])
	by mails.dpdk.org (Postfix) with ESMTP id 9822F402AB;
	Fri,  7 Jun 2024 22:17:06 +0200 (CEST)
Received: from mail-oi1-f228.google.com (mail-oi1-f228.google.com
 [209.85.167.228])
 by mails.dpdk.org (Postfix) with ESMTP id 5EEA740272
 for <test-report@dpdk.org>; Fri,  7 Jun 2024 22:17:05 +0200 (CEST)
Received: by mail-oi1-f228.google.com with SMTP id
 5614622812f47-3d1fea41751so1237042b6e.2
 for <test-report@dpdk.org>; Fri, 07 Jun 2024 13:17:05 -0700 (PDT)
DKIM-Signature: v=1; a=rsa-sha256; c=relaxed/relaxed;
 d=iol.unh.edu; s=unh-iol; t=1717791424; x=1718396224; darn=dpdk.org;
 h=references:in-reply-to:cc:to:from:subject:message-id:date:from:to
 :cc:subject:date:message-id:reply-to;
 bh=lwnU2XRUao3aJbqa6d9bRsTgfuJ7s/jauL8CyYS6yMo=;
 b=GEREyksk/M0tD4kQkCFH6aldWHBTSkLj2/gTFI0n9CeegNNF5kVozSA+k89+HtflTs
 Vk9dLK7I3KMLfJMF2V2rMiGlZ+50OjEYANVbYWaAWkuCwOpW/5H7ofZdqMNuM4HcafIb
 UC/krJPJoBWg3FERikGQnPqIYIgrF9dOdFCNU=
X-Google-DKIM-Signature: v=1; a=rsa-sha256; c=relaxed/relaxed;
 d=1e100.net; s=20230601; t=1717791424; x=1718396224;
 h=references:in-reply-to:cc:to:from:subject:message-id:date
 :x-gm-message-state:from:to:cc:subject:date:message-id:reply-to;
 bh=lwnU2XRUao3aJbqa6d9bRsTgfuJ7s/jauL8CyYS6yMo=;
 b=weyRJu5mF4FtTD7pTq0AaN34P6d1EXeRBaexZ5PjuS3pe7nQYhbZgMn+F9rOn+/l8x
 kC2vxAx3RFjHhO9ilQQPgOSs6ZB8DDdgAX1eEQiGIF0qPL/HDqZjmJVTa6fXqnK/Kcar
 uE7SQhVfOknya0Lc48Z3ygYXhw1aJiBqS3Vg/PbpHLsD+njQ/XDcWzJn7V1dpvKBmwWB
 eaO4d7P9Q7OA06pbS15WhQ/PkJ0jBboykrs7Ge+38mybZ+WzFs41yIgsbOdAbYJVjtNQ
 bUB/tL4EtLGlXJcYt3Zk8HCEND9R4Gj25hWbkL+BBXbOlUrqPgUbh15N2Bg/zNu+ure4
 cgBQ==
X-Gm-Message-State: AOJu0Ywf+4xbg4shOP7ZCSMLxp6+i5uF+yaEg6z5SP82B+79kIHn8q2S
 xmoQXh5AonteOfTrL+rXQ8vvmx9do2mGZE/Ss8cFYj+ptcV+9Au9R9S6nxsmsjMO9Ypk5FBWqti
 Kr+faYfrSHtT4khyCHPm3YxEKMzEhLgf1Cj0mNfT8
X-Google-Smtp-Source: AGHT+IGqjvUWeY1c4o5hSDsHQcasGRGVld/vanN3+OEoHT7aYpQV+Adi42X5B8KHHRxYeT5GJ7c8r39iKoVD
X-Received: by 2002:a05:6808:348:b0:3d2:aae:7ba4 with SMTP id
 5614622812f47-3d210d57639mr3424828b6e.16.1717791424399; 
 Fri, 07 Jun 2024 13:17:04 -0700 (PDT)
Received: from postal.iol.unh.edu (postal.iol.unh.edu. [132.177.123.84])
 by smtp-relay.gmail.com with ESMTPS id
 6a1803df08f44-6b04f5410e0sm1511366d6.0.2024.06.07.13.17.04
 (version=TLS1_2 cipher=ECDHE-ECDSA-AES128-GCM-SHA256 bits=128/128);
 Fri, 07 Jun 2024 13:17:04 -0700 (PDT)
X-Relaying-Domain: iol.unh.edu
Date: Fri, 07 Jun 2024 13:17:04 -0700 (PDT)
Message-ID: <66636ac0.050a0220.3bb0ad.ca28SMTPIN_ADDED_MISSING@mx.google.com>
Received: from [172.21.0.6] (unknown [172.18.0.240])
 by postal.iol.unh.edu (Postfix) with ESMTP id 15FD2605C381;
 Fri,  7 Jun 2024 16:17:04 -0400 (EDT)
Subject: |SUCCESS| pw140857-140859 [PATCH] [v8,3/3] net/mlx5: implement VXLAN
From: dpdklab@iol.unh.edu
To: Test Report <test-report@dpdk.org>
Cc: dpdk-test-reports@iol.unh.edu
In-Reply-To: <20240607140208.315235-4-rongweil@nvidia.com>
References: <20240607140208.315235-4-rongweil@nvidia.com>
Content-Type: text/plain
X-BeenThere: test-report@dpdk.org
X-Mailman-Version: 2.1.29
Precedence: list
List-Id: automatic DPDK test reports <test-report.dpdk.org>
List-Unsubscribe: <https://mails.dpdk.org/options/test-report>,
 <mailto:test-report-request@dpdk.org?subject=unsubscribe>
List-Archive: <http://mails.dpdk.org/archives/test-report/>
List-Post: <mailto:test-report@dpdk.org>
List-Help: <mailto:test-report-request@dpdk.org?subject=help>
List-Subscribe: <https://mails.dpdk.org/listinfo/test-report>,
 <mailto:test-report-request@dpdk.org?subject=subscribe>
Errors-To: test-report-bounces@dpdk.org

Test-Label: iol-unit-arm64-testing
Test-Status: SUCCESS
http://dpdk.org/patch/140859

_Testing PASS_

Submitter: Rongwei Liu <rongweil@nvidia.com>
Date: Friday, June 07 2024 14:02:08 
DPDK git baseline: Repo:dpdk
  Branch: master
  CommitID:a6bbf008457a455fcf4cf7374c280bba697a353f

140857-140859 --> testing pass

Test environment and result as below:

+-----------------------------+----------------+---------------------------+--------------+------------------------------+
|         Environment         | dpdk_unit_test | cryptodev_sw_zuc_autotest | lpm_autotest | cryptodev_sw_snow3g_autotest |
+=============================+================+===========================+==============+==============================+
| Fedora 37 (ARM)             | PASS           | SKIPPED                   | SKIPPED      | SKIPPED                      |
+-----------------------------+----------------+---------------------------+--------------+------------------------------+
| Debian 11 (Buster) (ARM)    | PASS           | SKIPPED                   | SKIPPED      | SKIPPED                      |
+-----------------------------+----------------+---------------------------+--------------+------------------------------+
| Fedora 38 (ARM Clang)       | PASS           | SKIPPED                   | SKIPPED      | SKIPPED                      |
+-----------------------------+----------------+---------------------------+--------------+------------------------------+
| CentOS Stream 9 (ARM)       | PASS           | SKIPPED                   | SKIPPED      | SKIPPED                      |
+-----------------------------+----------------+---------------------------+--------------+------------------------------+
| Fedora 38 (ARM)             | PASS           | SKIPPED                   | SKIPPED      | SKIPPED                      |
+-----------------------------+----------------+---------------------------+--------------+------------------------------+
| Debian 12 (arm)             | PASS           | PASS                      | SKIPPED      | PASS                         |
+-----------------------------+----------------+---------------------------+--------------+------------------------------+
| Fedora 39 (ARM)             | PASS           | SKIPPED                   | SKIPPED      | SKIPPED                      |
+-----------------------------+----------------+---------------------------+--------------+------------------------------+
| 32-bit Ubuntu 20.04.4 (ARM) | PASS           | SKIPPED                   | SKIPPED      | SKIPPED                      |
+-----------------------------+----------------+---------------------------+--------------+------------------------------+
| Ubuntu 22.04 (ARM)          | PASS           | SKIPPED                   | SKIPPED      | SKIPPED                      |
+-----------------------------+----------------+---------------------------+--------------+------------------------------+
| Ubuntu 20.04 (ARM)          | PASS           | SKIPPED                   | SKIPPED      | SKIPPED                      |
+-----------------------------+----------------+---------------------------+--------------+------------------------------+
| Ubuntu 24.04 (ARM)          | PASS           | SKIPPED                   | SKIPPED      | SKIPPED                      |
+-----------------------------+----------------+---------------------------+--------------+------------------------------+
| Fedora 39 (ARM Clang)       | PASS           | SKIPPED                   | SKIPPED      | SKIPPED                      |
+-----------------------------+----------------+---------------------------+--------------+------------------------------+
| Ubuntu 20.04 ARM SVE        | SKIPPED        | SKIPPED                   | PASS         | SKIPPED                      |
+-----------------------------+----------------+---------------------------+--------------+------------------------------+


Fedora 37 (ARM)
	Kernel: Depends on container host
	Compiler: gcc 12.3.1

Debian 11 (Buster) (ARM)
	Kernel: Container Host Kernel
	Compiler: gcc 10.2.1

Fedora 38 (ARM Clang)
	Kernel: Depends on container host
	Compiler: clang 16.0.6

CentOS Stream 9 (ARM)
	Kernel: Container Host Kernel
	Compiler: gcc 11.4.1

Fedora 38 (ARM)
	Kernel: Depends on container host
	Compiler: gcc 13.2.1

Debian 12 (arm)
	Kernel: Container Host Kernel
	Compiler: gcc 12.2.0

Fedora 39 (ARM)
	Kernel: Depends on container host
	Compiler: gcc 13.2.1

32-bit Ubuntu 20.04.4 (ARM)
	Kernel: 5.4.0-155-generic aarch64
	Compiler: gcc 9.4

Ubuntu 22.04 (ARM)
	Kernel: Container Host Kernel
	Compiler: gcc 11.4.0

Ubuntu 20.04 (ARM)
	Kernel: Container Host Kernel
	Compiler: gcc 9.4.0

Ubuntu 24.04 (ARM)
	Kernel: 5.4.0-167-generic
	Compiler: gcc 13.2.0

Fedora 39 (ARM Clang)
	Kernel: Depends on container host
	Compiler: clang 17.0.6

Ubuntu 20.04 ARM SVE
	Kernel: 5.4.0-167-generic
	Compiler: gcc (Ubuntu 10.5.0-1ubuntu1~20.04) 10.5.0

To view detailed results, visit:
https://lab.dpdk.org/results/dashboard/patchsets/30144/

UNH-IOL DPDK Community Lab

To manage your email subscriptions, visit: 
https://lab.dpdk.org/results/dashboard/preferences/subscriptions/