From mboxrd@z Thu Jan  1 00:00:00 1970
Return-Path: <test-report-bounces@dpdk.org>
Received: from mails.dpdk.org (mails.dpdk.org [217.70.189.124])
	by inbox.dpdk.org (Postfix) with ESMTP id 50F5544186
	for <public@inbox.dpdk.org>; Fri,  7 Jun 2024 22:18:25 +0200 (CEST)
Received: from mails.dpdk.org (localhost [127.0.0.1])
	by mails.dpdk.org (Postfix) with ESMTP id 41D6F42D72;
	Fri,  7 Jun 2024 22:18:25 +0200 (CEST)
Received: from mail-io1-f99.google.com (mail-io1-f99.google.com
 [209.85.166.99]) by mails.dpdk.org (Postfix) with ESMTP id DA51640272
 for <test-report@dpdk.org>; Fri,  7 Jun 2024 22:18:23 +0200 (CEST)
Received: by mail-io1-f99.google.com with SMTP id
 ca18e2360f4ac-7e252b2cfd8so93877439f.0
 for <test-report@dpdk.org>; Fri, 07 Jun 2024 13:18:23 -0700 (PDT)
DKIM-Signature: v=1; a=rsa-sha256; c=relaxed/relaxed;
 d=iol.unh.edu; s=unh-iol; t=1717791503; x=1718396303; darn=dpdk.org;
 h=references:in-reply-to:cc:to:from:subject:message-id:date:from:to
 :cc:subject:date:message-id:reply-to;
 bh=duvoB7OOBhLpe/xTlRPl6nPvHmjN4SJohQXkocyMYCw=;
 b=O2gvS70fsVvx2yMrMv4WZHhjcFSnf5Ctiw2SKUdPJvCFYKq/fis5Y8YMZaDyJZ5JIB
 xhwbT6E94vFIZKOi3Id3IyHTK1ogHZmcu7LMl7LUt2w9yAdNQoKNY3NJNwP91r8z3mxJ
 myKJK+AZuukEm439YekSn9PQ6fZwoiQFjkt8k=
X-Google-DKIM-Signature: v=1; a=rsa-sha256; c=relaxed/relaxed;
 d=1e100.net; s=20230601; t=1717791503; x=1718396303;
 h=references:in-reply-to:cc:to:from:subject:message-id:date
 :x-gm-message-state:from:to:cc:subject:date:message-id:reply-to;
 bh=duvoB7OOBhLpe/xTlRPl6nPvHmjN4SJohQXkocyMYCw=;
 b=KFnFwkHrVPeYXQnUyoXvlZKUNu9ma7/qx03NRka5TH1Usv0j2Jh3rFVcWy3RzVt5N3
 7m+gch7tc6B9Fi6AJ25ybcswJIdg62uvFKr6GzWbOor/E5n8ZlZ45bba8se+6LHrHovV
 1RV6QP3c3idRH7M0ZFnMrArsWmvBVv+pqNXeGsDrZFkqnCcjK6UlEqtx7QuW1T0IOkrk
 Wh2Ihs2hvMP+EohUpcNl/+EyPpKdrLKxNmphtTrRUnQH5BOXhUWi9buSxnGgo86oN3a7
 x9EgdVL6xDP4+jpNobDl0xWDlrz6cIOolPYJfAMR5TUlVS9zUCKFzLY1i75JC9PkXZ8t
 tMUw==
X-Gm-Message-State: AOJu0Yz3pq8jzfAzuxRJhh3fiOIEmgg3SQhrLjFWNOEdVKh/Ler5UvUI
 jhlEXiYO5QXf3xZ8iLLHNwg7vBhMYeNGkSRX1Xt4VTQIu2ZE7v17wkRbrJwsl4VTcVknhTLpybz
 ZRYfzzvxwZST4CgpTyVUry51ZIuJCXWoAhWlfbMaTiHgnHlHJ0R8mTW8q
X-Google-Smtp-Source: AGHT+IGRhm+Hdp7t3dY9H8ClGnzPZLdy0BExO9iOgxzQOjAv0R8L3nQNFrYXxpquqxVv5WU7khAfiuG1v30f
X-Received: by 2002:a05:6602:6d08:b0:7e1:b4b2:d701 with SMTP id
 ca18e2360f4ac-7eb571d46fcmr465862839f.2.1717791503299; 
 Fri, 07 Jun 2024 13:18:23 -0700 (PDT)
Received: from postal.iol.unh.edu (postal.iol.unh.edu.
 [2606:4100:3880:1234::84]) by smtp-relay.gmail.com with ESMTPS id
 8926c6da1cb9f-4b7a2293045sm74111173.32.2024.06.07.13.18.23
 (version=TLS1_2 cipher=ECDHE-ECDSA-AES128-GCM-SHA256 bits=128/128);
 Fri, 07 Jun 2024 13:18:23 -0700 (PDT)
X-Relaying-Domain: iol.unh.edu
Date: Fri, 07 Jun 2024 13:18:23 -0700 (PDT)
Message-ID: <66636b0f.050a0220.1b9af2.6268SMTPIN_ADDED_MISSING@mx.google.com>
Received: from [172.21.0.12] (unknown [172.18.0.240])
 by postal.iol.unh.edu (Postfix) with ESMTP id A9848605C380;
 Fri,  7 Jun 2024 16:18:22 -0400 (EDT)
Subject: |SUCCESS| pw140861-140867 [PATCH] [v3,9/9] crypto/ionic: add stats s
From: dpdklab@iol.unh.edu
To: Test Report <test-report@dpdk.org>
Cc: dpdk-test-reports@iol.unh.edu
In-Reply-To: <20240607142740.60175-10-andrew.boyer@amd.com>
References: <20240607142740.60175-10-andrew.boyer@amd.com>
Content-Type: text/plain
X-BeenThere: test-report@dpdk.org
X-Mailman-Version: 2.1.29
Precedence: list
List-Id: automatic DPDK test reports <test-report.dpdk.org>
List-Unsubscribe: <https://mails.dpdk.org/options/test-report>,
 <mailto:test-report-request@dpdk.org?subject=unsubscribe>
List-Archive: <http://mails.dpdk.org/archives/test-report/>
List-Post: <mailto:test-report@dpdk.org>
List-Help: <mailto:test-report-request@dpdk.org?subject=help>
List-Subscribe: <https://mails.dpdk.org/listinfo/test-report>,
 <mailto:test-report-request@dpdk.org?subject=subscribe>
Errors-To: test-report-bounces@dpdk.org

Test-Label: iol-sample-apps-testing
Test-Status: SUCCESS
http://dpdk.org/patch/140867

_Testing PASS_

Submitter: Andrew Boyer <Andrew.Boyer@amd.com>
Date: Friday, June 07 2024 14:27:40 
DPDK git baseline: Repo:dpdk
  Branch: master
  CommitID:367b8db312517edb9f5340d280e77b1437d84dd3

140861-140867 --> testing pass

Test environment and result as below:

+--------------------+----------------------+----------------------+
|    Environment     | compressdev_zlib_pmd | dpdk_fips_validation |
+====================+======================+======================+
| Ubuntu 22.04 (ARM) | PASS                 | SKIPPED              |
+--------------------+----------------------+----------------------+
| Ubuntu 22.04       | PASS                 | SKIPPED              |
+--------------------+----------------------+----------------------+
| Ubuntu 20.04       | SKIPPED              | PASS                 |
+--------------------+----------------------+----------------------+


Ubuntu 22.04 (ARM)
	Kernel: 5.15.0-97-generic
	Compiler: gcc gcc (Ubuntu 11.4.0-1ubuntu1~22.04) 11.4.0

Ubuntu 22.04
	Kernel: 5.15.0-100-generic
	Compiler: gcc gcc (Ubuntu 11.4.0-1ubuntu1~22.04) 11.4.0

Ubuntu 20.04
	Kernel: 5.4.0-167-generic
	Compiler: gcc 9.4.0-1ubuntu1~20.04.1

To view detailed results, visit:
https://lab.dpdk.org/results/dashboard/patchsets/30145/

UNH-IOL DPDK Community Lab

To manage your email subscriptions, visit: 
https://lab.dpdk.org/results/dashboard/preferences/subscriptions/