From mboxrd@z Thu Jan  1 00:00:00 1970
Return-Path: <test-report-bounces@dpdk.org>
Received: from mails.dpdk.org (mails.dpdk.org [217.70.189.124])
	by inbox.dpdk.org (Postfix) with ESMTP id A1CB444186
	for <public@inbox.dpdk.org>; Fri,  7 Jun 2024 22:39:44 +0200 (CEST)
Received: from mails.dpdk.org (localhost [127.0.0.1])
	by mails.dpdk.org (Postfix) with ESMTP id 9E1C1402AB;
	Fri,  7 Jun 2024 22:39:44 +0200 (CEST)
Received: from mail-qv1-f100.google.com (mail-qv1-f100.google.com
 [209.85.219.100])
 by mails.dpdk.org (Postfix) with ESMTP id A7CCE40272
 for <test-report@dpdk.org>; Fri,  7 Jun 2024 22:39:43 +0200 (CEST)
Received: by mail-qv1-f100.google.com with SMTP id
 6a1803df08f44-6b05e504bceso7705626d6.2
 for <test-report@dpdk.org>; Fri, 07 Jun 2024 13:39:43 -0700 (PDT)
DKIM-Signature: v=1; a=rsa-sha256; c=relaxed/relaxed;
 d=iol.unh.edu; s=unh-iol; t=1717792783; x=1718397583; darn=dpdk.org;
 h=references:in-reply-to:cc:to:from:subject:message-id:date:from:to
 :cc:subject:date:message-id:reply-to;
 bh=a5btz99XsXESkQ2NyY4TT1GUAmTNIiEnNDbUdAC8MvM=;
 b=bkye1zLLPPX7FaOFCTt6bIe84oShVWjxL5keKEwYY6sIwp//eCAQb/Jjy++Z7OyFW8
 /HHCXWRCKfeY3fEKjEGP0nfS9USI8gl4AgVCrtqi38jukm7ZE0Z57nyuciSfidOXPLTz
 RQuD9xxwRAki11IRhK65h3lfyCMeG6/sYbHGQ=
X-Google-DKIM-Signature: v=1; a=rsa-sha256; c=relaxed/relaxed;
 d=1e100.net; s=20230601; t=1717792783; x=1718397583;
 h=references:in-reply-to:cc:to:from:subject:message-id:date
 :x-gm-message-state:from:to:cc:subject:date:message-id:reply-to;
 bh=a5btz99XsXESkQ2NyY4TT1GUAmTNIiEnNDbUdAC8MvM=;
 b=J9nqqWJS+BBSxbAuTXQM11O4/Eh0Vsk6lfUVV9zHHz6dEc0aHgWr6Vg2v4BmglRPG8
 6uIA9XLbv5prAWU6IVgu8ibbQVi5NBf8NbzgK5BY8/gU/DPBK1snwFCAnf0qYfQ6QhzI
 F83YIk8I3Hnlkl0lVTvxiUdFAIZfj3q8xriYRJy7sijShH6Guycg8IoSBrbROA5ROU8U
 XNztR68U3kN/n/XfwM68WWQtCoZ5Z3sIHzDlk3PdRUzegb79CFES0iMJtGmvN5WNCNku
 adwaNddMkMeRnHnsQYzQw2XYNYdpy9J1j85DaiW8nQQG6r3r9nzjAFJpTn4GkEgTUDuO
 IdUA==
X-Gm-Message-State: AOJu0YxVCCChlMXjFbF+O7K+86osAJENFG89ECYtoBhROhOjw2RGHcAG
 58W+m3E0VdJygwToKQ7LNw8Ic64lz47lUlbCcT9LRhw8gqtaa9DsCVRBslIVPDTnA+eieSTlP0A
 WfTBYlSolvRcpFzun00Q2VyOUhAVAEoTu1lr27tKZ6x0LzHQ6KY1J7oHT
X-Google-Smtp-Source: AGHT+IGkZqSc7r+6n+LyIrNR4XeEGzpI7Z1GDsb317359t8I/MvRet8HxaZ1YHfJYRtFy3Os15TPUuud6bzu
X-Received: by 2002:a05:6214:a43:b0:6b0:6788:c3eb with SMTP id
 6a1803df08f44-6b06788c55dmr5499876d6.20.1717792783090; 
 Fri, 07 Jun 2024 13:39:43 -0700 (PDT)
Received: from postal.iol.unh.edu (postal.iol.unh.edu.
 [2606:4100:3880:1234::84]) by smtp-relay.gmail.com with ESMTPS id
 6a1803df08f44-6b04f757ffbsm1434406d6.41.2024.06.07.13.39.43
 (version=TLS1_2 cipher=ECDHE-ECDSA-AES128-GCM-SHA256 bits=128/128);
 Fri, 07 Jun 2024 13:39:43 -0700 (PDT)
X-Relaying-Domain: iol.unh.edu
Date: Fri, 07 Jun 2024 13:39:43 -0700 (PDT)
Message-ID: <6663700f.050a0220.2a9691.ae72SMTPIN_ADDED_MISSING@mx.google.com>
Received: from [172.21.0.7] (unknown [172.18.0.240])
 by postal.iol.unh.edu (Postfix) with ESMTP id C4B72605C380;
 Fri,  7 Jun 2024 16:39:42 -0400 (EDT)
Subject: |SUCCESS| pw140857-140859 [PATCH] [v8,3/3] net/mlx5: implement VXLAN
From: dpdklab@iol.unh.edu
To: Test Report <test-report@dpdk.org>
Cc: dpdk-test-reports@iol.unh.edu
In-Reply-To: <20240607140208.315235-4-rongweil@nvidia.com>
References: <20240607140208.315235-4-rongweil@nvidia.com>
Content-Type: text/plain
X-BeenThere: test-report@dpdk.org
X-Mailman-Version: 2.1.29
Precedence: list
List-Id: automatic DPDK test reports <test-report.dpdk.org>
List-Unsubscribe: <https://mails.dpdk.org/options/test-report>,
 <mailto:test-report-request@dpdk.org?subject=unsubscribe>
List-Archive: <http://mails.dpdk.org/archives/test-report/>
List-Post: <mailto:test-report@dpdk.org>
List-Help: <mailto:test-report-request@dpdk.org?subject=help>
List-Subscribe: <https://mails.dpdk.org/listinfo/test-report>,
 <mailto:test-report-request@dpdk.org?subject=subscribe>
Errors-To: test-report-bounces@dpdk.org

Test-Label: iol-compile-arm64-testing
Test-Status: SUCCESS
http://dpdk.org/patch/140859

_Testing PASS_

Submitter: Rongwei Liu <rongweil@nvidia.com>
Date: Friday, June 07 2024 14:02:08 
DPDK git baseline: Repo:dpdk
  Branch: master
  CommitID:a6bbf008457a455fcf4cf7374c280bba697a353f

140857-140859 --> testing pass

Test environment and result as below:

+----------------------------------------+--------------------+
|              Environment               | dpdk_meson_compile |
+========================================+====================+
| Ubuntu 20.04 ARM SVE                   | PASS               |
+----------------------------------------+--------------------+
| Fedora 37 (ARM)                        | PASS               |
+----------------------------------------+--------------------+
| Debian 12 with MUSDK                   | PASS               |
+----------------------------------------+--------------------+
| Fedora 38 (ARM)                        | PASS               |
+----------------------------------------+--------------------+
| Fedora 39 (ARM)                        | PASS               |
+----------------------------------------+--------------------+
| Ubuntu 22.04 (ARM)                     | PASS               |
+----------------------------------------+--------------------+
| Ubuntu 24.04 (ARM)                     | PASS               |
+----------------------------------------+--------------------+
| Debian 11 (Buster) (ARM)               | PASS               |
+----------------------------------------+--------------------+
| Debian 12 (arm)                        | PASS               |
+----------------------------------------+--------------------+
| Ubuntu 20.04 aarch32 GCC Cross Compile | PASS               |
+----------------------------------------+--------------------+
| Ubuntu 20.04 ARM Clang Cross Compile   | PASS               |
+----------------------------------------+--------------------+
| Ubuntu 20.04 ARM GCC Cross Compile     | PASS               |
+----------------------------------------+--------------------+


Ubuntu 20.04 ARM SVE
	Kernel: 5.4.0-167-generic
	Compiler: gcc (Ubuntu 10.5.0-1ubuntu1~20.04) 10.5.0

Fedora 37 (ARM)
	Kernel: Depends on container host
	Compiler: gcc 12.3.1

Debian 12 with MUSDK
	Kernel: Container Host Kernel
	Compiler: gcc 12.2.0

Fedora 38 (ARM)
	Kernel: Depends on container host
	Compiler: gcc 13.2.1

Fedora 39 (ARM)
	Kernel: Depends on container host
	Compiler: gcc 13.2.1

Ubuntu 22.04 (ARM)
	Kernel: Container Host Kernel
	Compiler: gcc 11.4.0

Ubuntu 24.04 (ARM)
	Kernel: 5.4.0-167-generic
	Compiler: gcc 13.2.0

Debian 11 (Buster) (ARM)
	Kernel: Container Host Kernel
	Compiler: gcc 10.2.1

Debian 12 (arm)
	Kernel: Container Host Kernel
	Compiler: gcc 12.2.0

Ubuntu 20.04 aarch32 GCC Cross Compile
	Kernel: 5.4.0-167-generic
	Compiler: gcc 9.4.0

Ubuntu 20.04 ARM Clang Cross Compile
	Kernel: 5.4.0-72-generic
	Compiler: clang 10.0.0-4ubuntu1

Ubuntu 20.04 ARM GCC Cross Compile
	Kernel: 5.4.0-167-generic
	Compiler: aarch64-linux-gnu-gcc (Ubuntu 9.4.0-1ubuntu1~20.04.2) 9.4.0

To view detailed results, visit:
https://lab.dpdk.org/results/dashboard/patchsets/30144/

UNH-IOL DPDK Community Lab

To manage your email subscriptions, visit: 
https://lab.dpdk.org/results/dashboard/preferences/subscriptions/