From mboxrd@z Thu Jan  1 00:00:00 1970
Return-Path: <test-report-bounces@dpdk.org>
Received: from mails.dpdk.org (mails.dpdk.org [217.70.189.124])
	by inbox.dpdk.org (Postfix) with ESMTP id 11C0D424BF
	for <public@inbox.dpdk.org>; Mon, 10 Jun 2024 12:20:04 +0200 (CEST)
Received: from mails.dpdk.org (localhost [127.0.0.1])
	by mails.dpdk.org (Postfix) with ESMTP id 0D1CD40647;
	Mon, 10 Jun 2024 12:20:04 +0200 (CEST)
Received: from mail-pj1-f100.google.com (mail-pj1-f100.google.com
 [209.85.216.100])
 by mails.dpdk.org (Postfix) with ESMTP id 8B329402CA
 for <test-report@dpdk.org>; Mon, 10 Jun 2024 12:20:02 +0200 (CEST)
Received: by mail-pj1-f100.google.com with SMTP id
 98e67ed59e1d1-2c19bba897bso3373120a91.2
 for <test-report@dpdk.org>; Mon, 10 Jun 2024 03:20:02 -0700 (PDT)
DKIM-Signature: v=1; a=rsa-sha256; c=relaxed/relaxed;
 d=iol.unh.edu; s=unh-iol; t=1718014802; x=1718619602; darn=dpdk.org;
 h=references:in-reply-to:cc:to:from:subject:message-id:date:from:to
 :cc:subject:date:message-id:reply-to;
 bh=1cOybkGc5i2v/io3VuZm+4M7iuekCclyLK1m4ol9Spg=;
 b=ipcuzGU6g/E0o4i9npfsHQHRU5erncvMCUkJoIGGJLloTK0QcPnyfNklhO+ufqrWXg
 55WSQlk4xt48FgTz/OCwfHuZDsWy4MT762QPygPWhYFd1T4BZiP4Vy9Tczduib02Famq
 kmfr8nj6yJiYZOkaJc3Qb10sGzcrNsQWM5ogw=
X-Google-DKIM-Signature: v=1; a=rsa-sha256; c=relaxed/relaxed;
 d=1e100.net; s=20230601; t=1718014802; x=1718619602;
 h=references:in-reply-to:cc:to:from:subject:message-id:date
 :x-gm-message-state:from:to:cc:subject:date:message-id:reply-to;
 bh=1cOybkGc5i2v/io3VuZm+4M7iuekCclyLK1m4ol9Spg=;
 b=e9c6PnJN1zpxxEl2b1WhStu61yZJf7xYm+FY9NEq6AGT2Gx46OZTHlyjgAhCGO+G2R
 xHI7wV0YbTwk2td86SP7b7NsVzByeS+ldPBOeWWFp998TwyKWho4ilNvAJsdoX2nBnOs
 sCScsKVDVyjlcZruaPQxjze3dkICz+RNRKu6UKeFVNc34RCcxtaRRq97eOGhBQAzhFU0
 l1arUETuHVvffEaVdBsyVWKD/6J8hWu9ee/aZWMPWJXpSjVLH26D3SG53nfcJNsmmo7m
 PDaJk+gp1zKeH4h1O4xjLd57cvXRAbhVjtgp2ZVXw5VjYlLq50dXQS75LTQPYH0luEg3
 6L5w==
X-Gm-Message-State: AOJu0YxxxCKMM/JyAT2tHwUZkb7hw2lg31UxzLQeTdQsZzj1b77+qFcr
 DF3V1pHmiPieg3OxDE69HM3V7f5PcBWRBDyrj1sNJ2HCXR2YMI1gKydwCxQtv9zphoY2RV3/qUB
 MKc+HEIYSfn/PfbNimIml8IFeTrGtfbc9oh2H99iB
X-Google-Smtp-Source: AGHT+IFwJOCQ1Vh4ohokkDY/r8dwrVWZURDP/NYy6SrTyDp0z5UxoaRx2sjr9fXHVvGOSAHH4qELgB+uQgCO
X-Received: by 2002:a17:90a:4207:b0:2c2:f8dd:e15c with SMTP id
 98e67ed59e1d1-2c2f8dde2a9mr2601937a91.37.1718014801655; 
 Mon, 10 Jun 2024 03:20:01 -0700 (PDT)
Received: from postal.iol.unh.edu (postal.iol.unh.edu. [132.177.123.84])
 by smtp-relay.gmail.com with ESMTPS id
 98e67ed59e1d1-2c2dfbd0d29sm297757a91.16.2024.06.10.03.20.01
 (version=TLS1_2 cipher=ECDHE-ECDSA-AES128-GCM-SHA256 bits=128/128);
 Mon, 10 Jun 2024 03:20:01 -0700 (PDT)
X-Relaying-Domain: iol.unh.edu
Date: Mon, 10 Jun 2024 03:20:01 -0700 (PDT)
Message-ID: <6666d351.170a0220.9812.9ea1SMTPIN_ADDED_MISSING@mx.google.com>
Received: from [172.21.0.6] (unknown [172.18.0.240])
 by postal.iol.unh.edu (Postfix) with ESMTP id CF31C605C373;
 Mon, 10 Jun 2024 06:20:00 -0400 (EDT)
Subject: |SUCCESS| pw140901-140906 [PATCH] [v5,6/6] net/mlx5: support FDB in 
From: dpdklab@iol.unh.edu
To: Test Report <test-report@dpdk.org>
Cc: dpdk-test-reports@iol.unh.edu
In-Reply-To: <20240610085039.146356-6-mkashani@nvidia.com>
References: <20240610085039.146356-6-mkashani@nvidia.com>
Content-Type: text/plain
X-BeenThere: test-report@dpdk.org
X-Mailman-Version: 2.1.29
Precedence: list
List-Id: automatic DPDK test reports <test-report.dpdk.org>
List-Unsubscribe: <https://mails.dpdk.org/options/test-report>,
 <mailto:test-report-request@dpdk.org?subject=unsubscribe>
List-Archive: <http://mails.dpdk.org/archives/test-report/>
List-Post: <mailto:test-report@dpdk.org>
List-Help: <mailto:test-report-request@dpdk.org?subject=help>
List-Subscribe: <https://mails.dpdk.org/listinfo/test-report>,
 <mailto:test-report-request@dpdk.org?subject=subscribe>
Errors-To: test-report-bounces@dpdk.org

Test-Label: iol-unit-arm64-testing
Test-Status: SUCCESS
http://dpdk.org/patch/140906

_Testing PASS_

Submitter: Maayan Kashani <mkashani@nvidia.com>
Date: Monday, June 10 2024 08:50:39 
DPDK git baseline: Repo:dpdk
  Branch: master
  CommitID:67519a9fd319c7606d9b313cc66560c015122474

140901-140906 --> testing pass

Test environment and result as below:

+-----------------------------+----------------+
|         Environment         | dpdk_unit_test |
+=============================+================+
| Debian 11 (Buster) (ARM)    | PASS           |
+-----------------------------+----------------+
| CentOS Stream 9 (ARM)       | PASS           |
+-----------------------------+----------------+
| Debian 12 (arm)             | PASS           |
+-----------------------------+----------------+
| Fedora 37 (ARM)             | PASS           |
+-----------------------------+----------------+
| Fedora 38 (ARM)             | PASS           |
+-----------------------------+----------------+
| 32-bit Ubuntu 20.04.4 (ARM) | PASS           |
+-----------------------------+----------------+


Debian 11 (Buster) (ARM)
	Kernel: Container Host Kernel
	Compiler: gcc 10.2.1

CentOS Stream 9 (ARM)
	Kernel: Container Host Kernel
	Compiler: gcc 11.4.1

Debian 12 (arm)
	Kernel: Container Host Kernel
	Compiler: gcc 12.2.0

Fedora 37 (ARM)
	Kernel: Depends on container host
	Compiler: gcc 12.3.1

Fedora 38 (ARM)
	Kernel: Depends on container host
	Compiler: gcc 13.2.1

32-bit Ubuntu 20.04.4 (ARM)
	Kernel: 5.4.0-155-generic aarch64
	Compiler: gcc 9.4

To view detailed results, visit:
https://lab.dpdk.org/results/dashboard/patchsets/30152/

UNH-IOL DPDK Community Lab

To manage your email subscriptions, visit: 
https://lab.dpdk.org/results/dashboard/preferences/subscriptions/