From mboxrd@z Thu Jan  1 00:00:00 1970
Return-Path: <test-report-bounces@dpdk.org>
Received: from mails.dpdk.org (mails.dpdk.org [217.70.189.124])
	by inbox.dpdk.org (Postfix) with ESMTP id 57A464416E
	for <public@inbox.dpdk.org>; Thu, 13 Jun 2024 01:07:56 +0200 (CEST)
Received: from mails.dpdk.org (localhost [127.0.0.1])
	by mails.dpdk.org (Postfix) with ESMTP id 5162540E44;
	Thu, 13 Jun 2024 01:07:56 +0200 (CEST)
Received: from mail-pj1-f97.google.com (mail-pj1-f97.google.com
 [209.85.216.97]) by mails.dpdk.org (Postfix) with ESMTP id B665B4026B
 for <test-report@dpdk.org>; Thu, 13 Jun 2024 01:07:47 +0200 (CEST)
Received: by mail-pj1-f97.google.com with SMTP id
 98e67ed59e1d1-2c2e72128b4so298848a91.0
 for <test-report@dpdk.org>; Wed, 12 Jun 2024 16:07:47 -0700 (PDT)
DKIM-Signature: v=1; a=rsa-sha256; c=relaxed/relaxed;
 d=iol.unh.edu; s=unh-iol; t=1718233667; x=1718838467; darn=dpdk.org;
 h=references:in-reply-to:cc:to:from:subject:message-id:date:from:to
 :cc:subject:date:message-id:reply-to;
 bh=g0v2Eq7wuMsCWXiT6jvnBFGCatAXV2I0WWN16KnXpdo=;
 b=XyCFQG+Q/e6DPUASpQB2Ko1BW8svAExYpQDjUS8zaigCgCQhEQA0qxmrwqJyR3OqYR
 BoSp/iDsPG4Ql6UKtDN9p+GUIfWWupAKZufiFQ3WxC99TaT3ipqsNOknrcW6BqxGp5km
 TB7bbq5JMQ5E8/JNz31RosEtWqWD2QmtnQ5+Y=
X-Google-DKIM-Signature: v=1; a=rsa-sha256; c=relaxed/relaxed;
 d=1e100.net; s=20230601; t=1718233667; x=1718838467;
 h=references:in-reply-to:cc:to:from:subject:message-id:date
 :x-gm-message-state:from:to:cc:subject:date:message-id:reply-to;
 bh=g0v2Eq7wuMsCWXiT6jvnBFGCatAXV2I0WWN16KnXpdo=;
 b=HO2fNGJSJyrpp2rkOSQA9K3on9ItRa46VnwVX5pdVOoWZdmemVQhrTo61KDKjbVlcN
 hU/MRsOaHqDAMLdZdJ8v7WYIr3APClm04NqBqiHh+VNsA/IaKe80GEjux5Lc5FlgBEUo
 6jqOSYma56AiYB3OCkIFMYrIArTY73N0w59ifeOGq1khE/4Sd4IlpzOL9QkoEsBNaEUn
 4zZF2tfH/pJQmQ4qV5/vYqBoRflA5bEoHFQE40kp7iO5WpoU0ARYZnILxyK1HJoc8U3n
 WcLkFa6yQSVBpDa3zAP9I7M1x8h80DqqF1hbIfUtSYpo5+OvIPDoJ9TsHfsdNqHz3UHa
 CbHA==
X-Gm-Message-State: AOJu0Ywe8wFCsUnHF0mvpKjUrGvOMnW6B2q68BIFADJlU0FKJrqQ7URK
 7PfFBd1KRjsO9br1IYmW6fkQltjKUpC1jMidCti7IYdR1RBqR3MmM9nIGbnCZR/nlaCNFINoAku
 xvUmPK896crXELCqds3+ue0vC9NPz4ISSc0QmxV2AS/NEi/mljeTRzwjb
X-Google-Smtp-Source: AGHT+IESXOOUG1k9vXXeCh0gWkbrN8oRQ11cImJC9m4O/2rs+/HzgS6KvSWhktanfa980nb14lVhL6/pw/PV
X-Received: by 2002:a17:90b:46ca:b0:2c2:db4e:11a2 with SMTP id
 98e67ed59e1d1-2c4bda1b286mr1469884a91.22.1718233666831; 
 Wed, 12 Jun 2024 16:07:46 -0700 (PDT)
Received: from postal.iol.unh.edu (postal.iol.unh.edu.
 [2606:4100:3880:1234::84]) by smtp-relay.gmail.com with ESMTPS id
 98e67ed59e1d1-2c4a76a5e93sm194818a91.12.2024.06.12.16.07.46
 (version=TLS1_2 cipher=ECDHE-ECDSA-AES128-GCM-SHA256 bits=128/128);
 Wed, 12 Jun 2024 16:07:46 -0700 (PDT)
X-Relaying-Domain: iol.unh.edu
Date: Wed, 12 Jun 2024 16:07:46 -0700 (PDT)
Message-ID: <666a2a42.170a0220.62fcf.de40SMTPIN_ADDED_MISSING@mx.google.com>
Received: from [172.17.0.2] (unknown [172.18.0.217])
 by postal.iol.unh.edu (Postfix) with ESMTP id 0BC7B605C373;
 Wed, 12 Jun 2024 19:07:46 -0400 (EDT)
Subject: |SUCCESS| pw140913 [PATCH] net/mana: fix uninitialized scalar variab
From: dpdklab@iol.unh.edu
To: Test Report <test-report@dpdk.org>
Cc: dpdk-test-reports@iol.unh.edu
In-Reply-To: <20240610214320.676239-1-mahmoudmatook.mm@gmail.com>
References: <20240610214320.676239-1-mahmoudmatook.mm@gmail.com>
Content-Type: text/plain
X-BeenThere: test-report@dpdk.org
X-Mailman-Version: 2.1.29
Precedence: list
List-Id: automatic DPDK test reports <test-report.dpdk.org>
List-Unsubscribe: <https://mails.dpdk.org/options/test-report>,
 <mailto:test-report-request@dpdk.org?subject=unsubscribe>
List-Archive: <http://mails.dpdk.org/archives/test-report/>
List-Post: <mailto:test-report@dpdk.org>
List-Help: <mailto:test-report-request@dpdk.org?subject=help>
List-Subscribe: <https://mails.dpdk.org/listinfo/test-report>,
 <mailto:test-report-request@dpdk.org?subject=subscribe>
Errors-To: test-report-bounces@dpdk.org

Test-Label: iol-unit-arm64-testing
Test-Status: SUCCESS
http://dpdk.org/patch/140913

_Testing PASS_

Submitter: Mahmoud Maatuq <mahmoudmatook.mm@gmail.com>
Date: Monday, June 10 2024 21:43:20 
DPDK git baseline: Repo:dpdk
  Branch: master
  CommitID:a6bbf008457a455fcf4cf7374c280bba697a353f

140913 --> testing pass

Test environment and result as below:

+-----------------------------+---------------------------+------------------------------+----------------+--------------+
|         Environment         | cryptodev_sw_zuc_autotest | cryptodev_sw_snow3g_autotest | dpdk_unit_test | lpm_autotest |
+=============================+===========================+==============================+================+==============+
| Debian 12 (arm)             | PASS                      | PASS                         | PASS           | SKIPPED      |
+-----------------------------+---------------------------+------------------------------+----------------+--------------+
| CentOS Stream 9 (ARM)       | SKIPPED                   | SKIPPED                      | PASS           | SKIPPED      |
+-----------------------------+---------------------------+------------------------------+----------------+--------------+
| Debian 11 (Buster) (ARM)    | SKIPPED                   | SKIPPED                      | PASS           | SKIPPED      |
+-----------------------------+---------------------------+------------------------------+----------------+--------------+
| Fedora 37 (ARM)             | SKIPPED                   | SKIPPED                      | PASS           | SKIPPED      |
+-----------------------------+---------------------------+------------------------------+----------------+--------------+
| Fedora 38 (ARM)             | SKIPPED                   | SKIPPED                      | PASS           | SKIPPED      |
+-----------------------------+---------------------------+------------------------------+----------------+--------------+
| 32-bit Ubuntu 20.04.4 (ARM) | SKIPPED                   | SKIPPED                      | PASS           | SKIPPED      |
+-----------------------------+---------------------------+------------------------------+----------------+--------------+
| Fedora 39 (ARM)             | SKIPPED                   | SKIPPED                      | PASS           | SKIPPED      |
+-----------------------------+---------------------------+------------------------------+----------------+--------------+
| Ubuntu 20.04 (ARM)          | SKIPPED                   | SKIPPED                      | PASS           | SKIPPED      |
+-----------------------------+---------------------------+------------------------------+----------------+--------------+
| Ubuntu 24.04 (ARM)          | SKIPPED                   | SKIPPED                      | PASS           | SKIPPED      |
+-----------------------------+---------------------------+------------------------------+----------------+--------------+
| Ubuntu 22.04 (ARM)          | SKIPPED                   | SKIPPED                      | PASS           | SKIPPED      |
+-----------------------------+---------------------------+------------------------------+----------------+--------------+
| Fedora 39 (ARM Clang)       | SKIPPED                   | SKIPPED                      | PASS           | SKIPPED      |
+-----------------------------+---------------------------+------------------------------+----------------+--------------+
| Fedora 38 (ARM Clang)       | SKIPPED                   | SKIPPED                      | PASS           | SKIPPED      |
+-----------------------------+---------------------------+------------------------------+----------------+--------------+
| Ubuntu 20.04 ARM SVE        | SKIPPED                   | SKIPPED                      | SKIPPED        | PASS         |
+-----------------------------+---------------------------+------------------------------+----------------+--------------+


Debian 12 (arm)
	Kernel: Container Host Kernel
	Compiler: gcc 12.2.0

CentOS Stream 9 (ARM)
	Kernel: Container Host Kernel
	Compiler: gcc 11.4.1

Debian 11 (Buster) (ARM)
	Kernel: Container Host Kernel
	Compiler: gcc 10.2.1

Fedora 37 (ARM)
	Kernel: Depends on container host
	Compiler: gcc 12.3.1

Fedora 38 (ARM)
	Kernel: Depends on container host
	Compiler: gcc 13.2.1

32-bit Ubuntu 20.04.4 (ARM)
	Kernel: 5.4.0-155-generic aarch64
	Compiler: gcc 9.4

Fedora 39 (ARM)
	Kernel: Depends on container host
	Compiler: gcc 13.2.1

Ubuntu 20.04 (ARM)
	Kernel: Container Host Kernel
	Compiler: gcc 9.4.0

Ubuntu 24.04 (ARM)
	Kernel: 5.4.0-167-generic
	Compiler: gcc 13.2.0

Ubuntu 22.04 (ARM)
	Kernel: Container Host Kernel
	Compiler: gcc 11.4.0

Fedora 39 (ARM Clang)
	Kernel: Depends on container host
	Compiler: clang 17.0.6

Fedora 38 (ARM Clang)
	Kernel: Depends on container host
	Compiler: clang 16.0.6

Ubuntu 20.04 ARM SVE
	Kernel: 5.4.0-167-generic
	Compiler: gcc (Ubuntu 10.5.0-1ubuntu1~20.04) 10.5.0

To view detailed results, visit:
https://lab.dpdk.org/results/dashboard/patchsets/30158/

UNH-IOL DPDK Community Lab

To manage your email subscriptions, visit: 
https://lab.dpdk.org/results/dashboard/preferences/subscriptions/