From mboxrd@z Thu Jan  1 00:00:00 1970
Return-Path: <test-report-bounces@dpdk.org>
Received: from mails.dpdk.org (mails.dpdk.org [217.70.189.124])
	by inbox.dpdk.org (Postfix) with ESMTP id 75A4E4416E
	for <public@inbox.dpdk.org>; Thu, 13 Jun 2024 01:14:38 +0200 (CEST)
Received: from mails.dpdk.org (localhost [127.0.0.1])
	by mails.dpdk.org (Postfix) with ESMTP id 700BB410D4;
	Thu, 13 Jun 2024 01:14:38 +0200 (CEST)
Received: from mail-pg1-f227.google.com (mail-pg1-f227.google.com
 [209.85.215.227])
 by mails.dpdk.org (Postfix) with ESMTP id C90364026B
 for <test-report@dpdk.org>; Thu, 13 Jun 2024 01:14:19 +0200 (CEST)
Received: by mail-pg1-f227.google.com with SMTP id
 41be03b00d2f7-6c4926bf9baso342631a12.2
 for <test-report@dpdk.org>; Wed, 12 Jun 2024 16:14:19 -0700 (PDT)
DKIM-Signature: v=1; a=rsa-sha256; c=relaxed/relaxed;
 d=iol.unh.edu; s=unh-iol; t=1718234059; x=1718838859; darn=dpdk.org;
 h=references:in-reply-to:cc:to:from:subject:message-id:date:from:to
 :cc:subject:date:message-id:reply-to;
 bh=eIxuD/EUiT2EncbpcDMEbWS2OgmMY0yBN2J4VnUKZQ8=;
 b=B3VFjm6ilBJ6RvAtFPrg+ukxeAWcHiu6VJHOuJuYzgGdACPvSFgQEKQ58rEw25smEE
 hDJj9W/LfFsOyI6ANOq9V0EP1oh2BrmnvXNp0RWaONsGEAOqhMK7p/Y9bzBqZYH8KDPw
 wFeIc7GGrdGkpfPUfRhMNMLfRBYkWowFAql6w=
X-Google-DKIM-Signature: v=1; a=rsa-sha256; c=relaxed/relaxed;
 d=1e100.net; s=20230601; t=1718234059; x=1718838859;
 h=references:in-reply-to:cc:to:from:subject:message-id:date
 :x-gm-message-state:from:to:cc:subject:date:message-id:reply-to;
 bh=eIxuD/EUiT2EncbpcDMEbWS2OgmMY0yBN2J4VnUKZQ8=;
 b=Q7vLJPIUamAW+PZLpqMpt7fyMITWOvntZ1OB1Iyo5pL4Sdx9C0vkvkoNaznqK+PmbH
 bCgQZHJwyE7VK+LPi+v6FpaHBqVOhwEnnZ6lgKaLhRkT2hFKYuujjFuZFS/i1jF7B+eb
 S1mniLURvP0dSSEcue/QWw3HCDra08mN8DlKa4eC3YhyOlCG7/WpZWRMuzZ7klZnUSnP
 tlSD7Flcs0bRf3lbYNFMzXk0SeNIA9Qx3DfiBuV2rXqd1OHe7JLb4NG+gE9YjvxjzKzA
 D4BMTKKRAICXH0Mq9D4C1OVFAJhZUWLiOx3rbHMBL9SKbfg2BKu/OV8SlFgHKAF2rMtx
 nBoQ==
X-Gm-Message-State: AOJu0YzVZI0hgp49wslhgL+YNZn8UXp+CKOWLGzj4OcbzIoUj1xoPgc8
 7GnO8uCmLRuBj/Z5BpNjUqhcWUnkhaVNAIXgDZ3L9bjaM/KIVlTC17IZ/AU1yKTjSj7pItytmnB
 eam1/cT8WplS5Mwb0ZFN3cqeiPB5GfLtlGoO6uCktbrKFquyKiSCa4ZzO
X-Google-Smtp-Source: AGHT+IHuhiSL+YybWdVC+bic0wHKJQ/yRSSAZvuTXgIl9l/jt4XdIN3VRa68d1z6/6n8rj0XCCzGMpTYJE91
X-Received: by 2002:a05:6a21:3286:b0:1b5:6b5e:c104 with SMTP id
 adf61e73a8af0-1b8a9c878f9mr3807220637.51.1718234059023; 
 Wed, 12 Jun 2024 16:14:19 -0700 (PDT)
Received: from postal.iol.unh.edu (postal.iol.unh.edu.
 [2606:4100:3880:1234::84]) by smtp-relay.gmail.com with ESMTPS id
 d2e1a72fcca58-705ccb54262sm9584b3a.18.2024.06.12.16.14.18
 (version=TLS1_2 cipher=ECDHE-ECDSA-AES128-GCM-SHA256 bits=128/128);
 Wed, 12 Jun 2024 16:14:19 -0700 (PDT)
X-Relaying-Domain: iol.unh.edu
Date: Wed, 12 Jun 2024 16:14:19 -0700 (PDT)
Message-ID: <666a2bcb.050a0220.b413b.0a9fSMTPIN_ADDED_MISSING@mx.google.com>
Received: from [172.21.0.6] (unknown [172.18.0.240])
 by postal.iol.unh.edu (Postfix) with ESMTP id 22FA0605C373;
 Wed, 12 Jun 2024 19:14:18 -0400 (EDT)
Subject: |SUCCESS| pw140911 [PATCH] [v1] dts: Testbed And Node Configuration 
From: dpdklab@iol.unh.edu
To: Test Report <test-report@dpdk.org>
Cc: dpdk-test-reports@iol.unh.edu
In-Reply-To: <20240610193410.17968-2-npratte@iol.unh.edu>
References: <20240610193410.17968-2-npratte@iol.unh.edu>
Content-Type: text/plain
X-BeenThere: test-report@dpdk.org
X-Mailman-Version: 2.1.29
Precedence: list
List-Id: automatic DPDK test reports <test-report.dpdk.org>
List-Unsubscribe: <https://mails.dpdk.org/options/test-report>,
 <mailto:test-report-request@dpdk.org?subject=unsubscribe>
List-Archive: <http://mails.dpdk.org/archives/test-report/>
List-Post: <mailto:test-report@dpdk.org>
List-Help: <mailto:test-report-request@dpdk.org?subject=help>
List-Subscribe: <https://mails.dpdk.org/listinfo/test-report>,
 <mailto:test-report-request@dpdk.org?subject=subscribe>
Errors-To: test-report-bounces@dpdk.org

Test-Label: iol-compile-arm64-testing
Test-Status: SUCCESS
http://dpdk.org/patch/140911

_Testing PASS_

Submitter: Nicholas Pratte <npratte@iol.unh.edu>
Date: Monday, June 10 2024 19:34:11 
DPDK git baseline: Repo:dpdk
  Branch: master
  CommitID:76cef1af8bdaeaf67a5c4ca5df3f221df994dc46

140911 --> testing pass

Test environment and result as below:

+----------------------------------------+--------------------+
|              Environment               | dpdk_meson_compile |
+========================================+====================+
| Ubuntu 20.04 ARM SVE                   | PASS               |
+----------------------------------------+--------------------+
| Debian 12 with MUSDK                   | PASS               |
+----------------------------------------+--------------------+
| Fedora 38 (ARM)                        | PASS               |
+----------------------------------------+--------------------+
| Fedora 37 (ARM)                        | PASS               |
+----------------------------------------+--------------------+
| Fedora 39 (ARM)                        | PASS               |
+----------------------------------------+--------------------+
| Ubuntu 20.04 (ARM)                     | PASS               |
+----------------------------------------+--------------------+
| Debian 11 (Buster) (ARM)               | PASS               |
+----------------------------------------+--------------------+
| Debian 12 (arm)                        | PASS               |
+----------------------------------------+--------------------+
| Ubuntu 22.04 (ARM)                     | PASS               |
+----------------------------------------+--------------------+
| Ubuntu 24.04 (ARM)                     | PASS               |
+----------------------------------------+--------------------+
| CentOS Stream 9 (ARM)                  | PASS               |
+----------------------------------------+--------------------+
| Ubuntu 20.04 aarch32 GCC Cross Compile | PASS               |
+----------------------------------------+--------------------+
| Ubuntu 20.04 ARM Clang Cross Compile   | PASS               |
+----------------------------------------+--------------------+
| Ubuntu 20.04 ARM GCC Cross Compile     | PASS               |
+----------------------------------------+--------------------+
| Fedora 38 (ARM Clang)                  | PASS               |
+----------------------------------------+--------------------+
| Fedora 39 (ARM Clang)                  | PASS               |
+----------------------------------------+--------------------+


Ubuntu 20.04 ARM SVE
	Kernel: 5.4.0-167-generic
	Compiler: gcc (Ubuntu 10.5.0-1ubuntu1~20.04) 10.5.0

Debian 12 with MUSDK
	Kernel: Container Host Kernel
	Compiler: gcc 12.2.0

Fedora 38 (ARM)
	Kernel: Depends on container host
	Compiler: gcc 13.2.1

Fedora 37 (ARM)
	Kernel: Depends on container host
	Compiler: gcc 12.3.1

Fedora 39 (ARM)
	Kernel: Depends on container host
	Compiler: gcc 13.2.1

Ubuntu 20.04 (ARM)
	Kernel: Container Host Kernel
	Compiler: gcc 9.4.0

Debian 11 (Buster) (ARM)
	Kernel: Container Host Kernel
	Compiler: gcc 10.2.1

Debian 12 (arm)
	Kernel: Container Host Kernel
	Compiler: gcc 12.2.0

Ubuntu 22.04 (ARM)
	Kernel: Container Host Kernel
	Compiler: gcc 11.4.0

Ubuntu 24.04 (ARM)
	Kernel: 5.4.0-167-generic
	Compiler: gcc 13.2.0

CentOS Stream 9 (ARM)
	Kernel: Container Host Kernel
	Compiler: gcc 11.4.1

Ubuntu 20.04 aarch32 GCC Cross Compile
	Kernel: 5.4.0-167-generic
	Compiler: gcc 9.4.0

Ubuntu 20.04 ARM Clang Cross Compile
	Kernel: 5.4.0-72-generic
	Compiler: clang 10.0.0-4ubuntu1

Ubuntu 20.04 ARM GCC Cross Compile
	Kernel: 5.4.0-167-generic
	Compiler: aarch64-linux-gnu-gcc (Ubuntu 9.4.0-1ubuntu1~20.04.2) 9.4.0

Fedora 38 (ARM Clang)
	Kernel: Depends on container host
	Compiler: clang 16.0.6

Fedora 39 (ARM Clang)
	Kernel: Depends on container host
	Compiler: clang 17.0.6

To view detailed results, visit:
https://lab.dpdk.org/results/dashboard/patchsets/30156/

UNH-IOL DPDK Community Lab

To manage your email subscriptions, visit: 
https://lab.dpdk.org/results/dashboard/preferences/subscriptions/