From mboxrd@z Thu Jan  1 00:00:00 1970
Return-Path: <test-report-bounces@dpdk.org>
Received: from mails.dpdk.org (mails.dpdk.org [217.70.189.124])
	by inbox.dpdk.org (Postfix) with ESMTP id 0BE564416E
	for <public@inbox.dpdk.org>; Thu, 13 Jun 2024 01:18:22 +0200 (CEST)
Received: from mails.dpdk.org (localhost [127.0.0.1])
	by mails.dpdk.org (Postfix) with ESMTP id F29D7402AD;
	Thu, 13 Jun 2024 01:18:21 +0200 (CEST)
Received: from mail-ot1-f97.google.com (mail-ot1-f97.google.com
 [209.85.210.97]) by mails.dpdk.org (Postfix) with ESMTP id 345664026B
 for <test-report@dpdk.org>; Thu, 13 Jun 2024 01:18:20 +0200 (CEST)
Received: by mail-ot1-f97.google.com with SMTP id
 46e09a7af769-6f99555c922so211196a34.3
 for <test-report@dpdk.org>; Wed, 12 Jun 2024 16:18:20 -0700 (PDT)
DKIM-Signature: v=1; a=rsa-sha256; c=relaxed/relaxed;
 d=iol.unh.edu; s=unh-iol; t=1718234299; x=1718839099; darn=dpdk.org;
 h=references:in-reply-to:cc:to:from:subject:message-id:date:from:to
 :cc:subject:date:message-id:reply-to;
 bh=qEsMCA5T+flRurZ5XUelW0oOT8zrwMx0/ul/Mw14hk8=;
 b=dfrshXCoSm3EGfofzT9vsWfZ6OXxa8wzRt2F9KuKnk8jCXo1BS8I5B1zKg2cK44PRw
 wsRmluWeM2o6hIR2Y2juYr9Tx5sEawZFJ2SYkr86Linz5eGMCSm9Qaey1q88aTU10O8R
 EYdUqL9ldHG2T3coQ7KkTjiKtLOyB2mXKFugc=
X-Google-DKIM-Signature: v=1; a=rsa-sha256; c=relaxed/relaxed;
 d=1e100.net; s=20230601; t=1718234299; x=1718839099;
 h=references:in-reply-to:cc:to:from:subject:message-id:date
 :x-gm-message-state:from:to:cc:subject:date:message-id:reply-to;
 bh=qEsMCA5T+flRurZ5XUelW0oOT8zrwMx0/ul/Mw14hk8=;
 b=FTDIfibWjWWwU6BIH/m5qp+32wC/MiwClsAC8zMc4ypizgcq5zLExk8lQS2HVXcg8p
 KI4nNCZAu/IVcDm6hlIolFRCNZ0rcZUUeKBwrWjEcpvfmJBUCpGoa/f9RLhOkqnICctD
 TdNIE10DbVNnh4CQO9BVf5Sr9otPuCKk2C3MP4Y1SsclnGK2ZgWp1syLPuq0jMZDryya
 hTosWYSS0usECOXrPxAkDKza1WrKHPuYLCt/1wvaw49LHWJTPAkfTqaeb3mBFTzodDBs
 rV1MixQUSx7jw3inUm7VeydXp0qepvTOuCAWiRT5xj+sQnZ0LOjGriqyfhMgC84KfJuO
 D8YQ==
X-Gm-Message-State: AOJu0YzxKJQ0gHxvNqr84bhcO2pHsca8HvaHk4B2xPIda5ZCQqVcSupB
 0hfEazT5NwOGMuDfR+EjLAS59UOvgK+jhiV0J9saEgIN23BaRvDyyrFNjfvmoAPNk8YG+r/bXGZ
 p3ekUqVaC8nLrHm5lZ6nvpTriob2VkH8amM/4PFew
X-Google-Smtp-Source: AGHT+IFYU69t2DYO4Pdi3lHrEBQqNyUysvXS2Ex0xM0xcqCj7CBbgMteJ7ryAjHCH9MTGdAHM086o2LzvyxX
X-Received: by 2002:a05:6870:b522:b0:254:8bb9:d0bf with SMTP id
 586e51a60fabf-25514ce57b1mr3688277fac.32.1718234299326; 
 Wed, 12 Jun 2024 16:18:19 -0700 (PDT)
Received: from postal.iol.unh.edu (postal.iol.unh.edu. [132.177.123.84])
 by smtp-relay.gmail.com with ESMTPS id
 586e51a60fabf-256992e5d9asm9829fac.46.2024.06.12.16.18.19
 (version=TLS1_2 cipher=ECDHE-ECDSA-AES128-GCM-SHA256 bits=128/128);
 Wed, 12 Jun 2024 16:18:19 -0700 (PDT)
X-Relaying-Domain: iol.unh.edu
Date: Wed, 12 Jun 2024 16:18:19 -0700 (PDT)
Message-ID: <666a2cbb.050a0220.33b45.0a9eSMTPIN_ADDED_MISSING@mx.google.com>
Received: from [172.21.0.6] (unknown [172.18.0.240])
 by postal.iol.unh.edu (Postfix) with ESMTP id E4FA4605C373;
 Wed, 12 Jun 2024 19:18:18 -0400 (EDT)
Subject: |SUCCESS| pw140913 [PATCH] net/mana: fix uninitialized scalar variab
From: dpdklab@iol.unh.edu
To: Test Report <test-report@dpdk.org>
Cc: dpdk-test-reports@iol.unh.edu
In-Reply-To: <20240610214320.676239-1-mahmoudmatook.mm@gmail.com>
References: <20240610214320.676239-1-mahmoudmatook.mm@gmail.com>
Content-Type: text/plain
X-BeenThere: test-report@dpdk.org
X-Mailman-Version: 2.1.29
Precedence: list
List-Id: automatic DPDK test reports <test-report.dpdk.org>
List-Unsubscribe: <https://mails.dpdk.org/options/test-report>,
 <mailto:test-report-request@dpdk.org?subject=unsubscribe>
List-Archive: <http://mails.dpdk.org/archives/test-report/>
List-Post: <mailto:test-report@dpdk.org>
List-Help: <mailto:test-report-request@dpdk.org?subject=help>
List-Subscribe: <https://mails.dpdk.org/listinfo/test-report>,
 <mailto:test-report-request@dpdk.org?subject=subscribe>
Errors-To: test-report-bounces@dpdk.org

Test-Label: iol-unit-amd64-testing
Test-Status: SUCCESS
http://dpdk.org/patch/140913

_Testing PASS_

Submitter: Mahmoud Maatuq <mahmoudmatook.mm@gmail.com>
Date: Monday, June 10 2024 21:43:20 
DPDK git baseline: Repo:dpdk
  Branch: master
  CommitID:a6bbf008457a455fcf4cf7374c280bba697a353f

140913 --> testing pass

Test environment and result as below:

+---------------------+----------------+
|     Environment     | dpdk_unit_test |
+=====================+================+
| Windows Server 2019 | PASS           |
+---------------------+----------------+
| CentOS Stream 9     | PASS           |
+---------------------+----------------+
| CentOS Stream 8     | PASS           |
+---------------------+----------------+
| Debian Bullseye     | PASS           |
+---------------------+----------------+
| Fedora 38           | PASS           |
+---------------------+----------------+
| Fedora 37           | PASS           |
+---------------------+----------------+
| Debian 12           | PASS           |
+---------------------+----------------+
| openSUSE Leap 15    | PASS           |
+---------------------+----------------+
| Fedora 39           | PASS           |
+---------------------+----------------+
| Ubuntu 20.04        | PASS           |
+---------------------+----------------+
| RHEL8               | PASS           |
+---------------------+----------------+
| Ubuntu 22.04        | PASS           |
+---------------------+----------------+
| Ubuntu 24.04        | PASS           |
+---------------------+----------------+
| Windows Server 2022 | PASS           |
+---------------------+----------------+


Windows Server 2019
	Kernel: 10.0.17763
	Compiler: clang 14.0 and gcc 8.1.0 (MinGW)

CentOS Stream 9
	Kernel: 5.4.0-167-generic
	Compiler: gcc 11.4.1 20230605

CentOS Stream 8
	Kernel: 5.4.0-167-generic
	Compiler: gcc 8.5.0 20210514

Debian Bullseye
	Kernel: 5.4.0-167-generic
	Compiler: gcc 10.2.1-6

Fedora 38
	Kernel: Depends on container host
	Compiler: gcc 13.2.1

Fedora 37
	Kernel: Depends on container host system
	Compiler: gcc 12.3.1

Debian 12
	Kernel: Container Host Kernel
	Compiler: gcc 12.2.0

openSUSE Leap 15
	Kernel: 5.4.0-167-generic
	Compiler: gcc 7.5.0

Fedora 39
	Kernel: Depends on container host
	Compiler: gcc 13.2.1

Ubuntu 20.04
	Kernel: 5.4.0-167-generic
	Compiler: gcc 9.4.0-1ubuntu1~20.04.1

RHEL8
	Kernel: 5.4.0-167-generic
	Compiler: gcc 8.5.0 20210514 (Red Hat 8.5.0-20)

Ubuntu 22.04
	Kernel: 5.4.0-167-generic
	Compiler: gcc 11.4.0

Ubuntu 24.04
	Kernel: 5.4.0-167-generic
	Compiler: gcc 13.2.0

Windows Server 2022
	Kernel: 10.0.20348.2031
	Compiler: clang 15.0.7, gcc 8.1.0 (MinGW), and MSVC VS 17.9

To view detailed results, visit:
https://lab.dpdk.org/results/dashboard/patchsets/30158/

UNH-IOL DPDK Community Lab

To manage your email subscriptions, visit: 
https://lab.dpdk.org/results/dashboard/preferences/subscriptions/