From mboxrd@z Thu Jan  1 00:00:00 1970
Return-Path: <test-report-bounces@dpdk.org>
Received: from mails.dpdk.org (mails.dpdk.org [217.70.189.124])
	by inbox.dpdk.org (Postfix) with ESMTP id 4368A4416E
	for <public@inbox.dpdk.org>; Thu, 13 Jun 2024 01:31:42 +0200 (CEST)
Received: from mails.dpdk.org (localhost [127.0.0.1])
	by mails.dpdk.org (Postfix) with ESMTP id 3E36F402AD;
	Thu, 13 Jun 2024 01:31:42 +0200 (CEST)
Received: from mail-yw1-f227.google.com (mail-yw1-f227.google.com
 [209.85.128.227])
 by mails.dpdk.org (Postfix) with ESMTP id 2AEB34026B
 for <test-report@dpdk.org>; Thu, 13 Jun 2024 01:31:41 +0200 (CEST)
Received: by mail-yw1-f227.google.com with SMTP id
 00721157ae682-62f3ccc877eso11065487b3.1
 for <test-report@dpdk.org>; Wed, 12 Jun 2024 16:31:41 -0700 (PDT)
DKIM-Signature: v=1; a=rsa-sha256; c=relaxed/relaxed;
 d=iol.unh.edu; s=unh-iol; t=1718235100; x=1718839900; darn=dpdk.org;
 h=references:in-reply-to:cc:to:from:subject:message-id:date:from:to
 :cc:subject:date:message-id:reply-to;
 bh=C2pzcRxPTpsUnCsTYoia642GRuZG6qKV1rc2V2XnWfo=;
 b=RE4uqBJjoPtrT1zNoZBgrKWx4ta4TpgWLh/ExNDURV869UvptZL33YPY1G03e24Cs5
 AIjCF7+dxbf5GwiC9gsWGzur9SH8Hw5aedCuMAeX0VXD0B/hYqrj1SSavjsDbcM7e9Mx
 /Z75rNS2nlC3qvizGXZBHomJjuvwSiPOnFxu8=
X-Google-DKIM-Signature: v=1; a=rsa-sha256; c=relaxed/relaxed;
 d=1e100.net; s=20230601; t=1718235100; x=1718839900;
 h=references:in-reply-to:cc:to:from:subject:message-id:date
 :x-gm-message-state:from:to:cc:subject:date:message-id:reply-to;
 bh=C2pzcRxPTpsUnCsTYoia642GRuZG6qKV1rc2V2XnWfo=;
 b=FeTm0LTHo7UEAAjz1sxk2CCfjfnGMo0WPuJS4tucUL6l0xtoBb+UzLUrk802IKwZ6R
 +Md3rOqGYkRiSPafDUQGinjipKT782xDEER45bvyiO66XNrRDlCDWoRsY23m+khl7hM5
 aMoxHHO09CUe3A8DVg/nx122wGI/4lHJJSrcgN360oY+u3uRnxV7sd0VyjLePWB7h7PY
 hDEuLkh4s1ohExyLn/f+m4AN9PVw2SLtiEZd8RZg574n/gmraQmi4jjnr2f+k2h/XA6I
 bRSK/zBkI8jTk7875N5kVY0/i5/i+qn8tz0eNkpONdffWJRvC0Y6Ul3fDIvUeol2q6Q8
 Oo7g==
X-Gm-Message-State: AOJu0Ywu86hDJCjZhE5gO7N0Pgh50kz94apscOZ1ua7k3KA5Duci5cUW
 mNsLp/DggtfTaq6tTmTHqp7suJT/suWjRbkKhP4LTfv086+WmawR4qfLriqIBfzfK1TvLLl02Ua
 r7sAJW6b8jxEU3I7Dw75sVO9xCOObl9L2w1BFWAgs
X-Google-Smtp-Source: AGHT+IE2bgRB9acZr4HWMNR4MI69m3/9X2biILugVyOq5OcGCEHtwvbUNYbQozo0gaEJb+1ahwCt+77ivm12
X-Received: by 2002:a81:de0a:0:b0:62f:2198:3030 with SMTP id
 00721157ae682-630bc5fe385mr6362767b3.9.1718235099580; 
 Wed, 12 Jun 2024 16:31:39 -0700 (PDT)
Received: from postal.iol.unh.edu (postal.iol.unh.edu. [132.177.123.84])
 by smtp-relay.gmail.com with ESMTPS id
 00721157ae682-631183d7ee1sm20867b3.6.2024.06.12.16.31.39
 (version=TLS1_2 cipher=ECDHE-ECDSA-AES128-GCM-SHA256 bits=128/128);
 Wed, 12 Jun 2024 16:31:39 -0700 (PDT)
X-Relaying-Domain: iol.unh.edu
Date: Wed, 12 Jun 2024 16:31:39 -0700 (PDT)
Message-ID: <666a2fdb.050a0220.3930f.022eSMTPIN_ADDED_MISSING@mx.google.com>
Received: from [172.21.0.6] (unknown [172.18.0.240])
 by postal.iol.unh.edu (Postfix) with ESMTP id 405E0605C373;
 Wed, 12 Jun 2024 19:31:39 -0400 (EDT)
Subject: |SUCCESS| pw140911 [PATCH] [v1] dts: Testbed And Node Configuration 
From: dpdklab@iol.unh.edu
To: Test Report <test-report@dpdk.org>
Cc: dpdk-test-reports@iol.unh.edu
In-Reply-To: <20240610193410.17968-2-npratte@iol.unh.edu>
References: <20240610193410.17968-2-npratte@iol.unh.edu>
Content-Type: text/plain
X-BeenThere: test-report@dpdk.org
X-Mailman-Version: 2.1.29
Precedence: list
List-Id: automatic DPDK test reports <test-report.dpdk.org>
List-Unsubscribe: <https://mails.dpdk.org/options/test-report>,
 <mailto:test-report-request@dpdk.org?subject=unsubscribe>
List-Archive: <http://mails.dpdk.org/archives/test-report/>
List-Post: <mailto:test-report@dpdk.org>
List-Help: <mailto:test-report-request@dpdk.org?subject=help>
List-Subscribe: <https://mails.dpdk.org/listinfo/test-report>,
 <mailto:test-report-request@dpdk.org?subject=subscribe>
Errors-To: test-report-bounces@dpdk.org

Test-Label: iol-unit-amd64-testing
Test-Status: SUCCESS
http://dpdk.org/patch/140911

_Testing PASS_

Submitter: Nicholas Pratte <npratte@iol.unh.edu>
Date: Monday, June 10 2024 19:34:11 
DPDK git baseline: Repo:dpdk
  Branch: master
  CommitID:76cef1af8bdaeaf67a5c4ca5df3f221df994dc46

140911 --> testing pass

Test environment and result as below:

+---------------------+----------------+
|     Environment     | dpdk_unit_test |
+=====================+================+
| CentOS Stream 8     | PASS           |
+---------------------+----------------+
| CentOS Stream 9     | PASS           |
+---------------------+----------------+
| Debian 12           | PASS           |
+---------------------+----------------+
| Fedora 37           | PASS           |
+---------------------+----------------+
| Fedora 38           | PASS           |
+---------------------+----------------+
| Debian Bullseye     | PASS           |
+---------------------+----------------+
| Ubuntu 22.04        | PASS           |
+---------------------+----------------+
| openSUSE Leap 15    | PASS           |
+---------------------+----------------+
| Fedora 39           | PASS           |
+---------------------+----------------+
| Ubuntu 20.04        | PASS           |
+---------------------+----------------+
| Windows Server 2019 | PASS           |
+---------------------+----------------+
| RHEL8               | PASS           |
+---------------------+----------------+
| Ubuntu 24.04        | PASS           |
+---------------------+----------------+
| Windows Server 2022 | PASS           |
+---------------------+----------------+


CentOS Stream 8
	Kernel: 5.4.0-167-generic
	Compiler: gcc 8.5.0 20210514

CentOS Stream 9
	Kernel: 5.4.0-167-generic
	Compiler: gcc 11.4.1 20230605

Debian 12
	Kernel: Container Host Kernel
	Compiler: gcc 12.2.0

Fedora 37
	Kernel: Depends on container host system
	Compiler: gcc 12.3.1

Fedora 38
	Kernel: Depends on container host
	Compiler: gcc 13.2.1

Debian Bullseye
	Kernel: 5.4.0-167-generic
	Compiler: gcc 10.2.1-6

Ubuntu 22.04
	Kernel: 5.4.0-167-generic
	Compiler: gcc 11.4.0

openSUSE Leap 15
	Kernel: 5.4.0-167-generic
	Compiler: gcc 7.5.0

Fedora 39
	Kernel: Depends on container host
	Compiler: gcc 13.2.1

Ubuntu 20.04
	Kernel: 5.4.0-167-generic
	Compiler: gcc 9.4.0-1ubuntu1~20.04.1

Windows Server 2019
	Kernel: 10.0.17763
	Compiler: clang 14.0 and gcc 8.1.0 (MinGW)

RHEL8
	Kernel: 5.4.0-167-generic
	Compiler: gcc 8.5.0 20210514 (Red Hat 8.5.0-20)

Ubuntu 24.04
	Kernel: 5.4.0-167-generic
	Compiler: gcc 13.2.0

Windows Server 2022
	Kernel: 10.0.20348.2031
	Compiler: clang 15.0.7, gcc 8.1.0 (MinGW), and MSVC VS 17.9

To view detailed results, visit:
https://lab.dpdk.org/results/dashboard/patchsets/30156/

UNH-IOL DPDK Community Lab

To manage your email subscriptions, visit: 
https://lab.dpdk.org/results/dashboard/preferences/subscriptions/