From mboxrd@z Thu Jan  1 00:00:00 1970
Return-Path: <test-report-bounces@dpdk.org>
Received: from mails.dpdk.org (mails.dpdk.org [217.70.189.124])
	by inbox.dpdk.org (Postfix) with ESMTP id F20D74417A
	for <public@inbox.dpdk.org>; Thu, 13 Jun 2024 02:31:06 +0200 (CEST)
Received: from mails.dpdk.org (localhost [127.0.0.1])
	by mails.dpdk.org (Postfix) with ESMTP id 199E242EAC;
	Thu, 13 Jun 2024 02:31:01 +0200 (CEST)
Received: from mail-yw1-f228.google.com (mail-yw1-f228.google.com
 [209.85.128.228])
 by mails.dpdk.org (Postfix) with ESMTP id 54E22402B4
 for <test-report@dpdk.org>; Thu, 13 Jun 2024 02:22:39 +0200 (CEST)
Received: by mail-yw1-f228.google.com with SMTP id
 00721157ae682-62fa71027b1so5214227b3.3
 for <test-report@dpdk.org>; Wed, 12 Jun 2024 17:22:39 -0700 (PDT)
DKIM-Signature: v=1; a=rsa-sha256; c=relaxed/relaxed;
 d=iol.unh.edu; s=unh-iol; t=1718238158; x=1718842958; darn=dpdk.org;
 h=references:in-reply-to:cc:to:from:subject:message-id:date:from:to
 :cc:subject:date:message-id:reply-to;
 bh=EOfNwqATJJHLT1QSVvtFaTIA3dCUZ7zgagbQxTHYIEc=;
 b=buhQFtHZ0EDkZ2hyt+rRDSB7wtZtlUukg+w+Hm8x5T78pkbTRDrhOwwzTWfjEgdAnt
 h8Gjly+BSUPL7KiRrAZzeLROx5m8hmDOM/AwBjVS83J3t54gcobOnBgCsznfS9Yz0lg9
 lS8ucxNsGAKa5bGYB/ED30sNZsXy5rz+7OQrM=
X-Google-DKIM-Signature: v=1; a=rsa-sha256; c=relaxed/relaxed;
 d=1e100.net; s=20230601; t=1718238158; x=1718842958;
 h=references:in-reply-to:cc:to:from:subject:message-id:date
 :x-gm-message-state:from:to:cc:subject:date:message-id:reply-to;
 bh=EOfNwqATJJHLT1QSVvtFaTIA3dCUZ7zgagbQxTHYIEc=;
 b=Ie6ZnGhjc8/OPTgLQ7oPCp1lhzwq8WliUTS2yM+25kTtO65hP32a4/94rodoWVyQ7M
 PqdmLs1OYwcRTbOBuGH9fy5++QYQYnQZe/s+c2V2YLPI2o+XBSLLg0bhoQDzEiNn185a
 IlcfxZnzxOxkWaHGMg4y/xDhj4+nWylE8+trCWt6eaQjqPvcgos3laUTjdawviNuwRNs
 DJO8HybScs9RfG5exizHgdelo6T23JdKJFOwH+CxGaBg5i8n8n4O1K+MjwzSoUc+8EtV
 dk78wsWTBbRjh4cLqzdwvXuJh+XPSiVDMA4kDaYFBkrHxkJ/+4Jcv6XmRka0Ot8yKsdp
 aU2w==
X-Gm-Message-State: AOJu0YziRwxSoRk3cfDShMwQFVIKBQqygh71y356Za6oxenNheDMy0qs
 d3saMP306PJC1opKW1Hx3s4xdAfIKROTXYO//Fe6dzKjKPPxqodJ+iwk3cTF6+xqHpblX5R9qS+
 0VahqmPAymo8jCFE9d/u8VTv8zhyNsZpkoUindHo/
X-Google-Smtp-Source: AGHT+IHxc4QBXZbeKooZFwQBIEdE1ckggXOcZ98LNYb6LKFG0OhugYbT+twP6vEb1u2p2m+IZ0jUF53jwxpB
X-Received: by 2002:a05:6902:52b:b0:dfb:300:9752 with SMTP id
 3f1490d57ef6-dfe66b63361mr3747253276.23.1718238158563; 
 Wed, 12 Jun 2024 17:22:38 -0700 (PDT)
Received: from postal.iol.unh.edu (postal.iol.unh.edu. [132.177.123.84])
 by smtp-relay.gmail.com with ESMTPS id
 6a1803df08f44-6b2a5b28cd3sm135716d6.59.2024.06.12.17.22.38
 (version=TLS1_2 cipher=ECDHE-ECDSA-AES128-GCM-SHA256 bits=128/128);
 Wed, 12 Jun 2024 17:22:38 -0700 (PDT)
X-Relaying-Domain: iol.unh.edu
Date: Wed, 12 Jun 2024 17:22:38 -0700 (PDT)
Message-ID: <666a3bce.050a0220.fce0b.1003SMTPIN_ADDED_MISSING@mx.google.com>
Received: from [172.17.0.2] (unknown [172.18.0.217])
 by postal.iol.unh.edu (Postfix) with ESMTP id 42EE9605C373;
 Wed, 12 Jun 2024 20:22:38 -0400 (EDT)
Subject: |SUCCESS| pw140915 [PATCH] [v2] mempool: dump includes list of memor
From: dpdklab@iol.unh.edu
To: Test Report <test-report@dpdk.org>
Cc: dpdk-test-reports@iol.unh.edu
In-Reply-To: <20240611063822.13046-1-mb@smartsharesystems.com>
References: <20240611063822.13046-1-mb@smartsharesystems.com>
Content-Type: text/plain
X-BeenThere: test-report@dpdk.org
X-Mailman-Version: 2.1.29
Precedence: list
List-Id: automatic DPDK test reports <test-report.dpdk.org>
List-Unsubscribe: <https://mails.dpdk.org/options/test-report>,
 <mailto:test-report-request@dpdk.org?subject=unsubscribe>
List-Archive: <http://mails.dpdk.org/archives/test-report/>
List-Post: <mailto:test-report@dpdk.org>
List-Help: <mailto:test-report-request@dpdk.org?subject=help>
List-Subscribe: <https://mails.dpdk.org/listinfo/test-report>,
 <mailto:test-report-request@dpdk.org?subject=subscribe>
Errors-To: test-report-bounces@dpdk.org

Test-Label: iol-unit-amd64-testing
Test-Status: SUCCESS
http://dpdk.org/patch/140915

_Testing PASS_

Submitter: Morten Brorup <mb@smartsharesystems.com>
Date: Tuesday, June 11 2024 06:38:22 
DPDK git baseline: Repo:dpdk
  Branch: master
  CommitID:76cef1af8bdaeaf67a5c4ca5df3f221df994dc46

140915 --> testing pass

Test environment and result as below:

+---------------------+----------------+
|     Environment     | dpdk_unit_test |
+=====================+================+
| Windows Server 2019 | PASS           |
+---------------------+----------------+
| CentOS Stream 9     | PASS           |
+---------------------+----------------+
| CentOS Stream 8     | PASS           |
+---------------------+----------------+
| Debian 12           | PASS           |
+---------------------+----------------+
| Fedora 37           | PASS           |
+---------------------+----------------+
| Debian Bullseye     | PASS           |
+---------------------+----------------+
| Fedora 39           | PASS           |
+---------------------+----------------+
| Fedora 38           | PASS           |
+---------------------+----------------+
| openSUSE Leap 15    | PASS           |
+---------------------+----------------+
| Ubuntu 20.04        | PASS           |
+---------------------+----------------+
| RHEL8               | PASS           |
+---------------------+----------------+
| Ubuntu 22.04        | PASS           |
+---------------------+----------------+
| Windows Server 2022 | PASS           |
+---------------------+----------------+
| Ubuntu 24.04        | PASS           |
+---------------------+----------------+


Windows Server 2019
	Kernel: 10.0.17763
	Compiler: clang 14.0 and gcc 8.1.0 (MinGW)

CentOS Stream 9
	Kernel: 5.4.0-167-generic
	Compiler: gcc 11.4.1 20230605

CentOS Stream 8
	Kernel: 5.4.0-167-generic
	Compiler: gcc 8.5.0 20210514

Debian 12
	Kernel: Container Host Kernel
	Compiler: gcc 12.2.0

Fedora 37
	Kernel: Depends on container host system
	Compiler: gcc 12.3.1

Debian Bullseye
	Kernel: 5.4.0-167-generic
	Compiler: gcc 10.2.1-6

Fedora 39
	Kernel: Depends on container host
	Compiler: gcc 13.2.1

Fedora 38
	Kernel: Depends on container host
	Compiler: gcc 13.2.1

openSUSE Leap 15
	Kernel: 5.4.0-167-generic
	Compiler: gcc 7.5.0

Ubuntu 20.04
	Kernel: 5.4.0-167-generic
	Compiler: gcc 9.4.0-1ubuntu1~20.04.1

RHEL8
	Kernel: 5.4.0-167-generic
	Compiler: gcc 8.5.0 20210514 (Red Hat 8.5.0-20)

Ubuntu 22.04
	Kernel: 5.4.0-167-generic
	Compiler: gcc 11.4.0

Windows Server 2022
	Kernel: 10.0.20348.2031
	Compiler: clang 15.0.7, gcc 8.1.0 (MinGW), and MSVC VS 17.9

Ubuntu 24.04
	Kernel: 5.4.0-167-generic
	Compiler: gcc 13.2.0

To view detailed results, visit:
https://lab.dpdk.org/results/dashboard/patchsets/30160/

UNH-IOL DPDK Community Lab

To manage your email subscriptions, visit: 
https://lab.dpdk.org/results/dashboard/preferences/subscriptions/