From mboxrd@z Thu Jan  1 00:00:00 1970
Return-Path: <test-report-bounces@dpdk.org>
Received: from mails.dpdk.org (mails.dpdk.org [217.70.189.124])
	by inbox.dpdk.org (Postfix) with ESMTP id 98EAF4417A
	for <public@inbox.dpdk.org>; Thu, 13 Jun 2024 02:56:25 +0200 (CEST)
Received: from mails.dpdk.org (localhost [127.0.0.1])
	by mails.dpdk.org (Postfix) with ESMTP id D5C2D410E7;
	Thu, 13 Jun 2024 02:56:24 +0200 (CEST)
Received: from mail-oo1-f98.google.com (mail-oo1-f98.google.com
 [209.85.161.98]) by mails.dpdk.org (Postfix) with ESMTP id B1A884026B
 for <test-report@dpdk.org>; Thu, 13 Jun 2024 02:35:53 +0200 (CEST)
Received: by mail-oo1-f98.google.com with SMTP id
 006d021491bc7-5b9706c84e5so295527eaf.1
 for <test-report@dpdk.org>; Wed, 12 Jun 2024 17:35:53 -0700 (PDT)
DKIM-Signature: v=1; a=rsa-sha256; c=relaxed/relaxed;
 d=iol.unh.edu; s=unh-iol; t=1718238953; x=1718843753; darn=dpdk.org;
 h=references:in-reply-to:cc:to:from:subject:message-id:date:from:to
 :cc:subject:date:message-id:reply-to;
 bh=PM7AWviqcHa9QzgT9CG+VcAmBpzow6FeH3UYfK0pgNE=;
 b=R4sE/qzei0g5N7H14b/aCn0JlDcc0/hwaJGXLumpnGCNmGD+NDghoMEt53HJPaJGHI
 fBPODQerL6G6BOYbR63znRwyozbOEnirY8g7XmoY5hmk9bA6bRrQ5K0ZoNRLYTphjjbv
 jMlnBH3ITMFEPfHSUvarzRWg3TsB9K/OtMuZk=
X-Google-DKIM-Signature: v=1; a=rsa-sha256; c=relaxed/relaxed;
 d=1e100.net; s=20230601; t=1718238953; x=1718843753;
 h=references:in-reply-to:cc:to:from:subject:message-id:date
 :x-gm-message-state:from:to:cc:subject:date:message-id:reply-to;
 bh=PM7AWviqcHa9QzgT9CG+VcAmBpzow6FeH3UYfK0pgNE=;
 b=cIrrs21pFc+yADk29wODcQNvG29lixNfxgB+ecfp/m7D2WvbLWL7315lv1oQodnkla
 C5V9kujsSoNkKG3byvIIpsy+gcg7E8IwnSlSNWLX1Wq4EbbNOE9N13GeReIsxa46Gm8N
 ouRdgapW5DGoEvNpgcJ8pwZ/NwfBV/kVzrOm+VQlW2TypZHggRtEZaN1YBFgu0N+JZNX
 Io4wBFLDSZnLUYqv/OFCUG9uAzepccDlrGHvG5cis6hOokHP66n4MZdL7ScNzK77aqmY
 Rie0Ld3cNvKK4EtvZTCcurMPePXQiDUNFnIS3XTky8dq1p2tVfG/daztuhTiRgRTG9Rz
 emwA==
X-Gm-Message-State: AOJu0YzoiSSaVh+BagnWE3XzN6UTemVwxGfa99VxJ0d161OyYf0u34en
 moG/FvLetD6wp5jtzz9gvufWsDkiKR1tfaeRPigiJOi8o8ly6HizGjU+MBzxKnsld/YWBPijlZP
 /jiWvvywfqbao3Jjo3rYGQqVFLYlEJwKdvLv7ZVOZ
X-Google-Smtp-Source: AGHT+IHLjUtAJjXcFOEHObi//Bzyvur1PqQ1Ouq9oPc/MBG+n7buPTspckyGbYjIKNMZzBx334FOyPai+Sy7
X-Received: by 2002:a05:6358:6f07:b0:19f:3f0d:e6db with SMTP id
 e5c5f4694b2df-19f69d17637mr445044255d.10.1718238952840; 
 Wed, 12 Jun 2024 17:35:52 -0700 (PDT)
Received: from postal.iol.unh.edu (postal.iol.unh.edu. [132.177.123.84])
 by smtp-relay.gmail.com with ESMTPS id
 41be03b00d2f7-6fee286da58sm5783a12.22.2024.06.12.17.35.52
 (version=TLS1_2 cipher=ECDHE-ECDSA-AES128-GCM-SHA256 bits=128/128);
 Wed, 12 Jun 2024 17:35:52 -0700 (PDT)
X-Relaying-Domain: iol.unh.edu
Date: Wed, 12 Jun 2024 17:35:52 -0700 (PDT)
Message-ID: <666a3ee8.630a0220.599f5.0655SMTPIN_ADDED_MISSING@mx.google.com>
Received: from [172.17.0.2] (unknown [172.18.0.217])
 by postal.iol.unh.edu (Postfix) with ESMTP id 0CD8E605C373;
 Wed, 12 Jun 2024 20:35:52 -0400 (EDT)
Subject: |SUCCESS| pw140914 [PATCH] [v2] net/mana: fix uninitialized scalar v
From: dpdklab@iol.unh.edu
To: Test Report <test-report@dpdk.org>
Cc: dpdk-test-reports@iol.unh.edu
In-Reply-To: <20240610220703.679689-1-mahmoudmatook.mm@gmail.com>
References: <20240610220703.679689-1-mahmoudmatook.mm@gmail.com>
Content-Type: text/plain
X-BeenThere: test-report@dpdk.org
X-Mailman-Version: 2.1.29
Precedence: list
List-Id: automatic DPDK test reports <test-report.dpdk.org>
List-Unsubscribe: <https://mails.dpdk.org/options/test-report>,
 <mailto:test-report-request@dpdk.org?subject=unsubscribe>
List-Archive: <http://mails.dpdk.org/archives/test-report/>
List-Post: <mailto:test-report@dpdk.org>
List-Help: <mailto:test-report-request@dpdk.org?subject=help>
List-Subscribe: <https://mails.dpdk.org/listinfo/test-report>,
 <mailto:test-report-request@dpdk.org?subject=subscribe>
Errors-To: test-report-bounces@dpdk.org

Test-Label: iol-unit-arm64-testing
Test-Status: SUCCESS
http://dpdk.org/patch/140914

_Testing PASS_

Submitter: Mahmoud Maatuq <mahmoudmatook.mm@gmail.com>
Date: Monday, June 10 2024 22:07:02 
DPDK git baseline: Repo:dpdk
  Branch: master
  CommitID:a6bbf008457a455fcf4cf7374c280bba697a353f

140914 --> testing pass

Test environment and result as below:

+-----------------------------+----------------+---------------------------+------------------------------+--------------+
|         Environment         | dpdk_unit_test | cryptodev_sw_zuc_autotest | cryptodev_sw_snow3g_autotest | lpm_autotest |
+=============================+================+===========================+==============================+==============+
| Debian 11 (Buster) (ARM)    | PASS           | SKIPPED                   | SKIPPED                      | SKIPPED      |
+-----------------------------+----------------+---------------------------+------------------------------+--------------+
| Fedora 37 (ARM)             | PASS           | SKIPPED                   | SKIPPED                      | SKIPPED      |
+-----------------------------+----------------+---------------------------+------------------------------+--------------+
| CentOS Stream 9 (ARM)       | PASS           | SKIPPED                   | SKIPPED                      | SKIPPED      |
+-----------------------------+----------------+---------------------------+------------------------------+--------------+
| Debian 12 (arm)             | PASS           | PASS                      | PASS                         | SKIPPED      |
+-----------------------------+----------------+---------------------------+------------------------------+--------------+
| Fedora 38 (ARM)             | PASS           | SKIPPED                   | SKIPPED                      | SKIPPED      |
+-----------------------------+----------------+---------------------------+------------------------------+--------------+
| Fedora 39 (ARM)             | PASS           | SKIPPED                   | SKIPPED                      | SKIPPED      |
+-----------------------------+----------------+---------------------------+------------------------------+--------------+
| Ubuntu 20.04 (ARM)          | PASS           | SKIPPED                   | SKIPPED                      | SKIPPED      |
+-----------------------------+----------------+---------------------------+------------------------------+--------------+
| 32-bit Ubuntu 20.04.4 (ARM) | PASS           | SKIPPED                   | SKIPPED                      | SKIPPED      |
+-----------------------------+----------------+---------------------------+------------------------------+--------------+
| Ubuntu 22.04 (ARM)          | PASS           | SKIPPED                   | SKIPPED                      | SKIPPED      |
+-----------------------------+----------------+---------------------------+------------------------------+--------------+
| Ubuntu 24.04 (ARM)          | PASS           | SKIPPED                   | SKIPPED                      | SKIPPED      |
+-----------------------------+----------------+---------------------------+------------------------------+--------------+
| Fedora 38 (ARM Clang)       | PASS           | SKIPPED                   | SKIPPED                      | SKIPPED      |
+-----------------------------+----------------+---------------------------+------------------------------+--------------+
| Fedora 39 (ARM Clang)       | PASS           | SKIPPED                   | SKIPPED                      | SKIPPED      |
+-----------------------------+----------------+---------------------------+------------------------------+--------------+
| Ubuntu 20.04 ARM SVE        | SKIPPED        | SKIPPED                   | SKIPPED                      | PASS         |
+-----------------------------+----------------+---------------------------+------------------------------+--------------+


Debian 11 (Buster) (ARM)
	Kernel: Container Host Kernel
	Compiler: gcc 10.2.1

Fedora 37 (ARM)
	Kernel: Depends on container host
	Compiler: gcc 12.3.1

CentOS Stream 9 (ARM)
	Kernel: Container Host Kernel
	Compiler: gcc 11.4.1

Debian 12 (arm)
	Kernel: Container Host Kernel
	Compiler: gcc 12.2.0

Fedora 38 (ARM)
	Kernel: Depends on container host
	Compiler: gcc 13.2.1

Fedora 39 (ARM)
	Kernel: Depends on container host
	Compiler: gcc 13.2.1

Ubuntu 20.04 (ARM)
	Kernel: Container Host Kernel
	Compiler: gcc 9.4.0

32-bit Ubuntu 20.04.4 (ARM)
	Kernel: 5.4.0-155-generic aarch64
	Compiler: gcc 9.4

Ubuntu 22.04 (ARM)
	Kernel: Container Host Kernel
	Compiler: gcc 11.4.0

Ubuntu 24.04 (ARM)
	Kernel: 5.4.0-167-generic
	Compiler: gcc 13.2.0

Fedora 38 (ARM Clang)
	Kernel: Depends on container host
	Compiler: clang 16.0.6

Fedora 39 (ARM Clang)
	Kernel: Depends on container host
	Compiler: clang 17.0.6

Ubuntu 20.04 ARM SVE
	Kernel: 5.4.0-167-generic
	Compiler: gcc (Ubuntu 10.5.0-1ubuntu1~20.04) 10.5.0

To view detailed results, visit:
https://lab.dpdk.org/results/dashboard/patchsets/30159/

UNH-IOL DPDK Community Lab

To manage your email subscriptions, visit: 
https://lab.dpdk.org/results/dashboard/preferences/subscriptions/