From mboxrd@z Thu Jan  1 00:00:00 1970
Return-Path: <test-report-bounces@dpdk.org>
Received: from mails.dpdk.org (mails.dpdk.org [217.70.189.124])
	by inbox.dpdk.org (Postfix) with ESMTP id DE6594417A
	for <public@inbox.dpdk.org>; Thu, 13 Jun 2024 02:56:35 +0200 (CEST)
Received: from mails.dpdk.org (localhost [127.0.0.1])
	by mails.dpdk.org (Postfix) with ESMTP id 2086A42EC1;
	Thu, 13 Jun 2024 02:56:29 +0200 (CEST)
Received: from mail-oi1-f228.google.com (mail-oi1-f228.google.com
 [209.85.167.228])
 by mails.dpdk.org (Postfix) with ESMTP id E51634026B
 for <test-report@dpdk.org>; Thu, 13 Jun 2024 02:44:38 +0200 (CEST)
Received: by mail-oi1-f228.google.com with SMTP id
 5614622812f47-3d21b3da741so209498b6e.2
 for <test-report@dpdk.org>; Wed, 12 Jun 2024 17:44:38 -0700 (PDT)
DKIM-Signature: v=1; a=rsa-sha256; c=relaxed/relaxed;
 d=iol.unh.edu; s=unh-iol; t=1718239478; x=1718844278; darn=dpdk.org;
 h=references:in-reply-to:cc:to:from:subject:message-id:date:from:to
 :cc:subject:date:message-id:reply-to;
 bh=ZB7jwxBX7jmPFJ7BnsO14mXzj5sd1fLl1txojVE/Ia4=;
 b=CKB40ldyczJoNl1hMnTwUVYErCBqMY38OZdd2MtqOP9CRNtsUFNr2OktZcy+gdnOaK
 aBVdpn4tfiS7gA9w1tVziPspBfZLFEoiYCFK3C9vJ5Apy/0fmmfXc/lTq1qhFcGSbisy
 6h8U1fxSBlm00kkO9V12BrVbe+duNqu/hX6XA=
X-Google-DKIM-Signature: v=1; a=rsa-sha256; c=relaxed/relaxed;
 d=1e100.net; s=20230601; t=1718239478; x=1718844278;
 h=references:in-reply-to:cc:to:from:subject:message-id:date
 :x-gm-message-state:from:to:cc:subject:date:message-id:reply-to;
 bh=ZB7jwxBX7jmPFJ7BnsO14mXzj5sd1fLl1txojVE/Ia4=;
 b=wpexcXp4Df3Swr7mnnWOfEOBV6gOvwBugMUc88w0TDhi9vin3C6Twp++PR45Ce6RAN
 VITr3raImjEcV3lB7NVBdVtQdPqNm7HkLqBeA5iEdVY8xfhLebUc/Tb/DdN+JgPeM2zQ
 QjH+ZTC5E2fuJbxPNwTyPuJCslFfzqdhJaS0FyAtdWpdhFt0eH8HYae/ULcZGFN/p7aq
 mk2GBDPf/6FOYB6yIUw1u2W9VRrK06vqv0gbLSnj8pc4BxZiKiYGPZARmj64vxcpIeUR
 I3gGRwFBZfOWdIgh6YaN4S4wKxZHs7TDGxHX6bA9DEWnaemtY+u1/TaG7NR/VqfC3N7c
 6RKw==
X-Gm-Message-State: AOJu0Yw0zcdiFEDh1eUgoJjNk4rhNW1GxlhiKAAYgnfUd0yUIJu/FSsc
 VZQp4iZkcpnDlRt/1HHG6kzvDkgKVwIM+wr1qMhzAoCkB0Wj2g4j/2/ofQhFtnBKs0hE6lXl4Vq
 ZOH0SB8yWRQ/LMNLxZrDrE/8fbFoGI597M2l9sLvHThhccXc/+1ZJZtsO
X-Google-Smtp-Source: AGHT+IFQUETEbAAMhDObz+BNnc+FF7PdI0rkHlFWzkl3sXdQ8O4WTGfoygdt/DZQuvU6bYitNUdv8yp+6MFu
X-Received: by 2002:a05:6808:1520:b0:3d2:283c:e51b with SMTP id
 5614622812f47-3d23e0fbf9amr3714592b6e.52.1718239478261; 
 Wed, 12 Jun 2024 17:44:38 -0700 (PDT)
Received: from postal.iol.unh.edu (postal.iol.unh.edu.
 [2606:4100:3880:1234::84]) by smtp-relay.gmail.com with ESMTPS id
 41be03b00d2f7-6feddd92ca9sm6387a12.13.2024.06.12.17.44.38
 (version=TLS1_2 cipher=ECDHE-ECDSA-AES128-GCM-SHA256 bits=128/128);
 Wed, 12 Jun 2024 17:44:38 -0700 (PDT)
X-Relaying-Domain: iol.unh.edu
Date: Wed, 12 Jun 2024 17:44:38 -0700 (PDT)
Message-ID: <666a40f6.630a0220.34441.0730SMTPIN_ADDED_MISSING@mx.google.com>
Received: from [172.17.0.2] (unknown [172.18.0.217])
 by postal.iol.unh.edu (Postfix) with ESMTP id 7E595605C373;
 Wed, 12 Jun 2024 20:44:37 -0400 (EDT)
Subject: |SUCCESS| pw140921-140926 [PATCH] [v15,6/6] test: add unit test for 
From: dpdklab@iol.unh.edu
To: Test Report <test-report@dpdk.org>
Cc: dpdk-test-reports@iol.unh.edu
In-Reply-To: <20240611125947.511243-7-paul.szczepanek@arm.com>
References: <20240611125947.511243-7-paul.szczepanek@arm.com>
Content-Type: text/plain
X-BeenThere: test-report@dpdk.org
X-Mailman-Version: 2.1.29
Precedence: list
List-Id: automatic DPDK test reports <test-report.dpdk.org>
List-Unsubscribe: <https://mails.dpdk.org/options/test-report>,
 <mailto:test-report-request@dpdk.org?subject=unsubscribe>
List-Archive: <http://mails.dpdk.org/archives/test-report/>
List-Post: <mailto:test-report@dpdk.org>
List-Help: <mailto:test-report-request@dpdk.org?subject=help>
List-Subscribe: <https://mails.dpdk.org/listinfo/test-report>,
 <mailto:test-report-request@dpdk.org?subject=subscribe>
Errors-To: test-report-bounces@dpdk.org

Test-Label: iol-unit-amd64-testing
Test-Status: SUCCESS
http://dpdk.org/patch/140926

_Testing PASS_

Submitter: Paul Szczepanek <paul.szczepanek@arm.com>
Date: Tuesday, June 11 2024 12:59:47 
DPDK git baseline: Repo:dpdk
  Branch: master
  CommitID:76cef1af8bdaeaf67a5c4ca5df3f221df994dc46

140921-140926 --> testing pass

Test environment and result as below:

+---------------------+----------------+
|     Environment     | dpdk_unit_test |
+=====================+================+
| Windows Server 2019 | PASS           |
+---------------------+----------------+
| Windows Server 2022 | PASS           |
+---------------------+----------------+
| Debian 12           | PASS           |
+---------------------+----------------+
| CentOS Stream 9     | PASS           |
+---------------------+----------------+
| CentOS Stream 8     | PASS           |
+---------------------+----------------+
| Fedora 37           | PASS           |
+---------------------+----------------+
| Debian Bullseye     | PASS           |
+---------------------+----------------+
| Fedora 38           | PASS           |
+---------------------+----------------+
| Fedora 39           | PASS           |
+---------------------+----------------+
| RHEL8               | PASS           |
+---------------------+----------------+
| Ubuntu 22.04        | PASS           |
+---------------------+----------------+
| openSUSE Leap 15    | PASS           |
+---------------------+----------------+
| Ubuntu 20.04        | PASS           |
+---------------------+----------------+
| Ubuntu 24.04        | PASS           |
+---------------------+----------------+


Windows Server 2019
	Kernel: 10.0.17763
	Compiler: clang 14.0 and gcc 8.1.0 (MinGW)

Windows Server 2022
	Kernel: 10.0.20348.2031
	Compiler: clang 15.0.7, gcc 8.1.0 (MinGW), and MSVC VS 17.9

Debian 12
	Kernel: Container Host Kernel
	Compiler: gcc 12.2.0

CentOS Stream 9
	Kernel: 5.4.0-167-generic
	Compiler: gcc 11.4.1 20230605

CentOS Stream 8
	Kernel: 5.4.0-167-generic
	Compiler: gcc 8.5.0 20210514

Fedora 37
	Kernel: Depends on container host system
	Compiler: gcc 12.3.1

Debian Bullseye
	Kernel: 5.4.0-167-generic
	Compiler: gcc 10.2.1-6

Fedora 38
	Kernel: Depends on container host
	Compiler: clang 16.0.6

Fedora 39
	Kernel: Depends on container host
	Compiler: clang 17.0.6

RHEL8
	Kernel: 5.4.0-167-generic
	Compiler: gcc 8.5.0 20210514 (Red Hat 8.5.0-20)

Ubuntu 22.04
	Kernel: 5.4.0-167-generic
	Compiler: gcc 11.4.0

openSUSE Leap 15
	Kernel: 5.4.0-167-generic
	Compiler: gcc 7.5.0

Ubuntu 20.04
	Kernel: 5.4.0-167-generic
	Compiler: gcc 9.4.0-1ubuntu1~20.04.1

Ubuntu 24.04
	Kernel: 5.4.0-167-generic
	Compiler: gcc 13.2.0

To view detailed results, visit:
https://lab.dpdk.org/results/dashboard/patchsets/30164/

UNH-IOL DPDK Community Lab

To manage your email subscriptions, visit: 
https://lab.dpdk.org/results/dashboard/preferences/subscriptions/