From mboxrd@z Thu Jan  1 00:00:00 1970
Return-Path: <test-report-bounces@dpdk.org>
Received: from mails.dpdk.org (mails.dpdk.org [217.70.189.124])
	by inbox.dpdk.org (Postfix) with ESMTP id 1711D4417A
	for <public@inbox.dpdk.org>; Thu, 13 Jun 2024 03:17:55 +0200 (CEST)
Received: from mails.dpdk.org (localhost [127.0.0.1])
	by mails.dpdk.org (Postfix) with ESMTP id E336142DDE;
	Thu, 13 Jun 2024 03:17:48 +0200 (CEST)
Received: from mail-oi1-f228.google.com (mail-oi1-f228.google.com
 [209.85.167.228])
 by mails.dpdk.org (Postfix) with ESMTP id B5CC04026B
 for <test-report@dpdk.org>; Thu, 13 Jun 2024 03:06:22 +0200 (CEST)
Received: by mail-oi1-f228.google.com with SMTP id
 5614622812f47-3d1b33e9ac6so717274b6e.1
 for <test-report@dpdk.org>; Wed, 12 Jun 2024 18:06:22 -0700 (PDT)
DKIM-Signature: v=1; a=rsa-sha256; c=relaxed/relaxed;
 d=iol.unh.edu; s=unh-iol; t=1718240782; x=1718845582; darn=dpdk.org;
 h=references:in-reply-to:cc:to:from:subject:message-id:date:from:to
 :cc:subject:date:message-id:reply-to;
 bh=kEopbKybc3ocrOa3H9Fcg0CYVIX+h6wyg/hSeFb8oAw=;
 b=W6pcTzDB/6Wa65IrI133DCHKpo7Y6vYcp+QftT7Ws9tJTurDj+N5XwaY5iBKFcWW/D
 tPKLH+93lR/FaPU3bv8dAjq6QX+r+2dHI/IKNpYqkNv72KwKfjZhbBdsKMkRieszjLTP
 8HyRmmc6iBnyFciTP0oQlQ5hKB4Jy8XNzqeYA=
X-Google-DKIM-Signature: v=1; a=rsa-sha256; c=relaxed/relaxed;
 d=1e100.net; s=20230601; t=1718240782; x=1718845582;
 h=references:in-reply-to:cc:to:from:subject:message-id:date
 :x-gm-message-state:from:to:cc:subject:date:message-id:reply-to;
 bh=kEopbKybc3ocrOa3H9Fcg0CYVIX+h6wyg/hSeFb8oAw=;
 b=ikFeFVSglc+WNchhTzdnpwWNYw9+uUOUP2CoDzfMaDEN6PLqz7AhMHjmbnVm3fvxh6
 9dPQasnCsEkR8RohSbo8Wa1d6I2BP6q/Q1UOZUIUulRd0s+e/nPNUHXaIjUo9JrBcps7
 d/Xf6G7AXU+RfM830iK3jkFej8PW5s3uNKSAc4Ao3XOQ00CcNqPApnGuKP5jBfmas+AN
 wzMYWlDaXevmSw/yoI3lrRmplcSIOEzL6xl2vZmUEofyjrBBoidzxjF4NU0EeAOxU6wn
 HHu2Zdpsv9WCbcFJnZq5D8NUtv1FBcDpKVDTZlrs9T9K3L05H2GFpLFlF7vjbH7/y3wS
 nKqQ==
X-Gm-Message-State: AOJu0YxCpKFzWVd/+GF4o/S65+1XB/2tR57yVTOZQ201l1rDFcQA9mEx
 3BzYfqBFiGB3hRh5leqJWbZxISMFSRKpCUeIkPZF675lxY1yj/dm1LFHMdp2w3hf63SPusl4SRu
 7AQnWjzvDYalQfm1HizWWJYJU0VL36d3VhKgxmgzI
X-Google-Smtp-Source: AGHT+IE3Jekp066ZYxmD/OF34sOIpOep5qb+Bgcsjjbm+WNEw+EzecdoEX+ACiIc/bjPzPixQUVLXjs2KDtm
X-Received: by 2002:a05:6808:23cd:b0:3d2:16a:2002 with SMTP id
 5614622812f47-3d244df5522mr676367b6e.2.1718240780647; 
 Wed, 12 Jun 2024 18:06:20 -0700 (PDT)
Received: from postal.iol.unh.edu (postal.iol.unh.edu. [132.177.123.84])
 by smtp-relay.gmail.com with ESMTPS id
 006d021491bc7-5bd5e0780fasm9473eaf.6.2024.06.12.18.06.20
 (version=TLS1_2 cipher=ECDHE-ECDSA-AES128-GCM-SHA256 bits=128/128);
 Wed, 12 Jun 2024 18:06:20 -0700 (PDT)
X-Relaying-Domain: iol.unh.edu
Date: Wed, 12 Jun 2024 18:06:20 -0700 (PDT)
Message-ID: <666a460c.4a0a0220.acee4.0a82SMTPIN_ADDED_MISSING@mx.google.com>
Received: from [172.17.0.2] (unknown [172.18.0.217])
 by postal.iol.unh.edu (Postfix) with ESMTP id 195C0605C373;
 Wed, 12 Jun 2024 21:06:20 -0400 (EDT)
Subject: |SUCCESS| pw140918-140920 [PATCH] [v3,3/3] compress/uadk: support bu
From: dpdklab@iol.unh.edu
To: Test Report <test-report@dpdk.org>
Cc: dpdk-test-reports@iol.unh.edu
In-Reply-To: <20240611070726.468-4-zhangfei.gao@linaro.org>
References: <20240611070726.468-4-zhangfei.gao@linaro.org>
Content-Type: text/plain
X-BeenThere: test-report@dpdk.org
X-Mailman-Version: 2.1.29
Precedence: list
List-Id: automatic DPDK test reports <test-report.dpdk.org>
List-Unsubscribe: <https://mails.dpdk.org/options/test-report>,
 <mailto:test-report-request@dpdk.org?subject=unsubscribe>
List-Archive: <http://mails.dpdk.org/archives/test-report/>
List-Post: <mailto:test-report@dpdk.org>
List-Help: <mailto:test-report-request@dpdk.org?subject=help>
List-Subscribe: <https://mails.dpdk.org/listinfo/test-report>,
 <mailto:test-report-request@dpdk.org?subject=subscribe>
Errors-To: test-report-bounces@dpdk.org

Test-Label: iol-compile-arm64-testing
Test-Status: SUCCESS
http://dpdk.org/patch/140920

_Testing PASS_

Submitter: Zhangfei Gao <zhangfei.gao@linaro.org>
Date: Tuesday, June 11 2024 07:07:26 
DPDK git baseline: Repo:dpdk
  Branch: master
  CommitID:367b8db312517edb9f5340d280e77b1437d84dd3

140918-140920 --> testing pass

Test environment and result as below:

+----------------------------------------+--------------------+
|              Environment               | dpdk_meson_compile |
+========================================+====================+
| Ubuntu 20.04 ARM SVE                   | PASS               |
+----------------------------------------+--------------------+
| Debian 12 with MUSDK                   | PASS               |
+----------------------------------------+--------------------+
| Fedora 38 (ARM)                        | PASS               |
+----------------------------------------+--------------------+
| Fedora 37 (ARM)                        | PASS               |
+----------------------------------------+--------------------+
| Ubuntu 20.04 (ARM)                     | PASS               |
+----------------------------------------+--------------------+
| Ubuntu 22.04 (ARM)                     | PASS               |
+----------------------------------------+--------------------+
| Fedora 39 (ARM)                        | PASS               |
+----------------------------------------+--------------------+
| Ubuntu 24.04 (ARM)                     | PASS               |
+----------------------------------------+--------------------+
| CentOS Stream 9 (ARM)                  | PASS               |
+----------------------------------------+--------------------+
| Debian 11 (Buster) (ARM)               | PASS               |
+----------------------------------------+--------------------+
| Debian 12 (arm)                        | PASS               |
+----------------------------------------+--------------------+
| Ubuntu 20.04 aarch32 GCC Cross Compile | PASS               |
+----------------------------------------+--------------------+
| Ubuntu 20.04 ARM GCC Cross Compile     | PASS               |
+----------------------------------------+--------------------+
| Fedora 38 (ARM Clang)                  | PASS               |
+----------------------------------------+--------------------+
| Ubuntu 20.04 ARM Clang Cross Compile   | PASS               |
+----------------------------------------+--------------------+
| RHEL9 (ARM)                            | PASS               |
+----------------------------------------+--------------------+
| Fedora 39 (ARM Clang)                  | PASS               |
+----------------------------------------+--------------------+


Ubuntu 20.04 ARM SVE
	Kernel: 5.4.0-167-generic
	Compiler: gcc (Ubuntu 10.5.0-1ubuntu1~20.04) 10.5.0

Debian 12 with MUSDK
	Kernel: Container Host Kernel
	Compiler: gcc 12.2.0

Fedora 38 (ARM)
	Kernel: Depends on container host
	Compiler: gcc 13.2.1

Fedora 37 (ARM)
	Kernel: Depends on container host
	Compiler: gcc 12.3.1

Ubuntu 20.04 (ARM)
	Kernel: Container Host Kernel
	Compiler: gcc 9.4.0

Ubuntu 22.04 (ARM)
	Kernel: Container Host Kernel
	Compiler: gcc 11.4.0

Fedora 39 (ARM)
	Kernel: Depends on container host
	Compiler: gcc 13.2.1

Ubuntu 24.04 (ARM)
	Kernel: 5.4.0-167-generic
	Compiler: gcc 13.2.0

CentOS Stream 9 (ARM)
	Kernel: Container Host Kernel
	Compiler: gcc 11.4.1

Debian 11 (Buster) (ARM)
	Kernel: Container Host Kernel
	Compiler: gcc 10.2.1

Debian 12 (arm)
	Kernel: Container Host Kernel
	Compiler: gcc 12.2.0

Ubuntu 20.04 aarch32 GCC Cross Compile
	Kernel: 5.4.0-167-generic
	Compiler: gcc 9.4.0

Ubuntu 20.04 ARM GCC Cross Compile
	Kernel: 5.4.0-167-generic
	Compiler: aarch64-linux-gnu-gcc (Ubuntu 9.4.0-1ubuntu1~20.04.2) 9.4.0

Fedora 38 (ARM Clang)
	Kernel: Depends on container host
	Compiler: clang 16.0.6

Ubuntu 20.04 ARM Clang Cross Compile
	Kernel: 5.4.0-72-generic
	Compiler: clang 10.0.0-4ubuntu1

RHEL9 (ARM)
	Kernel: Depends on container host
	Compiler: gcc 11.4.1

Fedora 39 (ARM Clang)
	Kernel: Depends on container host
	Compiler: clang 17.0.6

To view detailed results, visit:
https://lab.dpdk.org/results/dashboard/patchsets/30163/

UNH-IOL DPDK Community Lab

To manage your email subscriptions, visit: 
https://lab.dpdk.org/results/dashboard/preferences/subscriptions/