From mboxrd@z Thu Jan  1 00:00:00 1970
Return-Path: <test-report-bounces@dpdk.org>
Received: from mails.dpdk.org (mails.dpdk.org [217.70.189.124])
	by inbox.dpdk.org (Postfix) with ESMTP id 1B69C4417A
	for <public@inbox.dpdk.org>; Thu, 13 Jun 2024 03:36:01 +0200 (CEST)
Received: from mails.dpdk.org (localhost [127.0.0.1])
	by mails.dpdk.org (Postfix) with ESMTP id C218B40E64;
	Thu, 13 Jun 2024 03:35:54 +0200 (CEST)
Received: from mail-pl1-f226.google.com (mail-pl1-f226.google.com
 [209.85.214.226])
 by mails.dpdk.org (Postfix) with ESMTP id B27904026B
 for <test-report@dpdk.org>; Thu, 13 Jun 2024 03:21:44 +0200 (CEST)
Received: by mail-pl1-f226.google.com with SMTP id
 d9443c01a7336-1f480624d0fso3981705ad.1
 for <test-report@dpdk.org>; Wed, 12 Jun 2024 18:21:44 -0700 (PDT)
DKIM-Signature: v=1; a=rsa-sha256; c=relaxed/relaxed;
 d=iol.unh.edu; s=unh-iol; t=1718241704; x=1718846504; darn=dpdk.org;
 h=references:in-reply-to:cc:to:from:subject:message-id:date:from:to
 :cc:subject:date:message-id:reply-to;
 bh=1L1v4UP+NRnmJPDPN6ATq9RS+1Jtf2i0EV8ZEE/F6m4=;
 b=hDFp4dxWxmEn4Yy92C03rouboto7mqCZnNUer1+buvCBWXAeKDh1qNFYc5XI5vKbvU
 Jp3AEEbTli8nu+x00e0Lk1SOP9anr3kZreoHBIt66PFIgdmA5jst/0qoPrr4GS9Si3Xy
 XFdPzCGfuvY5vlk+khBl2lB+gN8tjXN3C4Rjw=
X-Google-DKIM-Signature: v=1; a=rsa-sha256; c=relaxed/relaxed;
 d=1e100.net; s=20230601; t=1718241704; x=1718846504;
 h=references:in-reply-to:cc:to:from:subject:message-id:date
 :x-gm-message-state:from:to:cc:subject:date:message-id:reply-to;
 bh=1L1v4UP+NRnmJPDPN6ATq9RS+1Jtf2i0EV8ZEE/F6m4=;
 b=BQQ3oqP6o2ygUGI2P7heuq+DE255E9DkMPt8W8q/TqNoAeuqcWzmMPXYQBDB6/lmY8
 35ATulvMK9f/J1lhxKogdabZKyTVHuRe6Yw2d3rtDv8aZZ3bCCp8D24StwsDdgNtHa85
 G5hJn74HpIotaspfopQd4nuPlS2bYRC/WpOM230soYipFxsAMvkLc52+6X9pxkQl/Pcc
 qSneGDRtOm7rbBjqE9mFMY26aupqk2mwk3iWmPo995j7oQshLoPwBr0deKsqM5RNgtJF
 YISJ5REFNSadWi3zSTFwnkKid2bF2CSxwKqmUF69qVkwiRv7OxN0lnA40Dqc6besQNrL
 iXCA==
X-Gm-Message-State: AOJu0YyYD3dCg8saqG75twXFcOQuEnerqecLj194FNciG6OYadf6OVT8
 onkzn73TL1sezzAyr/X5JQZvgmWLuhysC9HtCmnuAYnQqYdYqpsStBwCRis53LVQNaKeiaLWIG4
 9a3yzy1fBEAKd5xbFmweMU+tXpcdtyffmiqapRo82uVkVHnt4JQQ9f7ef
X-Google-Smtp-Source: AGHT+IG/XvIdnerFSvT6PgrK9MvXxkHQqh4cFisO8AAp2sm36cAAyMNbc9vRdfoMFjhbQmvRoSEz8O4Y7gmx
X-Received: by 2002:a17:902:cf10:b0:1f7:175b:701d with SMTP id
 d9443c01a7336-1f83b51becamr35980775ad.11.1718241703966; 
 Wed, 12 Jun 2024 18:21:43 -0700 (PDT)
Received: from postal.iol.unh.edu (postal.iol.unh.edu.
 [2606:4100:3880:1234::84]) by smtp-relay.gmail.com with ESMTPS id
 d9443c01a7336-1f855e3319dsm43295ad.39.2024.06.12.18.21.43
 (version=TLS1_2 cipher=ECDHE-ECDSA-AES128-GCM-SHA256 bits=128/128);
 Wed, 12 Jun 2024 18:21:43 -0700 (PDT)
X-Relaying-Domain: iol.unh.edu
Date: Wed, 12 Jun 2024 18:21:43 -0700 (PDT)
Message-ID: <666a49a7.170a0220.631b.0577SMTPIN_ADDED_MISSING@mx.google.com>
Received: from [172.17.0.2] (unknown [172.18.0.217])
 by postal.iol.unh.edu (Postfix) with ESMTP id 23230605C373;
 Wed, 12 Jun 2024 21:21:43 -0400 (EDT)
Subject: |SUCCESS| pw140932-140933 [PATCH] [v2,2/2] conf schema
From: dpdklab@iol.unh.edu
To: Test Report <test-report@dpdk.org>
Cc: dpdk-test-reports@iol.unh.edu
In-Reply-To: <20240611161606.23881-5-dmarx@iol.unh.edu>
References: <20240611161606.23881-5-dmarx@iol.unh.edu>
Content-Type: text/plain
X-BeenThere: test-report@dpdk.org
X-Mailman-Version: 2.1.29
Precedence: list
List-Id: automatic DPDK test reports <test-report.dpdk.org>
List-Unsubscribe: <https://mails.dpdk.org/options/test-report>,
 <mailto:test-report-request@dpdk.org?subject=unsubscribe>
List-Archive: <http://mails.dpdk.org/archives/test-report/>
List-Post: <mailto:test-report@dpdk.org>
List-Help: <mailto:test-report-request@dpdk.org?subject=help>
List-Subscribe: <https://mails.dpdk.org/listinfo/test-report>,
 <mailto:test-report-request@dpdk.org?subject=subscribe>
Errors-To: test-report-bounces@dpdk.org

Test-Label: iol-unit-amd64-testing
Test-Status: SUCCESS
http://dpdk.org/patch/140933

_Testing PASS_

Submitter: Dean Marx <dmarx@iol.unh.edu>
Date: Tuesday, June 11 2024 16:15:19 
DPDK git baseline: Repo:dpdk
  Branch: master
  CommitID:85e327081f0649c0965e53f675ac3b55eb8be6db

140932-140933 --> testing pass

Test environment and result as below:

+---------------------+----------------+
|     Environment     | dpdk_unit_test |
+=====================+================+
| Windows Server 2019 | PASS           |
+---------------------+----------------+
| CentOS Stream 8     | PASS           |
+---------------------+----------------+
| Debian 12           | PASS           |
+---------------------+----------------+
| Debian Bullseye     | PASS           |
+---------------------+----------------+
| Fedora 37           | PASS           |
+---------------------+----------------+
| Fedora 38           | PASS           |
+---------------------+----------------+
| RHEL8               | PASS           |
+---------------------+----------------+
| Fedora 39           | PASS           |
+---------------------+----------------+
| Windows Server 2022 | PASS           |
+---------------------+----------------+
| openSUSE Leap 15    | PASS           |
+---------------------+----------------+
| Ubuntu 22.04        | PASS           |
+---------------------+----------------+
| Ubuntu 24.04        | PASS           |
+---------------------+----------------+
| RHEL9               | PASS           |
+---------------------+----------------+
| CentOS Stream 9     | PASS           |
+---------------------+----------------+
| Ubuntu 20.04        | PASS           |
+---------------------+----------------+


Windows Server 2019
	Kernel: 10.0.17763
	Compiler: clang 14.0 and gcc 8.1.0 (MinGW)

CentOS Stream 8
	Kernel: 5.4.0-167-generic
	Compiler: gcc 8.5.0 20210514

Debian 12
	Kernel: Container Host Kernel
	Compiler: gcc 12.2.0

Debian Bullseye
	Kernel: 5.4.0-167-generic
	Compiler: gcc 10.2.1-6

Fedora 37
	Kernel: Depends on container host system
	Compiler: gcc 12.3.1

Fedora 38
	Kernel: Depends on container host
	Compiler: clang 16.0.6

RHEL8
	Kernel: 5.4.0-167-generic
	Compiler: gcc 8.5.0 20210514 (Red Hat 8.5.0-20)

Fedora 39
	Kernel: Depends on container host
	Compiler: clang 17.0.6

Windows Server 2022
	Kernel: 10.0.20348.2031
	Compiler: clang 15.0.7, gcc 8.1.0 (MinGW), and MSVC VS 17.9

openSUSE Leap 15
	Kernel: 5.4.0-167-generic
	Compiler: gcc 7.5.0

Ubuntu 22.04
	Kernel: 5.4.0-167-generic
	Compiler: gcc 11.4.0

Ubuntu 24.04
	Kernel: 5.4.0-167-generic
	Compiler: gcc 13.2.0

RHEL9
	Kernel: Depends on container host
	Compiler: gcc 11.4.1

CentOS Stream 9
	Kernel: 5.4.0-167-generic
	Compiler: gcc 11.4.1 20230605

Ubuntu 20.04
	Kernel: 5.4.0-167-generic
	Compiler: gcc 9.4.0-1ubuntu1~20.04.1

To view detailed results, visit:
https://lab.dpdk.org/results/dashboard/patchsets/30166/

UNH-IOL DPDK Community Lab

To manage your email subscriptions, visit: 
https://lab.dpdk.org/results/dashboard/preferences/subscriptions/