From mboxrd@z Thu Jan  1 00:00:00 1970
Return-Path: <test-report-bounces@dpdk.org>
Received: from mails.dpdk.org (mails.dpdk.org [217.70.189.124])
	by inbox.dpdk.org (Postfix) with ESMTP id F0CE84541A
	for <public@inbox.dpdk.org>; Thu, 13 Jun 2024 06:24:36 +0200 (CEST)
Received: from mails.dpdk.org (localhost [127.0.0.1])
	by mails.dpdk.org (Postfix) with ESMTP id 38FDE40ED1;
	Thu, 13 Jun 2024 06:24:36 +0200 (CEST)
Received: from mail-oo1-f97.google.com (mail-oo1-f97.google.com
 [209.85.161.97]) by mails.dpdk.org (Postfix) with ESMTP id CD6D9402B4
 for <test-report@dpdk.org>; Thu, 13 Jun 2024 05:54:35 +0200 (CEST)
Received: by mail-oo1-f97.google.com with SMTP id
 006d021491bc7-5b2e93fddafso287522eaf.0
 for <test-report@dpdk.org>; Wed, 12 Jun 2024 20:54:35 -0700 (PDT)
DKIM-Signature: v=1; a=rsa-sha256; c=relaxed/relaxed;
 d=iol.unh.edu; s=unh-iol; t=1718250875; x=1718855675; darn=dpdk.org;
 h=references:in-reply-to:cc:to:from:subject:message-id:date:from:to
 :cc:subject:date:message-id:reply-to;
 bh=FiPf+x9qd79XRgp8D/gKxgwB6Q6vsltPzHsz4jbkpjM=;
 b=fz7pQjc9MkFI9d1A4EaS57sWPhbj7tj86Qr3uGwaypVwUSZ6fcIZmVcBAhau59vzrw
 9cskidOzYcicg3Bn4Sl/WJfutLKdzNPtvljLqL5VuN1Cgmum3nEnna+wEqI7JR/p20kZ
 W3z7e28kOH7KmFNIcEUnMpxXS9Kg9pO43lPA4=
X-Google-DKIM-Signature: v=1; a=rsa-sha256; c=relaxed/relaxed;
 d=1e100.net; s=20230601; t=1718250875; x=1718855675;
 h=references:in-reply-to:cc:to:from:subject:message-id:date
 :x-gm-message-state:from:to:cc:subject:date:message-id:reply-to;
 bh=FiPf+x9qd79XRgp8D/gKxgwB6Q6vsltPzHsz4jbkpjM=;
 b=iwech0WFJ1NvyWcpF5FRzMsQOxEioY60ZHRbrUuiFlqsHtKg7PGN4JK5DewMn8BoeB
 joGJpWjkbZ02HuMuR2VATQEBIQ3MPmUwA9GGCZ5/q/uD4Tn8SihxO2joNYmUJOyPhy4I
 GIXy7oooRXnOSbGT3TfpAZIw8o3ddttcCXQAcN6EzzTWDsiRSt2Uj2WkVAmlEqf3DKVy
 klvzSRd0PwAp2DReyGMB+a8phdUKFW38BAJqslSjHy0lC6ve4VdinbV1DlhmaFlRbFPZ
 gs62AKFMnIRf1pK/IOlhW/e6UhJFZBbgNxBqmGllPrkECZZnDsytn34J76DA4hZrDEKq
 rzMw==
X-Gm-Message-State: AOJu0YzJUOSPO/E1A3OPHAouNXdeWMVmyfs5BmyGpJOIgpUEFvKmyt+W
 68SqzxPB6uE0/ch0CpgjWP0+ygf0LteiPcStj9bNzR81KQEO4F6crJHznRPhWuAey5EEZPIb9O7
 eN1eoda0soQ0i0KLIvaRs38dELG683AHHDDMOO3XEQgum5JogvPW7KJaG
X-Google-Smtp-Source: AGHT+IHXvkgviHIbuggU1ZMQZ3k3ck3C0MiERcq5hF5wAKi0cJpH1hh24b51OwO86yccW2p7lk1FsFuEAmP0
X-Received: by 2002:a05:6820:827:b0:5ba:e80f:873e with SMTP id
 006d021491bc7-5bcbd9967b1mr1008394eaf.2.1718250875228; 
 Wed, 12 Jun 2024 20:54:35 -0700 (PDT)
Received: from postal.iol.unh.edu (postal.iol.unh.edu.
 [2606:4100:3880:1234::84]) by smtp-relay.gmail.com with ESMTPS id
 006d021491bc7-5bd628274d7sm18887eaf.22.2024.06.12.20.54.35
 (version=TLS1_2 cipher=ECDHE-ECDSA-AES128-GCM-SHA256 bits=128/128);
 Wed, 12 Jun 2024 20:54:35 -0700 (PDT)
X-Relaying-Domain: iol.unh.edu
Date: Wed, 12 Jun 2024 20:54:35 -0700 (PDT)
Message-ID: <666a6d7b.4a0a0220.26b4c.155dSMTPIN_ADDED_MISSING@mx.google.com>
Received: from [172.17.0.3] (unknown [172.18.0.217])
 by postal.iol.unh.edu (Postfix) with ESMTP id AE21F605C374;
 Wed, 12 Jun 2024 23:54:34 -0400 (EDT)
Subject: |SUCCESS| pw140934-140955 [PATCH] [v3,22/22] doc: updated the docume
From: dpdklab@iol.unh.edu
To: Test Report <test-report@dpdk.org>
Cc: dpdk-test-reports@iol.unh.edu
In-Reply-To: <20240612035257.2245824-23-soumyadeep.hore@intel.com>
References: <20240612035257.2245824-23-soumyadeep.hore@intel.com>
Content-Type: text/plain
X-BeenThere: test-report@dpdk.org
X-Mailman-Version: 2.1.29
Precedence: list
List-Id: automatic DPDK test reports <test-report.dpdk.org>
List-Unsubscribe: <https://mails.dpdk.org/options/test-report>,
 <mailto:test-report-request@dpdk.org?subject=unsubscribe>
List-Archive: <http://mails.dpdk.org/archives/test-report/>
List-Post: <mailto:test-report@dpdk.org>
List-Help: <mailto:test-report-request@dpdk.org?subject=help>
List-Subscribe: <https://mails.dpdk.org/listinfo/test-report>,
 <mailto:test-report-request@dpdk.org?subject=subscribe>
Errors-To: test-report-bounces@dpdk.org

Test-Label: iol-unit-amd64-testing
Test-Status: SUCCESS
http://dpdk.org/patch/140955

_Testing PASS_

Submitter: Soumyadeep Hore <soumyadeep.hore@intel.com>
Date: Wednesday, June 12 2024 03:52:57 
DPDK git baseline: Repo:dpdk
  Branch: master
  CommitID:0d761dfc89b71fa46193a545cce3fbe2613856a6

140934-140955 --> testing pass

Test environment and result as below:

+---------------------+----------------+
|     Environment     | dpdk_unit_test |
+=====================+================+
| Windows Server 2019 | PASS           |
+---------------------+----------------+
| Windows Server 2022 | PASS           |
+---------------------+----------------+
| CentOS Stream 8     | PASS           |
+---------------------+----------------+
| Debian Bullseye     | PASS           |
+---------------------+----------------+
| Fedora 37           | PASS           |
+---------------------+----------------+
| Debian 12           | PASS           |
+---------------------+----------------+
| CentOS Stream 9     | PASS           |
+---------------------+----------------+
| Fedora 39           | PASS           |
+---------------------+----------------+
| Fedora 38           | PASS           |
+---------------------+----------------+
| RHEL8               | PASS           |
+---------------------+----------------+
| openSUSE Leap 15    | PASS           |
+---------------------+----------------+
| Ubuntu 24.04        | PASS           |
+---------------------+----------------+
| Ubuntu 20.04        | PASS           |
+---------------------+----------------+
| Ubuntu 22.04        | PASS           |
+---------------------+----------------+
| RHEL9               | PASS           |
+---------------------+----------------+


Windows Server 2019
	Kernel: 10.0.17763
	Compiler: clang 14.0 and gcc 8.1.0 (MinGW)

Windows Server 2022
	Kernel: 10.0.20348.2031
	Compiler: clang 15.0.7, gcc 8.1.0 (MinGW), and MSVC VS 17.9

CentOS Stream 8
	Kernel: 5.4.0-167-generic
	Compiler: gcc 8.5.0 20210514

Debian Bullseye
	Kernel: 5.4.0-167-generic
	Compiler: gcc 10.2.1-6

Fedora 37
	Kernel: Depends on container host system
	Compiler: gcc 12.3.1

Debian 12
	Kernel: Container Host Kernel
	Compiler: gcc 12.2.0

CentOS Stream 9
	Kernel: 5.4.0-167-generic
	Compiler: gcc 11.4.1 20230605

Fedora 39
	Kernel: Depends on container host
	Compiler: gcc 13.2.1

Fedora 38
	Kernel: Depends on container host
	Compiler: clang 16.0.6

RHEL8
	Kernel: 5.4.0-167-generic
	Compiler: gcc 8.5.0 20210514 (Red Hat 8.5.0-20)

openSUSE Leap 15
	Kernel: 5.4.0-167-generic
	Compiler: gcc 7.5.0

Ubuntu 24.04
	Kernel: 5.4.0-167-generic
	Compiler: gcc 13.2.0

Ubuntu 20.04
	Kernel: 5.4.0-167-generic
	Compiler: gcc 9.4.0-1ubuntu1~20.04.1

Ubuntu 22.04
	Kernel: 5.4.0-167-generic
	Compiler: gcc 11.4.0

RHEL9
	Kernel: Depends on container host
	Compiler: gcc 11.4.1

To view detailed results, visit:
https://lab.dpdk.org/results/dashboard/patchsets/30167/

UNH-IOL DPDK Community Lab

To manage your email subscriptions, visit: 
https://lab.dpdk.org/results/dashboard/preferences/subscriptions/