From mboxrd@z Thu Jan  1 00:00:00 1970
Return-Path: <test-report-bounces@dpdk.org>
Received: from mails.dpdk.org (mails.dpdk.org [217.70.189.124])
	by inbox.dpdk.org (Postfix) with ESMTP id 88ADA4541A
	for <public@inbox.dpdk.org>; Thu, 13 Jun 2024 06:56:53 +0200 (CEST)
Received: from mails.dpdk.org (localhost [127.0.0.1])
	by mails.dpdk.org (Postfix) with ESMTP id 13C8442FE9;
	Thu, 13 Jun 2024 06:56:43 +0200 (CEST)
Received: from mail-pj1-f97.google.com (mail-pj1-f97.google.com
 [209.85.216.97]) by mails.dpdk.org (Postfix) with ESMTP id 1F81D402B4
 for <test-report@dpdk.org>; Thu, 13 Jun 2024 06:28:55 +0200 (CEST)
Received: by mail-pj1-f97.google.com with SMTP id
 98e67ed59e1d1-2c3050f4c50so448267a91.0
 for <test-report@dpdk.org>; Wed, 12 Jun 2024 21:28:55 -0700 (PDT)
DKIM-Signature: v=1; a=rsa-sha256; c=relaxed/relaxed;
 d=iol.unh.edu; s=unh-iol; t=1718252934; x=1718857734; darn=dpdk.org;
 h=references:in-reply-to:cc:to:from:subject:message-id:date:from:to
 :cc:subject:date:message-id:reply-to;
 bh=tZhEIvvt94ef9mg2Qeisljq23vC1joAUZHs4Qt4c+/g=;
 b=MujamBfP/yQBqVFtIwtl1sXtUwHNJKA/GwnbvDwtM1Hj4/PcRU0O3k0XTyA3AiMWLm
 rO2F5F5fAdl0QS7yFXaTgllnUGxx5eBWx/NJwrkaDm5DiWshgg0sOUcPiJRgFMVedzyD
 M4eKemgtN06PaiF2yK1LxuEdbDR0lkXbgx86s=
X-Google-DKIM-Signature: v=1; a=rsa-sha256; c=relaxed/relaxed;
 d=1e100.net; s=20230601; t=1718252934; x=1718857734;
 h=references:in-reply-to:cc:to:from:subject:message-id:date
 :x-gm-message-state:from:to:cc:subject:date:message-id:reply-to;
 bh=tZhEIvvt94ef9mg2Qeisljq23vC1joAUZHs4Qt4c+/g=;
 b=RijiuQZbBQ/MBoeXr2X16dlonw0+We9MH8isf45f4hWhn0Dk6FchciD/VETjuWK4Q8
 Kf3kYFVeaFV7xhXI0/nLrJK3nVlHJ9saDzpADm1SvCfb0FfBV58lBuR8yCWi0AqUpqX9
 LvrgP1p8rMJBIlZfMq8dLGwP1g5CVbFaY9pIy+EyDVLjggTGQYvtbrbf0rDj4FASVygQ
 hMOBD7bH1SJ8Db/Y/Z7kVgk+hhGDvxvUQ+u/xq5pXSoFQSHiuuB2sTnv/4GA+sXHxZou
 tBrnJMO34GNihVP+IyIXlE38mpjEe751aFkTfA7y9vqK4JKCSXQHxR3veObg51mIbPEl
 l9qA==
X-Gm-Message-State: AOJu0YxQYSmg2zXIAafyHUzmOuI17ekKm0xn1nOCr/QEw8gXCPxqNg5g
 7LWQt+1nXzQSfh7OoI9y0ElqTWioZPHhfUSG7mGtvwCzM3ktJJIYz25ez92ylqdAGb30AFxjleF
 KAzYR4Nspfsuy0ULBzqEAd0lGzn5WZVfJanIE6FiW
X-Google-Smtp-Source: AGHT+IF1hulwm2kfoARAt9sb2Nc94gq/7+xcFaJCbm7WJawxZrF+2KqVOm07uk5DILlxHDhuZWKOXfZy9ppl
X-Received: by 2002:a17:90a:2f06:b0:2c2:97c2:1426 with SMTP id
 98e67ed59e1d1-2c4a760893amr3776530a91.10.1718252934317; 
 Wed, 12 Jun 2024 21:28:54 -0700 (PDT)
Received: from postal.iol.unh.edu (postal.iol.unh.edu. [132.177.123.84])
 by smtp-relay.gmail.com with ESMTPS id
 98e67ed59e1d1-2c4c45d6c80sm36918a91.8.2024.06.12.21.28.54
 (version=TLS1_2 cipher=ECDHE-ECDSA-AES128-GCM-SHA256 bits=128/128);
 Wed, 12 Jun 2024 21:28:54 -0700 (PDT)
X-Relaying-Domain: iol.unh.edu
Date: Wed, 12 Jun 2024 21:28:54 -0700 (PDT)
Message-ID: <666a7586.170a0220.88555.2abaSMTPIN_ADDED_MISSING@mx.google.com>
Received: from [172.17.0.2] (unknown [172.18.0.217])
 by postal.iol.unh.edu (Postfix) with ESMTP id 6B04B605C373;
 Thu, 13 Jun 2024 00:28:53 -0400 (EDT)
Subject: |SUCCESS| pw140961-141108 [PATCH] [v2,148/148] net/ice: add new devi
From: dpdklab@iol.unh.edu
To: Test Report <test-report@dpdk.org>
Cc: dpdk-test-reports@iol.unh.edu
In-Reply-To: <48213c31a15cdd7a69d18f849b68fb12275a7b5a.1718204529.git.anatoly.burakov@intel.com>
References: <48213c31a15cdd7a69d18f849b68fb12275a7b5a.1718204529.git.anatoly.burakov@intel.com>
Content-Type: text/plain
X-BeenThere: test-report@dpdk.org
X-Mailman-Version: 2.1.29
Precedence: list
List-Id: automatic DPDK test reports <test-report.dpdk.org>
List-Unsubscribe: <https://mails.dpdk.org/options/test-report>,
 <mailto:test-report-request@dpdk.org?subject=unsubscribe>
List-Archive: <http://mails.dpdk.org/archives/test-report/>
List-Post: <mailto:test-report@dpdk.org>
List-Help: <mailto:test-report-request@dpdk.org?subject=help>
List-Subscribe: <https://mails.dpdk.org/listinfo/test-report>,
 <mailto:test-report-request@dpdk.org?subject=subscribe>
Errors-To: test-report-bounces@dpdk.org

Test-Label: iol-abi-testing
Test-Status: SUCCESS
http://dpdk.org/patch/141108

_Testing PASS_

Submitter: Burakov, Anatoly <anatoly.burakov@intel.com>
Date: Wednesday, June 12 2024 15:02:22 
DPDK git baseline: Repo:dpdk
  Branch: master
  CommitID:b1a6f8deeee2d30b6e25d9a5c8279dfc9401d9aa

140961-141108 --> testing pass

Test environment and result as below:

+------------------+----------+
|   Environment    | abi_test |
+==================+==========+
| Debian 12        | PASS     |
+------------------+----------+
| Debian Bullseye  | PASS     |
+------------------+----------+
| CentOS Stream 9  | PASS     |
+------------------+----------+
| openSUSE Leap 15 | PASS     |
+------------------+----------+
| CentOS Stream 8  | PASS     |
+------------------+----------+
| Fedora 39        | PASS     |
+------------------+----------+
| RHEL8            | PASS     |
+------------------+----------+
| Fedora 37        | PASS     |
+------------------+----------+
| Ubuntu 22.04     | PASS     |
+------------------+----------+
| Fedora 38        | PASS     |
+------------------+----------+
| Ubuntu 24.04     | PASS     |
+------------------+----------+
| RHEL9            | PASS     |
+------------------+----------+


Debian 12
	Kernel: Container Host Kernel
	Compiler: gcc 12.2.0

Debian Bullseye
	Kernel: 5.4.0-167-generic
	Compiler: gcc 10.2.1-6

CentOS Stream 9
	Kernel: 5.4.0-167-generic
	Compiler: gcc 11.4.1 20230605

openSUSE Leap 15
	Kernel: 5.4.0-167-generic
	Compiler: gcc 7.5.0

CentOS Stream 8
	Kernel: 5.4.0-167-generic
	Compiler: gcc 8.5.0 20210514

Fedora 39
	Kernel: Depends on container host
	Compiler: clang 17.0.6

RHEL8
	Kernel: 5.4.0-167-generic
	Compiler: gcc 8.5.0 20210514 (Red Hat 8.5.0-20)

Fedora 37
	Kernel: Depends on container host system
	Compiler: gcc 12.3.1

Ubuntu 22.04
	Kernel: 5.4.0-167-generic
	Compiler: gcc 11.4.0

Fedora 38
	Kernel: Depends on container host
	Compiler: clang 16.0.6

Ubuntu 24.04
	Kernel: 5.4.0-167-generic
	Compiler: gcc 13.2.0

RHEL9
	Kernel: Depends on container host
	Compiler: gcc 11.4.1

To view detailed results, visit:
https://lab.dpdk.org/results/dashboard/patchsets/30173/

UNH-IOL DPDK Community Lab

To manage your email subscriptions, visit: 
https://lab.dpdk.org/results/dashboard/preferences/subscriptions/