From mboxrd@z Thu Jan  1 00:00:00 1970
Return-Path: <test-report-bounces@dpdk.org>
Received: from mails.dpdk.org (mails.dpdk.org [217.70.189.124])
	by inbox.dpdk.org (Postfix) with ESMTP id 870A64541A
	for <public@inbox.dpdk.org>; Thu, 13 Jun 2024 06:56:55 +0200 (CEST)
Received: from mails.dpdk.org (localhost [127.0.0.1])
	by mails.dpdk.org (Postfix) with ESMTP id EA1F243293;
	Thu, 13 Jun 2024 06:56:43 +0200 (CEST)
Received: from mail-pg1-f225.google.com (mail-pg1-f225.google.com
 [209.85.215.225])
 by mails.dpdk.org (Postfix) with ESMTP id 35FBE402B4
 for <test-report@dpdk.org>; Thu, 13 Jun 2024 06:31:26 +0200 (CEST)
Received: by mail-pg1-f225.google.com with SMTP id
 41be03b00d2f7-681953ad4f2so461321a12.2
 for <test-report@dpdk.org>; Wed, 12 Jun 2024 21:31:26 -0700 (PDT)
DKIM-Signature: v=1; a=rsa-sha256; c=relaxed/relaxed;
 d=iol.unh.edu; s=unh-iol; t=1718253085; x=1718857885; darn=dpdk.org;
 h=references:in-reply-to:cc:to:from:subject:message-id:date:from:to
 :cc:subject:date:message-id:reply-to;
 bh=ZRoqDwXIAbdLVhgrbj7IaxqrytfY8tkIp/nkys+fkHs=;
 b=jxQCZuVIJlkNAFApySj/2vJW+5YJKMfz1cfGCj4hj1gVu+GImTlQpZ0wvmViWvUISq
 /+FFuMQcY7q+5Aj5NqlsB17l8BsAj8fGNIVyLUXNAjVjJqI7oJeJhdVu0HXSMU6C4q5J
 payB2FGZ4ZDz6uYs6EPKqJIP9+ENqrqq3oOvs=
X-Google-DKIM-Signature: v=1; a=rsa-sha256; c=relaxed/relaxed;
 d=1e100.net; s=20230601; t=1718253085; x=1718857885;
 h=references:in-reply-to:cc:to:from:subject:message-id:date
 :x-gm-message-state:from:to:cc:subject:date:message-id:reply-to;
 bh=ZRoqDwXIAbdLVhgrbj7IaxqrytfY8tkIp/nkys+fkHs=;
 b=JZbS1H2wcCmndN+Q0w0QDm9A2FST2E0AXNEpYDOxbCfbOF7AY3BZftIvlUIi6jMyzY
 kQ9qYjKIJHk/dKfRGNIZS6wQ78EMh0PZ4v7SIFAw6iEH4k/OhQ7ZFb2A4BVTb4YOTrIo
 Ee1R7eDb7KC1SGslsGHiWd0P7RjgZ8pi85Jgi73CwJ+TUOTDU6TuCk5pYI1WzD3VG1fP
 bevywB94WMdmHmXj1LhJ9GLDw04SyLyJVYIjQa7KC7VBok6+6ZCLeZIJ6ZxtvGCN/6zK
 /UL8lwGh9CfDvVWXxvLBxMMUkMUeyF3Dy0guWFwF33F0TiVy2ckpsWO1QS6ju/zkpVE6
 yxfA==
X-Gm-Message-State: AOJu0YxuaRgil3pwii0If8OLWTZiPctlo7g1xc+kqFiBd4RW8g/Ye/ug
 wBHsu5F247uSc1Kox3PSeLTPLkOvIcq10m2PrS8so2d4y6lSxm4nlh4zzonj4GFkCFaohcn1v2J
 kOuOrGVCfHkTTivd/zzkrafJL5enaDb8gfIu5XD2vz5hJALU0T7BHQ4SK
X-Google-Smtp-Source: AGHT+IHkDUM4u8M2derai4JkPB5qD/vazyGYvBIUpUEs03G+ZvbjaJgTYZweVgA+vX14Xe1sMOxQribVtX1B
X-Received: by 2002:a05:6a20:3948:b0:1b8:32fd:4dd3 with SMTP id
 adf61e73a8af0-1b8a9b6cc67mr4047242637.13.1718253085410; 
 Wed, 12 Jun 2024 21:31:25 -0700 (PDT)
Received: from postal.iol.unh.edu (postal.iol.unh.edu.
 [2606:4100:3880:1234::84]) by smtp-relay.gmail.com with ESMTPS id
 98e67ed59e1d1-2c4c45d7716sm38658a91.5.2024.06.12.21.31.25
 (version=TLS1_2 cipher=ECDHE-ECDSA-AES128-GCM-SHA256 bits=128/128);
 Wed, 12 Jun 2024 21:31:25 -0700 (PDT)
X-Relaying-Domain: iol.unh.edu
Date: Wed, 12 Jun 2024 21:31:25 -0700 (PDT)
Message-ID: <666a761d.170a0220.f7010.33a7SMTPIN_ADDED_MISSING@mx.google.com>
Received: from [172.17.0.3] (unknown [172.18.0.217])
 by postal.iol.unh.edu (Postfix) with ESMTP id 824AB605C373;
 Thu, 13 Jun 2024 00:31:24 -0400 (EDT)
Subject: |SUCCESS| pw140961-141108 [PATCH] [v2,148/148] net/ice: add new devi
From: dpdklab@iol.unh.edu
To: Test Report <test-report@dpdk.org>
Cc: dpdk-test-reports@iol.unh.edu
In-Reply-To: <48213c31a15cdd7a69d18f849b68fb12275a7b5a.1718204529.git.anatoly.burakov@intel.com>
References: <48213c31a15cdd7a69d18f849b68fb12275a7b5a.1718204529.git.anatoly.burakov@intel.com>
Content-Type: text/plain
X-BeenThere: test-report@dpdk.org
X-Mailman-Version: 2.1.29
Precedence: list
List-Id: automatic DPDK test reports <test-report.dpdk.org>
List-Unsubscribe: <https://mails.dpdk.org/options/test-report>,
 <mailto:test-report-request@dpdk.org?subject=unsubscribe>
List-Archive: <http://mails.dpdk.org/archives/test-report/>
List-Post: <mailto:test-report@dpdk.org>
List-Help: <mailto:test-report-request@dpdk.org?subject=help>
List-Subscribe: <https://mails.dpdk.org/listinfo/test-report>,
 <mailto:test-report-request@dpdk.org?subject=subscribe>
Errors-To: test-report-bounces@dpdk.org

Test-Label: iol-unit-amd64-testing
Test-Status: SUCCESS
http://dpdk.org/patch/141108

_Testing PASS_

Submitter: Burakov, Anatoly <anatoly.burakov@intel.com>
Date: Wednesday, June 12 2024 15:02:22 
DPDK git baseline: Repo:dpdk
  Branch: master
  CommitID:b1a6f8deeee2d30b6e25d9a5c8279dfc9401d9aa

140961-141108 --> testing pass

Test environment and result as below:

+---------------------+----------------+
|     Environment     | dpdk_unit_test |
+=====================+================+
| Windows Server 2019 | PASS           |
+---------------------+----------------+
| Windows Server 2022 | PASS           |
+---------------------+----------------+
| CentOS Stream 8     | PASS           |
+---------------------+----------------+
| Debian Bullseye     | PASS           |
+---------------------+----------------+
| Debian 12           | PASS           |
+---------------------+----------------+
| Fedora 37           | PASS           |
+---------------------+----------------+
| Fedora 38           | PASS           |
+---------------------+----------------+
| openSUSE Leap 15    | PASS           |
+---------------------+----------------+
| RHEL8               | PASS           |
+---------------------+----------------+
| Fedora 39           | PASS           |
+---------------------+----------------+
| Ubuntu 22.04        | PASS           |
+---------------------+----------------+
| RHEL9               | PASS           |
+---------------------+----------------+
| Ubuntu 20.04        | PASS           |
+---------------------+----------------+
| Ubuntu 24.04        | PASS           |
+---------------------+----------------+


Windows Server 2019
	Kernel: 10.0.17763
	Compiler: clang 14.0 and gcc 8.1.0 (MinGW)

Windows Server 2022
	Kernel: 10.0.20348.2031
	Compiler: clang 15.0.7, gcc 8.1.0 (MinGW), and MSVC VS 17.9

CentOS Stream 8
	Kernel: 5.4.0-167-generic
	Compiler: gcc 8.5.0 20210514

Debian Bullseye
	Kernel: 5.4.0-167-generic
	Compiler: gcc 10.2.1-6

Debian 12
	Kernel: Container Host Kernel
	Compiler: gcc 12.2.0

Fedora 37
	Kernel: Depends on container host system
	Compiler: gcc 12.3.1

Fedora 38
	Kernel: Depends on container host
	Compiler: gcc 13.2.1

openSUSE Leap 15
	Kernel: 5.4.0-167-generic
	Compiler: gcc 7.5.0

RHEL8
	Kernel: 5.4.0-167-generic
	Compiler: gcc 8.5.0 20210514 (Red Hat 8.5.0-20)

Fedora 39
	Kernel: Depends on container host
	Compiler: clang 17.0.6

Ubuntu 22.04
	Kernel: 5.4.0-167-generic
	Compiler: gcc 11.4.0

RHEL9
	Kernel: Depends on container host
	Compiler: gcc 11.4.1

Ubuntu 20.04
	Kernel: 5.4.0-167-generic
	Compiler: gcc 9.4.0-1ubuntu1~20.04.1

Ubuntu 24.04
	Kernel: 5.4.0-167-generic
	Compiler: gcc 13.2.0

To view detailed results, visit:
https://lab.dpdk.org/results/dashboard/patchsets/30173/

UNH-IOL DPDK Community Lab

To manage your email subscriptions, visit: 
https://lab.dpdk.org/results/dashboard/preferences/subscriptions/