From mboxrd@z Thu Jan  1 00:00:00 1970
Return-Path: <test-report-bounces@dpdk.org>
Received: from mails.dpdk.org (mails.dpdk.org [217.70.189.124])
	by inbox.dpdk.org (Postfix) with ESMTP id 27D5E4541A
	for <public@inbox.dpdk.org>; Thu, 13 Jun 2024 06:56:58 +0200 (CEST)
Received: from mails.dpdk.org (localhost [127.0.0.1])
	by mails.dpdk.org (Postfix) with ESMTP id 1B94743328;
	Thu, 13 Jun 2024 06:56:45 +0200 (CEST)
Received: from mail-qt1-f225.google.com (mail-qt1-f225.google.com
 [209.85.160.225])
 by mails.dpdk.org (Postfix) with ESMTP id E25D0402B4
 for <test-report@dpdk.org>; Thu, 13 Jun 2024 06:33:47 +0200 (CEST)
Received: by mail-qt1-f225.google.com with SMTP id
 d75a77b69052e-44116be80ecso3162571cf.2
 for <test-report@dpdk.org>; Wed, 12 Jun 2024 21:33:47 -0700 (PDT)
DKIM-Signature: v=1; a=rsa-sha256; c=relaxed/relaxed;
 d=iol.unh.edu; s=unh-iol; t=1718253227; x=1718858027; darn=dpdk.org;
 h=references:in-reply-to:cc:to:from:subject:message-id:date:from:to
 :cc:subject:date:message-id:reply-to;
 bh=NTTIsNsawxc+jgyHgscVlfuE30JCDmoddIoVsWFlPr0=;
 b=GXxqdeGNRBYMRI6OVeCvAoqrlUG5aW5roGI9tWMp8IbVFz4yGrIQtF5/NxA1c/2yB8
 GO1GAlrHO4LjRQrI6q22+e0tncIgsVMBpTbNjhfB+LU3LMczp1aaJP+BXImRlwWrtGm/
 7RSY4PNJNSSNpD73l93gEeGIVHUwhQYnWbjvQ=
X-Google-DKIM-Signature: v=1; a=rsa-sha256; c=relaxed/relaxed;
 d=1e100.net; s=20230601; t=1718253227; x=1718858027;
 h=references:in-reply-to:cc:to:from:subject:message-id:date
 :x-gm-message-state:from:to:cc:subject:date:message-id:reply-to;
 bh=NTTIsNsawxc+jgyHgscVlfuE30JCDmoddIoVsWFlPr0=;
 b=oNrp+olnn97ONmURYO+zDmKnirTIKAQgiykrsi0Vpb7peLHyalsHtt8uhMBZohgf0u
 yP0wkmTtdKIx39fMtxplvlTiO1nlDOs8h19o7RZRSZVT97/+r8+DvGWFrBYCfQOTwdqW
 siMTKY0U2OS0erRqfAw1esMakR6rnyz7T2waLwR1NXbEDRBZOPkRDIUib8DBdJQqbbJ6
 hWydMdFb7ylixFoQGJrIiFkmjGmUFLNhrVMwU05GLHtT+uNJXB/c4abHHbm7GkeaT87c
 PtrZB/M6TH2w1c5zCE4/bfUfZdeoyiiKJ0jcoFmTegph2m/yHD/tInkgWy6rplrBwGYp
 YcEA==
X-Gm-Message-State: AOJu0YwKXoPV0JBV+kmkFFbwrwBJINQhusBZvUh/VokE2lCic7XKAkof
 4kOkEUh5TD4fjxF44P/DBBDGQ0Y6iHXu11uSvJ870FIPTuPY/VVQXLXXG+U5TdEX6JtusVhWCl2
 L/x5tQygHzeF+kfG4qbu96rof7tYPg7e5R0zDWrWWiEyUwDppSjoVBdJy
X-Google-Smtp-Source: AGHT+IHg1FejYWjkWcVAQt0U1ew/Ps0miOi4V4nODqKz4Q03fncAZ7HYT0W6DaeBDC20fZIBndtIyN4yNPSV
X-Received: by 2002:ac8:5712:0:b0:440:25d4:804f with SMTP id
 d75a77b69052e-4415abdc83cmr37625021cf.20.1718253227245; 
 Wed, 12 Jun 2024 21:33:47 -0700 (PDT)
Received: from postal.iol.unh.edu (postal.iol.unh.edu.
 [2606:4100:3880:1234::84]) by smtp-relay.gmail.com with ESMTPS id
 d75a77b69052e-441ef3d3a7bsm166131cf.7.2024.06.12.21.33.47
 (version=TLS1_2 cipher=ECDHE-ECDSA-AES128-GCM-SHA256 bits=128/128);
 Wed, 12 Jun 2024 21:33:47 -0700 (PDT)
X-Relaying-Domain: iol.unh.edu
Date: Wed, 12 Jun 2024 21:33:47 -0700 (PDT)
Message-ID: <666a76ab.c80a0220.bcae4.1265SMTPIN_ADDED_MISSING@mx.google.com>
Received: from [172.17.0.2] (unknown [172.18.0.217])
 by postal.iol.unh.edu (Postfix) with ESMTP id EB6EB605C373;
 Thu, 13 Jun 2024 00:33:46 -0400 (EDT)
Subject: |SUCCESS| pw140960 [PATCH] [v2] r8125: add r8125 ethernet poll mode 
From: dpdklab@iol.unh.edu
To: Test Report <test-report@dpdk.org>
Cc: dpdk-test-reports@iol.unh.edu
In-Reply-To: <20240612095145.5760-1-howard_wang@realsil.com.cn>
References: <20240612095145.5760-1-howard_wang@realsil.com.cn>
Content-Type: text/plain
X-BeenThere: test-report@dpdk.org
X-Mailman-Version: 2.1.29
Precedence: list
List-Id: automatic DPDK test reports <test-report.dpdk.org>
List-Unsubscribe: <https://mails.dpdk.org/options/test-report>,
 <mailto:test-report-request@dpdk.org?subject=unsubscribe>
List-Archive: <http://mails.dpdk.org/archives/test-report/>
List-Post: <mailto:test-report@dpdk.org>
List-Help: <mailto:test-report-request@dpdk.org?subject=help>
List-Subscribe: <https://mails.dpdk.org/listinfo/test-report>,
 <mailto:test-report-request@dpdk.org?subject=subscribe>
Errors-To: test-report-bounces@dpdk.org

Test-Label: iol-abi-testing
Test-Status: SUCCESS
http://dpdk.org/patch/140960

_Testing PASS_

Submitter: Howard Wang <howard_wang@realsil.com.cn>
Date: Wednesday, June 12 2024 09:51:45 
DPDK git baseline: Repo:dpdk
  Branch: master
  CommitID:b1a6f8deeee2d30b6e25d9a5c8279dfc9401d9aa

140960 --> testing pass

Test environment and result as below:

+------------------+----------+
|   Environment    | abi_test |
+==================+==========+
| Debian Bullseye  | PASS     |
+------------------+----------+
| Fedora 38        | PASS     |
+------------------+----------+
| CentOS Stream 9  | PASS     |
+------------------+----------+
| Debian 12        | PASS     |
+------------------+----------+
| Fedora 37        | PASS     |
+------------------+----------+
| openSUSE Leap 15 | PASS     |
+------------------+----------+
| CentOS Stream 8  | PASS     |
+------------------+----------+
| Fedora 39        | PASS     |
+------------------+----------+
| RHEL8            | PASS     |
+------------------+----------+
| Ubuntu 24.04     | PASS     |
+------------------+----------+
| Ubuntu 22.04     | PASS     |
+------------------+----------+
| RHEL9            | PASS     |
+------------------+----------+


Debian Bullseye
	Kernel: 5.4.0-167-generic
	Compiler: gcc 10.2.1-6

Fedora 38
	Kernel: Depends on container host
	Compiler: clang 16.0.6

CentOS Stream 9
	Kernel: 5.4.0-167-generic
	Compiler: gcc 11.4.1 20230605

Debian 12
	Kernel: Container Host Kernel
	Compiler: gcc 12.2.0

Fedora 37
	Kernel: Depends on container host system
	Compiler: gcc 12.3.1

openSUSE Leap 15
	Kernel: 5.4.0-167-generic
	Compiler: gcc 7.5.0

CentOS Stream 8
	Kernel: 5.4.0-167-generic
	Compiler: gcc 8.5.0 20210514

Fedora 39
	Kernel: Depends on container host
	Compiler: clang 17.0.6

RHEL8
	Kernel: 5.4.0-167-generic
	Compiler: gcc 8.5.0 20210514 (Red Hat 8.5.0-20)

Ubuntu 24.04
	Kernel: 5.4.0-167-generic
	Compiler: gcc 13.2.0

Ubuntu 22.04
	Kernel: 5.4.0-167-generic
	Compiler: gcc 11.4.0

RHEL9
	Kernel: Depends on container host
	Compiler: gcc 11.4.1

To view detailed results, visit:
https://lab.dpdk.org/results/dashboard/patchsets/30172/

UNH-IOL DPDK Community Lab

To manage your email subscriptions, visit: 
https://lab.dpdk.org/results/dashboard/preferences/subscriptions/